BEGIN:VCALENDAR
VERSION:2.0
PRODID:-//BirdLife Sverige - ECPv6.15.17.1//NONSGML v1.0//EN
CALSCALE:GREGORIAN
METHOD:PUBLISH
X-WR-CALNAME:BirdLife Sverige
X-ORIGINAL-URL:https://birdlife.se
X-WR-CALDESC:Händelser för BirdLife Sverige
REFRESH-INTERVAL;VALUE=DURATION:PT1H
X-Robots-Tag:noindex
X-PUBLISHED-TTL:PT1H
BEGIN:VTIMEZONE
TZID:Europe/Stockholm
BEGIN:DAYLIGHT
TZOFFSETFROM:+0100
TZOFFSETTO:+0200
TZNAME:CEST
DTSTART:20210328T010000
END:DAYLIGHT
BEGIN:STANDARD
TZOFFSETFROM:+0200
TZOFFSETTO:+0100
TZNAME:CET
DTSTART:20211031T010000
END:STANDARD
BEGIN:DAYLIGHT
TZOFFSETFROM:+0100
TZOFFSETTO:+0200
TZNAME:CEST
DTSTART:20220327T010000
END:DAYLIGHT
BEGIN:STANDARD
TZOFFSETFROM:+0200
TZOFFSETTO:+0100
TZNAME:CET
DTSTART:20221030T010000
END:STANDARD
BEGIN:DAYLIGHT
TZOFFSETFROM:+0100
TZOFFSETTO:+0200
TZNAME:CEST
DTSTART:20230326T010000
END:DAYLIGHT
BEGIN:STANDARD
TZOFFSETFROM:+0200
TZOFFSETTO:+0100
TZNAME:CET
DTSTART:20231029T010000
END:STANDARD
END:VTIMEZONE
BEGIN:VEVENT
DTSTART;TZID=Europe/Stockholm:20220205T050000
DTEND;TZID=Europe/Stockholm:20220205T170000
DTSTAMP:20260423T072703
CREATED:20211102T075249Z
LAST-MODIFIED:20211102T075249Z
UID:40184-1644037200-1644080400@birdlife.se
SUMMARY:Artrally - Bohusläns Ornitologiska Förening
DESCRIPTION:Inga förkunskaper behövs. Man kan leta arter för att jämföra med sitt egna lags antal från år till år\, eller tävla mot andra lag. Man ska hitta så många olika arter under en heldag som det går. Vi genomför detta lagvis\, anmäl ert lag som består av 3-5 personer. För att en fågel ska räknas: Vid lag med 3 personer måste 2 se/höra\, lag med 4 personer måste 3 se/höra och lag med 5 personer måste minst 4 se eller höra fågeln för att den ska räknas. \nKl 16:00 är det samling på Rasta i Håby för en gemensam genomgång och där de som vill kan köpa sig lite mat eller fika.Det lag som har flest arter vinner vandringspokalen. \nAnmälan senast 4/2: Jörgen Olsson 070-305 06 95.
URL:https://birdlife.se/evenemang/artrally-bohuslans-ornitologiska-forening-3/
CATEGORIES:Bohuslän,Götaland
END:VEVENT
END:VCALENDAR