BEGIN:VCALENDAR
VERSION:2.0
PRODID:-//BirdLife Sverige - ECPv6.15.17.1//NONSGML v1.0//EN
CALSCALE:GREGORIAN
METHOD:PUBLISH
X-WR-CALNAME:BirdLife Sverige
X-ORIGINAL-URL:https://birdlife.se
X-WR-CALDESC:Händelser för BirdLife Sverige
REFRESH-INTERVAL;VALUE=DURATION:PT1H
X-Robots-Tag:noindex
X-PUBLISHED-TTL:PT1H
BEGIN:VTIMEZONE
TZID:Europe/Stockholm
BEGIN:DAYLIGHT
TZOFFSETFROM:+0100
TZOFFSETTO:+0200
TZNAME:CEST
DTSTART:20230326T010000
END:DAYLIGHT
BEGIN:STANDARD
TZOFFSETFROM:+0200
TZOFFSETTO:+0100
TZNAME:CET
DTSTART:20231029T010000
END:STANDARD
BEGIN:DAYLIGHT
TZOFFSETFROM:+0100
TZOFFSETTO:+0200
TZNAME:CEST
DTSTART:20240331T010000
END:DAYLIGHT
BEGIN:STANDARD
TZOFFSETFROM:+0200
TZOFFSETTO:+0100
TZNAME:CET
DTSTART:20241027T010000
END:STANDARD
BEGIN:DAYLIGHT
TZOFFSETFROM:+0100
TZOFFSETTO:+0200
TZNAME:CEST
DTSTART:20250330T010000
END:DAYLIGHT
BEGIN:STANDARD
TZOFFSETFROM:+0200
TZOFFSETTO:+0100
TZNAME:CET
DTSTART:20251026T010000
END:STANDARD
END:VTIMEZONE
BEGIN:VEVENT
DTSTART;TZID=Europe/Stockholm:20240928T073000
DTEND;TZID=Europe/Stockholm:20240928T150000
DTSTAMP:20260423T002557
CREATED:20240925T113637Z
LAST-MODIFIED:20240925T113637Z
UID:60349-1727508600-1727535600@birdlife.se
SUMMARY:Exkursion och Medlemsmöte på ön Hållö - Bohusläns Ornitologiska Förening
DESCRIPTION:Lördag 28 september\, kl 07:30-ca 15:00\nBeroende på vädret så går vi till vindskyddet och skådar därifrån\, strosar runt bland de få hus och buskar som finns för att hitta rastande flyttfåglar. Glöm inte att ta med bra skor och matsäck. BohOF bjuder på fika på själva mötet och på båtturen tur och retur. Blir det dåligt väder ställer vi in träffen eller så flyttar vi till söndagen.\nSamling: Smögen norra hamnen kl 07:30.\nAnmälan senast 26/9 (begr. antal): Kenneth Johansson 070-231 65 91.
URL:https://birdlife.se/evenemang/exkursion-och-medlemsmote-pa-on-hallo-bohuslans-ornitologiska-forening/
LOCATION:Smögen norra hamnen\, Norra hamnen\, Smögen\, 45650\, Sweden
CATEGORIES:2024,Bohuslän,Götaland
GEO:58.359656;11.231869
X-APPLE-STRUCTURED-LOCATION;VALUE=URI;X-ADDRESS=Smögen norra hamnen Norra hamnen Smögen 45650 Sweden;X-APPLE-RADIUS=500;X-TITLE=Norra hamnen:geo:11.231869,58.359656
END:VEVENT
END:VCALENDAR