BEGIN:VCALENDAR
VERSION:2.0
PRODID:-//BirdLife Sverige - ECPv6.15.17.1//NONSGML v1.0//EN
CALSCALE:GREGORIAN
METHOD:PUBLISH
X-WR-CALNAME:BirdLife Sverige
X-ORIGINAL-URL:https://birdlife.se
X-WR-CALDESC:Händelser för BirdLife Sverige
REFRESH-INTERVAL;VALUE=DURATION:PT1H
X-Robots-Tag:noindex
X-PUBLISHED-TTL:PT1H
BEGIN:VTIMEZONE
TZID:Europe/Stockholm
BEGIN:DAYLIGHT
TZOFFSETFROM:+0100
TZOFFSETTO:+0200
TZNAME:CEST
DTSTART:20230326T010000
END:DAYLIGHT
BEGIN:STANDARD
TZOFFSETFROM:+0200
TZOFFSETTO:+0100
TZNAME:CET
DTSTART:20231029T010000
END:STANDARD
BEGIN:DAYLIGHT
TZOFFSETFROM:+0100
TZOFFSETTO:+0200
TZNAME:CEST
DTSTART:20240331T010000
END:DAYLIGHT
BEGIN:STANDARD
TZOFFSETFROM:+0200
TZOFFSETTO:+0100
TZNAME:CET
DTSTART:20241027T010000
END:STANDARD
BEGIN:DAYLIGHT
TZOFFSETFROM:+0100
TZOFFSETTO:+0200
TZNAME:CEST
DTSTART:20250330T010000
END:DAYLIGHT
BEGIN:STANDARD
TZOFFSETFROM:+0200
TZOFFSETTO:+0100
TZNAME:CET
DTSTART:20251026T010000
END:STANDARD
END:VTIMEZONE
BEGIN:VEVENT
DTSTART;TZID=Europe/Stockholm:20240504T050000
DTEND;TZID=Europe/Stockholm:20240504T130000
DTSTAMP:20260423T002715
CREATED:20240502T085635Z
LAST-MODIFIED:20240502T103211Z
UID:58562-1714798800-1714827600@birdlife.se
SUMMARY:Fågeltornskampen 2024 - Ejgdetjärnet - Bohusläns Ornitologiska Förening
DESCRIPTION:Lördag 4 maj\, kl 05:00-13:00 \nFågeltornskampen är en lättsam och trevlig aktivitet. Man bemannar fågeltorn och tillsammans hjälps man åt att hitta olika fågelarter. Alla fågelintresserade kan delta i evenemanget\, det går bra att vara med hela tiden eller bara en begränsad tid. Ni väljer. I fjol blev det totalt sett 104 olika arter. \nVi står på berget (ni ser oss från parkeringen) och tittar ut över sjön och hoppas på en del vadare samt smådopping\, rörhöna\, brun kärrhök\, fiskgjuse\, rörsångare och sävsparv. Samtidigt lyssnar vi på fågelsången från skogen och hoppas på några förbiflygande fåglar. I fjol blev det 64 arter. \nKontaktperson: Peter Törnqvist 070-749 19 57.
URL:https://birdlife.se/evenemang/fageltornskampen-2024-ejgdetjarnet-bohuslans-ornitologiska-forening/
LOCATION:Ejgdetjärnet\, Kämpersvik\, J7XM+XRV Halsvik
CATEGORIES:2024,Bohuslän,Fågeltornskampen,Götaland
GEO:58.6499875;11.2845469
X-APPLE-STRUCTURED-LOCATION;VALUE=URI;X-ADDRESS=Ejgdetjärnet Kämpersvik J7XM+XRV Halsvik;X-APPLE-RADIUS=500;X-TITLE=J7XM+XRV Halsvik:geo:11.2845469,58.6499875
END:VEVENT
END:VCALENDAR