BEGIN:VCALENDAR
VERSION:2.0
PRODID:-//BirdLife Sverige - ECPv6.15.17.1//NONSGML v1.0//EN
CALSCALE:GREGORIAN
METHOD:PUBLISH
X-WR-CALNAME:BirdLife Sverige
X-ORIGINAL-URL:https://birdlife.se
X-WR-CALDESC:Händelser för BirdLife Sverige
REFRESH-INTERVAL;VALUE=DURATION:PT1H
X-Robots-Tag:noindex
X-PUBLISHED-TTL:PT1H
BEGIN:VTIMEZONE
TZID:Europe/Stockholm
BEGIN:DAYLIGHT
TZOFFSETFROM:+0100
TZOFFSETTO:+0200
TZNAME:CEST
DTSTART:20230326T010000
END:DAYLIGHT
BEGIN:STANDARD
TZOFFSETFROM:+0200
TZOFFSETTO:+0100
TZNAME:CET
DTSTART:20231029T010000
END:STANDARD
BEGIN:DAYLIGHT
TZOFFSETFROM:+0100
TZOFFSETTO:+0200
TZNAME:CEST
DTSTART:20240331T010000
END:DAYLIGHT
BEGIN:STANDARD
TZOFFSETFROM:+0200
TZOFFSETTO:+0100
TZNAME:CET
DTSTART:20241027T010000
END:STANDARD
BEGIN:DAYLIGHT
TZOFFSETFROM:+0100
TZOFFSETTO:+0200
TZNAME:CEST
DTSTART:20250330T010000
END:DAYLIGHT
BEGIN:STANDARD
TZOFFSETFROM:+0200
TZOFFSETTO:+0100
TZNAME:CET
DTSTART:20251026T010000
END:STANDARD
END:VTIMEZONE
BEGIN:VEVENT
DTSTART;TZID=Europe/Stockholm:20240504T050000
DTEND;TZID=Europe/Stockholm:20240504T130000
DTSTAMP:20260423T002714
CREATED:20240502T083359Z
LAST-MODIFIED:20240502T103251Z
UID:58553-1714798800-1714827600@birdlife.se
SUMMARY:Fågeltornskampen 2024 - Ödsmåls kile - Bohusläns Ornitologiska Förening
DESCRIPTION:Lördag 4 maj\, kl 05:00-13:00 \nFågeltornskampen är en lättsam och trevlig aktivitet. Man bemannar fågeltorn och tillsammans hjälps man åt att hitta olika fågelarter. Alla fågelintresserade kan delta i evenemanget\, det går bra att vara med hela tiden eller bara en begränsad tid. Ni väljer. I fjol blev det totalt sett 104 olika arter. \nLaget ”I ödsligaste laget” står i fågeltornet i Ödmåls kile. Vid fullt på parkeringen går det bra att parkera vid Rörtången och promenera därifrån. I fjol blev det 50 arter. \nKontaktperson: Maria Aronsson 070-237 17 57. \nSamarrangemang: Kungälvs Ornitologiska Förening
URL:https://birdlife.se/evenemang/fageltornskampen-2024-odsmals-kile-bohuslans-ornitologiska-forening/
LOCATION:Odsmåls kile\, WQ9J+WC Kungälv C
CATEGORIES:2024,Bohuslän,Fågeltornskampen,Götaland
GEO:57.9198125;11.7810625
X-APPLE-STRUCTURED-LOCATION;VALUE=URI;X-ADDRESS=Odsmåls kile WQ9J+WC Kungälv C;X-APPLE-RADIUS=500;X-TITLE=WQ9J+WC Kungälv C:geo:11.7810625,57.9198125
END:VEVENT
END:VCALENDAR