BEGIN:VCALENDAR
VERSION:2.0
PRODID:-//BirdLife Sverige - ECPv6.15.17.1//NONSGML v1.0//EN
CALSCALE:GREGORIAN
METHOD:PUBLISH
X-WR-CALNAME:BirdLife Sverige
X-ORIGINAL-URL:https://birdlife.se
X-WR-CALDESC:Händelser för BirdLife Sverige
REFRESH-INTERVAL;VALUE=DURATION:PT1H
X-Robots-Tag:noindex
X-PUBLISHED-TTL:PT1H
BEGIN:VTIMEZONE
TZID:Europe/Stockholm
BEGIN:DAYLIGHT
TZOFFSETFROM:+0100
TZOFFSETTO:+0200
TZNAME:CEST
DTSTART:20220327T010000
END:DAYLIGHT
BEGIN:STANDARD
TZOFFSETFROM:+0200
TZOFFSETTO:+0100
TZNAME:CET
DTSTART:20221030T010000
END:STANDARD
BEGIN:DAYLIGHT
TZOFFSETFROM:+0100
TZOFFSETTO:+0200
TZNAME:CEST
DTSTART:20230326T010000
END:DAYLIGHT
BEGIN:STANDARD
TZOFFSETFROM:+0200
TZOFFSETTO:+0100
TZNAME:CET
DTSTART:20231029T010000
END:STANDARD
BEGIN:DAYLIGHT
TZOFFSETFROM:+0100
TZOFFSETTO:+0200
TZNAME:CEST
DTSTART:20240331T010000
END:DAYLIGHT
BEGIN:STANDARD
TZOFFSETFROM:+0200
TZOFFSETTO:+0100
TZNAME:CET
DTSTART:20241027T010000
END:STANDARD
END:VTIMEZONE
BEGIN:VEVENT
DTSTART;TZID=Europe/Stockholm:20230506T050000
DTEND;TZID=Europe/Stockholm:20230506T130000
DTSTAMP:20260423T031557
CREATED:20230125T113516Z
LAST-MODIFIED:20230125T113516Z
UID:47918-1683349200-1683378000@birdlife.se
SUMMARY:Fågeltornskampen - Bohusläns Ornitologiska Förening
DESCRIPTION:Lördag 6 maj\, kl 05:00-13:00 \nFågeltornskampen är en lättsam och trevlig aktivitet. Man bemannar fågeltorn och hjälps åt tillsammans för att hitta olika fågelarter. \nAlla fågelintresserade kan delta i evenemanget\, det går bra att vara med hela tiden eller bara en begränsad tid. Ni väljer. \nI fjol blev det totalt sett 108 olika arter i landskapets medverkande fågeltorn. \nÖDSMÅLS KILE\, KODE\nKl 05:00-13:00\nLaget ”I ödsligaste laget” står i fågeltornet i Ödmåls kile som ifjol fick ihop 78 arter.\nVid fullt på parkeringen går det bra att parkera vid Rörtången\, och promenera därifrån.\nKontaktperson: Maria Aronsson 070-237 17 57.\nSamarrangemang med Kungälvs Ornitologiska Förening
URL:https://birdlife.se/evenemang/fageltornskampen-bohuslans-ornitologiska-forening-2/
LOCATION:Odsmåls kile\, WQ9J+WC Kungälv C
CATEGORIES:Bohuslän,Götaland
GEO:57.9198125;11.7810625
X-APPLE-STRUCTURED-LOCATION;VALUE=URI;X-ADDRESS=Odsmåls kile WQ9J+WC Kungälv C;X-APPLE-RADIUS=500;X-TITLE=WQ9J+WC Kungälv C:geo:11.7810625,57.9198125
END:VEVENT
END:VCALENDAR