BEGIN:VCALENDAR
VERSION:2.0
PRODID:-//BirdLife Sverige - ECPv6.15.17.1//NONSGML v1.0//EN
CALSCALE:GREGORIAN
METHOD:PUBLISH
X-WR-CALNAME:BirdLife Sverige
X-ORIGINAL-URL:https://birdlife.se
X-WR-CALDESC:Händelser för BirdLife Sverige
REFRESH-INTERVAL;VALUE=DURATION:PT1H
X-Robots-Tag:noindex
X-PUBLISHED-TTL:PT1H
BEGIN:VTIMEZONE
TZID:Europe/Stockholm
BEGIN:DAYLIGHT
TZOFFSETFROM:+0100
TZOFFSETTO:+0200
TZNAME:CEST
DTSTART:20230326T010000
END:DAYLIGHT
BEGIN:STANDARD
TZOFFSETFROM:+0200
TZOFFSETTO:+0100
TZNAME:CET
DTSTART:20231029T010000
END:STANDARD
BEGIN:DAYLIGHT
TZOFFSETFROM:+0100
TZOFFSETTO:+0200
TZNAME:CEST
DTSTART:20240331T010000
END:DAYLIGHT
BEGIN:STANDARD
TZOFFSETFROM:+0200
TZOFFSETTO:+0100
TZNAME:CET
DTSTART:20241027T010000
END:STANDARD
BEGIN:DAYLIGHT
TZOFFSETFROM:+0100
TZOFFSETTO:+0200
TZNAME:CEST
DTSTART:20250330T010000
END:DAYLIGHT
BEGIN:STANDARD
TZOFFSETFROM:+0200
TZOFFSETTO:+0100
TZNAME:CET
DTSTART:20251026T010000
END:STANDARD
END:VTIMEZONE
BEGIN:VEVENT
DTSTART;TZID=Europe/Stockholm:20241031T180000
DTEND;TZID=Europe/Stockholm:20241031T200000
DTSTAMP:20260423T002645
CREATED:20240926T070201Z
LAST-MODIFIED:20240926T070201Z
UID:60354-1730397600-1730404800@birdlife.se
SUMMARY:Fåglar på Filipinerna (bildvisning) - Bohusläns Ornitologiska Förening
DESCRIPTION:Torsdag 31 oktober\, kl 18:00-20:00\nThomas Carlsson visar bilder från sin och Åsas resa i Filipinerna 2024.\nThomas är en fågelskådare\, som har sett över 3.000 arter i världen\, som gillar att fotografera och som tar oss med på deras resa på några öar bland färgglada fåglar och några endemiska fågelarter.\nDe visar även bilder på miljön och från under vattenytan.\nVi börjar kl 18:00 i Studiefrämjandets lokaler\, Kungsgatan 37A\, i Uddevalla.\nAnmälan senast 29/10: Sussie Carlström 073-690 41 60.
URL:https://birdlife.se/evenemang/faglar-pa-filipinerna-bildvisning-bohuslans-ornitologiska-forening/
LOCATION:Studiefrämjandet Uddevalla\, 8WXR+MF Uddevalla
CATEGORIES:2024,Bohuslän,Götaland
GEO:58.3491875;11.9411875
X-APPLE-STRUCTURED-LOCATION;VALUE=URI;X-ADDRESS=Studiefrämjandet Uddevalla 8WXR+MF Uddevalla;X-APPLE-RADIUS=500;X-TITLE=8WXR+MF Uddevalla:geo:11.9411875,58.3491875
END:VEVENT
END:VCALENDAR