BEGIN:VCALENDAR
VERSION:2.0
PRODID:-//BirdLife Sverige - ECPv6.15.17.1//NONSGML v1.0//EN
CALSCALE:GREGORIAN
METHOD:PUBLISH
X-WR-CALNAME:BirdLife Sverige
X-ORIGINAL-URL:https://birdlife.se
X-WR-CALDESC:Händelser för BirdLife Sverige
REFRESH-INTERVAL;VALUE=DURATION:PT1H
X-Robots-Tag:noindex
X-PUBLISHED-TTL:PT1H
BEGIN:VTIMEZONE
TZID:Europe/Stockholm
BEGIN:DAYLIGHT
TZOFFSETFROM:+0100
TZOFFSETTO:+0200
TZNAME:CEST
DTSTART:20210328T010000
END:DAYLIGHT
BEGIN:STANDARD
TZOFFSETFROM:+0200
TZOFFSETTO:+0100
TZNAME:CET
DTSTART:20211031T010000
END:STANDARD
BEGIN:DAYLIGHT
TZOFFSETFROM:+0100
TZOFFSETTO:+0200
TZNAME:CEST
DTSTART:20220327T010000
END:DAYLIGHT
BEGIN:STANDARD
TZOFFSETFROM:+0200
TZOFFSETTO:+0100
TZNAME:CET
DTSTART:20221030T010000
END:STANDARD
BEGIN:DAYLIGHT
TZOFFSETFROM:+0100
TZOFFSETTO:+0200
TZNAME:CEST
DTSTART:20230326T010000
END:DAYLIGHT
BEGIN:STANDARD
TZOFFSETFROM:+0200
TZOFFSETTO:+0100
TZNAME:CET
DTSTART:20231029T010000
END:STANDARD
END:VTIMEZONE
BEGIN:VEVENT
DTSTART;TZID=Europe/Stockholm:20220822T060000
DTEND;TZID=Europe/Stockholm:20220828T200000
DTSTAMP:20260423T044908
CREATED:20220608T143959Z
LAST-MODIFIED:20220608T145701Z
UID:44283-1661148000-1661716800@birdlife.se
SUMMARY:HALLANDSKUSTEN - Bohusläns Ornitologiska Förening
DESCRIPTION:Någon dag mellan 22-28 augusti (det beror på vädret)\nEn resa längs Hallandskusten är något som alltid är lika uppskattat bland fågelskådare. Vi börjar i Falkenbergs kommun och drar oss sedan norrut. Norra Lyngen är en av de spännande lokalerna som vi besöker. Där samlas många vadare och där går det att se både havsfåglar\, rovfåglar och tättingar – samtidigt. Som vanligt hoppas vi på en eller annan raritet\, men framför allt är det mängden fågel som imponerar så här års. Vädret får avgöra vilken dag i veckan som passar bäst. Ta med fika för en heldag.\nAvfärd från pendelparkeringen vid Vikingagrillen utanför Kungälv (Eriksdal) preliminärt kl 06:20.\nAnmälan senast 21/8: Torbjörn Arvidsson 070-238 73 04.
URL:https://birdlife.se/evenemang/hallandskusten-bohuslans-ornitologiska-forening/
LOCATION:Vikingagrillen\, Kungälv\, VX5X+8M Gothenburg
CATEGORIES:Bohuslän,Götaland
GEO:57.8583125;11.9991875
X-APPLE-STRUCTURED-LOCATION;VALUE=URI;X-ADDRESS=Vikingagrillen Kungälv VX5X+8M Gothenburg;X-APPLE-RADIUS=500;X-TITLE=VX5X+8M Gothenburg:geo:11.9991875,57.8583125
END:VEVENT
END:VCALENDAR