BEGIN:VCALENDAR
VERSION:2.0
PRODID:-//BirdLife Sverige - ECPv6.15.17.1//NONSGML v1.0//EN
CALSCALE:GREGORIAN
METHOD:PUBLISH
X-WR-CALNAME:BirdLife Sverige
X-ORIGINAL-URL:https://birdlife.se
X-WR-CALDESC:Händelser för BirdLife Sverige
REFRESH-INTERVAL;VALUE=DURATION:PT1H
X-Robots-Tag:noindex
X-PUBLISHED-TTL:PT1H
BEGIN:VTIMEZONE
TZID:Europe/Stockholm
BEGIN:DAYLIGHT
TZOFFSETFROM:+0100
TZOFFSETTO:+0200
TZNAME:CEST
DTSTART:20220327T010000
END:DAYLIGHT
BEGIN:STANDARD
TZOFFSETFROM:+0200
TZOFFSETTO:+0100
TZNAME:CET
DTSTART:20221030T010000
END:STANDARD
BEGIN:DAYLIGHT
TZOFFSETFROM:+0100
TZOFFSETTO:+0200
TZNAME:CEST
DTSTART:20230326T010000
END:DAYLIGHT
BEGIN:STANDARD
TZOFFSETFROM:+0200
TZOFFSETTO:+0100
TZNAME:CET
DTSTART:20231029T010000
END:STANDARD
BEGIN:DAYLIGHT
TZOFFSETFROM:+0100
TZOFFSETTO:+0200
TZNAME:CEST
DTSTART:20240331T010000
END:DAYLIGHT
BEGIN:STANDARD
TZOFFSETFROM:+0200
TZOFFSETTO:+0100
TZNAME:CET
DTSTART:20241027T010000
END:STANDARD
END:VTIMEZONE
BEGIN:VEVENT
DTSTART;TZID=Europe/Stockholm:20230527T070000
DTEND;TZID=Europe/Stockholm:20230527T120000
DTSTAMP:20260423T002557
CREATED:20230323T104428Z
LAST-MODIFIED:20230323T104428Z
UID:50572-1685170800-1685188800@birdlife.se
SUMMARY:Hassafall och Varkullen - Jönköpings Fågelklubb
DESCRIPTION:Vi gör en vandring i kuperad terräng för att lyssna efter vårfåglar. \nTa med fika. Lämplig nybörjaraktivitet. \nSamling: Hovslätts hembygdsgård 7.00\nAnsvarig: Stefan Claesson 072-516 50 56
URL:https://birdlife.se/evenemang/hassafall-och-varkullen-jonkopings-fagelklubb/
LOCATION:Hovslätts hembygdsgård\, Jönköping\, P4M9+48 Jönköping
CATEGORIES:Götaland,Småland
GEO:57.7328125;14.1183125
X-APPLE-STRUCTURED-LOCATION;VALUE=URI;X-ADDRESS=Hovslätts hembygdsgård Jönköping P4M9+48 Jönköping;X-APPLE-RADIUS=500;X-TITLE=P4M9+48 Jönköping:geo:14.1183125,57.7328125
END:VEVENT
END:VCALENDAR