BEGIN:VCALENDAR
VERSION:2.0
PRODID:-//BirdLife Sverige - ECPv6.15.17.1//NONSGML v1.0//EN
CALSCALE:GREGORIAN
METHOD:PUBLISH
X-WR-CALNAME:BirdLife Sverige
X-ORIGINAL-URL:https://birdlife.se
X-WR-CALDESC:Händelser för BirdLife Sverige
REFRESH-INTERVAL;VALUE=DURATION:PT1H
X-Robots-Tag:noindex
X-PUBLISHED-TTL:PT1H
BEGIN:VTIMEZONE
TZID:Europe/Stockholm
BEGIN:DAYLIGHT
TZOFFSETFROM:+0100
TZOFFSETTO:+0200
TZNAME:CEST
DTSTART:20210328T010000
END:DAYLIGHT
BEGIN:STANDARD
TZOFFSETFROM:+0200
TZOFFSETTO:+0100
TZNAME:CET
DTSTART:20211031T010000
END:STANDARD
BEGIN:DAYLIGHT
TZOFFSETFROM:+0100
TZOFFSETTO:+0200
TZNAME:CEST
DTSTART:20220327T010000
END:DAYLIGHT
BEGIN:STANDARD
TZOFFSETFROM:+0200
TZOFFSETTO:+0100
TZNAME:CET
DTSTART:20221030T010000
END:STANDARD
BEGIN:DAYLIGHT
TZOFFSETFROM:+0100
TZOFFSETTO:+0200
TZNAME:CEST
DTSTART:20230326T010000
END:DAYLIGHT
BEGIN:STANDARD
TZOFFSETFROM:+0200
TZOFFSETTO:+0100
TZNAME:CET
DTSTART:20231029T010000
END:STANDARD
END:VTIMEZONE
BEGIN:VEVENT
DTSTART;TZID=Europe/Stockholm:20221106T090000
DTEND;TZID=Europe/Stockholm:20221106T140000
DTSTAMP:20260423T031101
CREATED:20221031T141521Z
LAST-MODIFIED:20221031T141521Z
UID:46085-1667725200-1667743200@birdlife.se
SUMMARY:Havsörnssafari vid Hornborgasjön - Falbygdens Fågelklubb
DESCRIPTION:Vi åker till lämpliga platser runt sjön för att hitta så många havsörnar vi kan.Dessutom hopps vi på en del annat trevligt så här i sena hösten. Kanske en flock snösparvar eller varför inte en kungsörn och fjällvråkarna är på plats. Räkna med att vi är hemma senast 13.00. Extra kläder skadar inte för det kan bli lite kylslaget.  \nÅke leder och Åke nås på tfn 070 660 24 53. Anmälan.
URL:https://birdlife.se/evenemang/havsornssafari-vid-hornborgasjon-falbygdens-fagelklubb-3/
CATEGORIES:Götaland,Västergötland
END:VEVENT
END:VCALENDAR