BEGIN:VCALENDAR
VERSION:2.0
PRODID:-//BirdLife Sverige - ECPv6.15.17.1//NONSGML v1.0//EN
CALSCALE:GREGORIAN
METHOD:PUBLISH
X-WR-CALNAME:BirdLife Sverige
X-ORIGINAL-URL:https://birdlife.se
X-WR-CALDESC:Händelser för BirdLife Sverige
REFRESH-INTERVAL;VALUE=DURATION:PT1H
X-Robots-Tag:noindex
X-PUBLISHED-TTL:PT1H
BEGIN:VTIMEZONE
TZID:Europe/Stockholm
BEGIN:DAYLIGHT
TZOFFSETFROM:+0100
TZOFFSETTO:+0200
TZNAME:CEST
DTSTART:20210328T010000
END:DAYLIGHT
BEGIN:STANDARD
TZOFFSETFROM:+0200
TZOFFSETTO:+0100
TZNAME:CET
DTSTART:20211031T010000
END:STANDARD
BEGIN:DAYLIGHT
TZOFFSETFROM:+0100
TZOFFSETTO:+0200
TZNAME:CEST
DTSTART:20220327T010000
END:DAYLIGHT
BEGIN:STANDARD
TZOFFSETFROM:+0200
TZOFFSETTO:+0100
TZNAME:CET
DTSTART:20221030T010000
END:STANDARD
BEGIN:DAYLIGHT
TZOFFSETFROM:+0100
TZOFFSETTO:+0200
TZNAME:CEST
DTSTART:20230326T010000
END:DAYLIGHT
BEGIN:STANDARD
TZOFFSETFROM:+0200
TZOFFSETTO:+0100
TZNAME:CET
DTSTART:20231029T010000
END:STANDARD
END:VTIMEZONE
BEGIN:VEVENT
DTSTART;TZID=Europe/Stockholm:20220615T173000
DTEND;TZID=Europe/Stockholm:20220615T193000
DTSTAMP:20260423T044345
CREATED:20220608T144119Z
LAST-MODIFIED:20220608T144119Z
UID:44277-1655314200-1655321400@birdlife.se
SUMMARY:HULLSJÖN – För kvinnor - Bohusläns Ornitologiska Förening
DESCRIPTION:Onsdag 15  juni\, kl 17:30-19:30\nVi börjar vid Kårebro och kollar på fälten och gömslet och vi kommer att se buskskvätta\, gulärla\, havsörn\, fiskgjuse och brun kärrhök. Sedan åker vi till Sydkullen och där kommer vi att få se några vadare som födosöker samt höra någon sångare från vassen om vi har lust att gå till fågeltornet. Ta med fika.\nSamling vid Mulltorpsskolan kl 17:30.\nAnmälan senast 13/6: Sussie Carlström 073-690 41 60.
URL:https://birdlife.se/evenemang/hullsjon-for-kvinnor-bohuslans-ornitologiska-forening-2/
LOCATION:Mulltorpsskolan\, Trollhättan\, 79QV+X4 Trollhättan
CATEGORIES:Bohuslän,Götaland
GEO:58.2899375;12.3928125
X-APPLE-STRUCTURED-LOCATION;VALUE=URI;X-ADDRESS=Mulltorpsskolan Trollhättan 79QV+X4 Trollhättan;X-APPLE-RADIUS=500;X-TITLE=79QV+X4 Trollhättan:geo:12.3928125,58.2899375
END:VEVENT
END:VCALENDAR