BEGIN:VCALENDAR
VERSION:2.0
PRODID:-//BirdLife Sverige - ECPv6.15.17.1//NONSGML v1.0//EN
CALSCALE:GREGORIAN
METHOD:PUBLISH
X-WR-CALNAME:BirdLife Sverige
X-ORIGINAL-URL:https://birdlife.se
X-WR-CALDESC:Händelser för BirdLife Sverige
REFRESH-INTERVAL;VALUE=DURATION:PT1H
X-Robots-Tag:noindex
X-PUBLISHED-TTL:PT1H
BEGIN:VTIMEZONE
TZID:Europe/Stockholm
BEGIN:DAYLIGHT
TZOFFSETFROM:+0100
TZOFFSETTO:+0200
TZNAME:CEST
DTSTART:20230326T010000
END:DAYLIGHT
BEGIN:STANDARD
TZOFFSETFROM:+0200
TZOFFSETTO:+0100
TZNAME:CET
DTSTART:20231029T010000
END:STANDARD
BEGIN:DAYLIGHT
TZOFFSETFROM:+0100
TZOFFSETTO:+0200
TZNAME:CEST
DTSTART:20240331T010000
END:DAYLIGHT
BEGIN:STANDARD
TZOFFSETFROM:+0200
TZOFFSETTO:+0100
TZNAME:CET
DTSTART:20241027T010000
END:STANDARD
BEGIN:DAYLIGHT
TZOFFSETFROM:+0100
TZOFFSETTO:+0200
TZNAME:CEST
DTSTART:20250330T010000
END:DAYLIGHT
BEGIN:STANDARD
TZOFFSETFROM:+0200
TZOFFSETTO:+0100
TZNAME:CET
DTSTART:20251026T010000
END:STANDARD
END:VTIMEZONE
BEGIN:VEVENT
DTSTART;TZID=Europe/Stockholm:20241124T090000
DTEND;TZID=Europe/Stockholm:20241124T110000
DTSTAMP:20260423T002452
CREATED:20240926T071121Z
LAST-MODIFIED:20240926T071121Z
UID:60359-1732438800-1732446000@birdlife.se
SUMMARY:Ljungskileviken - Bohusläns Ornitologiska Förening
DESCRIPTION:Söndag 24 november\, kl 09:00-11:00\nEn underskattad fågellokal som vintertid ofta kan bjuda på några fina arter såsom salskrake\, bergand\, vattenrall och kungsfiskare. Vi går runt och visar några olika obsplatser för att kunna se lokalen från olika vinklar.\nSamlingsplats fås vid anmälan.\nAnm. senast 23/11: Anders Balksten 072-200 36 08 & Per Wohlin 070-731 20 21.
URL:https://birdlife.se/evenemang/ljungskileviken-bohuslans-ornitologiska-forening-2/
CATEGORIES:2024,Bohuslän,Götaland
END:VEVENT
END:VCALENDAR