BEGIN:VCALENDAR
VERSION:2.0
PRODID:-//BirdLife Sverige - ECPv6.15.17.1//NONSGML v1.0//EN
CALSCALE:GREGORIAN
METHOD:PUBLISH
X-WR-CALNAME:BirdLife Sverige
X-ORIGINAL-URL:https://birdlife.se
X-WR-CALDESC:Händelser för BirdLife Sverige
REFRESH-INTERVAL;VALUE=DURATION:PT1H
X-Robots-Tag:noindex
X-PUBLISHED-TTL:PT1H
BEGIN:VTIMEZONE
TZID:Europe/Stockholm
BEGIN:DAYLIGHT
TZOFFSETFROM:+0100
TZOFFSETTO:+0200
TZNAME:CEST
DTSTART:20230326T010000
END:DAYLIGHT
BEGIN:STANDARD
TZOFFSETFROM:+0200
TZOFFSETTO:+0100
TZNAME:CET
DTSTART:20231029T010000
END:STANDARD
BEGIN:DAYLIGHT
TZOFFSETFROM:+0100
TZOFFSETTO:+0200
TZNAME:CEST
DTSTART:20240331T010000
END:DAYLIGHT
BEGIN:STANDARD
TZOFFSETFROM:+0200
TZOFFSETTO:+0100
TZNAME:CET
DTSTART:20241027T010000
END:STANDARD
BEGIN:DAYLIGHT
TZOFFSETFROM:+0100
TZOFFSETTO:+0200
TZNAME:CEST
DTSTART:20250330T010000
END:DAYLIGHT
BEGIN:STANDARD
TZOFFSETFROM:+0200
TZOFFSETTO:+0100
TZNAME:CET
DTSTART:20251026T010000
END:STANDARD
END:VTIMEZONE
BEGIN:VEVENT
DTSTART;TZID=Europe/Stockholm:20241015T190000
DTEND;TZID=Europe/Stockholm:20241015T210000
DTSTAMP:20260423T014616
CREATED:20240926T095503Z
LAST-MODIFIED:20240926T095503Z
UID:60418-1729018800-1729026000@birdlife.se
SUMMARY:Månadsmöte - Falbygdens Fågelklubb
DESCRIPTION:Olle Andersson från Floby är en av våra duktiga fotografer och han har valt att kalla\nsitt bildföredrag Bilder från Onsdagsgruppen och lite annat. Missa inte detta.
URL:https://birdlife.se/evenemang/manadsmote-falbygdens-fagelklubb-2/
LOCATION:Wetterlinsgatan 23A Falköping\, Wetterlinsgatan 23A\, Falköping
CATEGORIES:2024,Götaland,Västergötland
ATTACH;FMTTYPE=image/jpeg:https://cdn.birdlife.se/wp-content/uploads/2024/09/ffk-953Dxr.tmp_.jpg
GEO:58.172094;13.5677478
X-APPLE-STRUCTURED-LOCATION;VALUE=URI;X-ADDRESS=Wetterlinsgatan 23A Falköping Wetterlinsgatan 23A Falköping;X-APPLE-RADIUS=500;X-TITLE=Wetterlinsgatan 23A:geo:13.5677478,58.172094
END:VEVENT
END:VCALENDAR