BEGIN:VCALENDAR
VERSION:2.0
PRODID:-//BirdLife Sverige - ECPv6.15.17.1//NONSGML v1.0//EN
CALSCALE:GREGORIAN
METHOD:PUBLISH
X-WR-CALNAME:BirdLife Sverige
X-ORIGINAL-URL:https://birdlife.se
X-WR-CALDESC:Händelser för BirdLife Sverige
REFRESH-INTERVAL;VALUE=DURATION:PT1H
X-Robots-Tag:noindex
X-PUBLISHED-TTL:PT1H
BEGIN:VTIMEZONE
TZID:Europe/Stockholm
BEGIN:DAYLIGHT
TZOFFSETFROM:+0100
TZOFFSETTO:+0200
TZNAME:CEST
DTSTART:20210328T010000
END:DAYLIGHT
BEGIN:STANDARD
TZOFFSETFROM:+0200
TZOFFSETTO:+0100
TZNAME:CET
DTSTART:20211031T010000
END:STANDARD
BEGIN:DAYLIGHT
TZOFFSETFROM:+0100
TZOFFSETTO:+0200
TZNAME:CEST
DTSTART:20220327T010000
END:DAYLIGHT
BEGIN:STANDARD
TZOFFSETFROM:+0200
TZOFFSETTO:+0100
TZNAME:CET
DTSTART:20221030T010000
END:STANDARD
BEGIN:DAYLIGHT
TZOFFSETFROM:+0100
TZOFFSETTO:+0200
TZNAME:CEST
DTSTART:20230326T010000
END:DAYLIGHT
BEGIN:STANDARD
TZOFFSETFROM:+0200
TZOFFSETTO:+0100
TZNAME:CET
DTSTART:20231029T010000
END:STANDARD
END:VTIMEZONE
BEGIN:VEVENT
DTSTART;TZID=Europe/Stockholm:20220609T073000
DTEND;TZID=Europe/Stockholm:20220609T120000
DTSTAMP:20260423T044400
CREATED:20220430T152131Z
LAST-MODIFIED:20220608T142510Z
UID:43657-1654759800-1654776000@birdlife.se
SUMMARY:NATURMORGON FÖR DAGLEDIGA - Bohuslans Ornitologiska Förening
DESCRIPTION:Torsdag 9 juni\, kl 07:30-12:00\nÄlje-Porsens Naturreservat\, passa på och ta chansen att följa vårfåglarnas ankomst vid en stadsnära och lättillgänglig fågellokal\, som bjuder på dom vanliga arterna\, men ibland också någon överraskande ”raritet”. Allt eftersom våren framskrider kommer vi att få bekanta oss med nyanlända och passerande fåglar på flytt. Glöm inte att ta med fika! Regnskydd för eventuella regnskurar fås under tak i fågeltornet.\nSamling vid parkeringen kl 07:30 och vi rör oss sen i området mellan Älje-torpet och fågeltornet\, så kommer du senare är det säkert inga problem att hitta oss.\nKontaktperson: Kenneth Johansson 070-231 65 91.
URL:https://birdlife.se/evenemang/naturmorgon-for-daglediga-bohuslans-ornitologiska-forening-4/
LOCATION:Älje Porsen\, Bohuslän\, 924H+WH Uddevalla N
CATEGORIES:Bohuslän,Götaland
GEO:58.3573125;12.0289375
X-APPLE-STRUCTURED-LOCATION;VALUE=URI;X-ADDRESS=Älje Porsen Bohuslän 924H+WH Uddevalla N;X-APPLE-RADIUS=500;X-TITLE=924H+WH Uddevalla N:geo:12.0289375,58.3573125
END:VEVENT
END:VCALENDAR