BEGIN:VCALENDAR
VERSION:2.0
PRODID:-//BirdLife Sverige - ECPv6.15.17.1//NONSGML v1.0//EN
CALSCALE:GREGORIAN
METHOD:PUBLISH
X-WR-CALNAME:BirdLife Sverige
X-ORIGINAL-URL:https://birdlife.se
X-WR-CALDESC:Händelser för BirdLife Sverige
REFRESH-INTERVAL;VALUE=DURATION:PT1H
X-Robots-Tag:noindex
X-PUBLISHED-TTL:PT1H
BEGIN:VTIMEZONE
TZID:Europe/Stockholm
BEGIN:DAYLIGHT
TZOFFSETFROM:+0100
TZOFFSETTO:+0200
TZNAME:CEST
DTSTART:20220327T010000
END:DAYLIGHT
BEGIN:STANDARD
TZOFFSETFROM:+0200
TZOFFSETTO:+0100
TZNAME:CET
DTSTART:20221030T010000
END:STANDARD
BEGIN:DAYLIGHT
TZOFFSETFROM:+0100
TZOFFSETTO:+0200
TZNAME:CEST
DTSTART:20230326T010000
END:DAYLIGHT
BEGIN:STANDARD
TZOFFSETFROM:+0200
TZOFFSETTO:+0100
TZNAME:CET
DTSTART:20231029T010000
END:STANDARD
BEGIN:DAYLIGHT
TZOFFSETFROM:+0100
TZOFFSETTO:+0200
TZNAME:CEST
DTSTART:20240331T010000
END:DAYLIGHT
BEGIN:STANDARD
TZOFFSETFROM:+0200
TZOFFSETTO:+0100
TZNAME:CET
DTSTART:20241027T010000
END:STANDARD
END:VTIMEZONE
BEGIN:VEVENT
DTSTART;TZID=Europe/Stockholm:20230226T080000
DTEND;TZID=Europe/Stockholm:20230226T170000
DTSTAMP:20260423T002424
CREATED:20221017T113327Z
LAST-MODIFIED:20221017T113327Z
UID:45558-1677398400-1677430800@birdlife.se
SUMMARY:Örarevet - Kalmars Ornitologiska Förening
DESCRIPTION:Vi hoppas att väder och vind står på vår sida i brytningstiden mellan vinter och vår och att sånglärka och tofsvipa förgyller vandringen tur och retur ut mot Örarevets udde. \nNi som bor söder om Kalmar kan ju möta upp vid Fulvik 08:30. \nAnmälan senast 24 februari till Jan Ottosson 070 247 95 11 eller till Tore Hagberg 070 882 05 28 för att få information om något är oklart\, om exkursionen blir inställd eller andra problem uppstår.
URL:https://birdlife.se/evenemang/orarevet-kalmars-ornitologiska-forening/
LOCATION:Parkering vid Lars Kaggs skolan Kalmar\, Lorensbergsgatan 56\, Kalmar\, 39234
CATEGORIES:Götaland,Småland
GEO:56.6693736;16.3437223
X-APPLE-STRUCTURED-LOCATION;VALUE=URI;X-ADDRESS=Parkering vid Lars Kaggs skolan Kalmar Lorensbergsgatan 56 Kalmar 39234;X-APPLE-RADIUS=500;X-TITLE=Lorensbergsgatan 56:geo:16.3437223,56.6693736
END:VEVENT
END:VCALENDAR