BEGIN:VCALENDAR
VERSION:2.0
PRODID:-//BirdLife Sverige - ECPv6.15.17.1//NONSGML v1.0//EN
CALSCALE:GREGORIAN
METHOD:PUBLISH
X-WR-CALNAME:BirdLife Sverige
X-ORIGINAL-URL:https://birdlife.se
X-WR-CALDESC:Händelser för BirdLife Sverige
REFRESH-INTERVAL;VALUE=DURATION:PT1H
X-Robots-Tag:noindex
X-PUBLISHED-TTL:PT1H
BEGIN:VTIMEZONE
TZID:Europe/Stockholm
BEGIN:DAYLIGHT
TZOFFSETFROM:+0100
TZOFFSETTO:+0200
TZNAME:CEST
DTSTART:20220327T010000
END:DAYLIGHT
BEGIN:STANDARD
TZOFFSETFROM:+0200
TZOFFSETTO:+0100
TZNAME:CET
DTSTART:20221030T010000
END:STANDARD
BEGIN:DAYLIGHT
TZOFFSETFROM:+0100
TZOFFSETTO:+0200
TZNAME:CEST
DTSTART:20230326T010000
END:DAYLIGHT
BEGIN:STANDARD
TZOFFSETFROM:+0200
TZOFFSETTO:+0100
TZNAME:CET
DTSTART:20231029T010000
END:STANDARD
BEGIN:DAYLIGHT
TZOFFSETFROM:+0100
TZOFFSETTO:+0200
TZNAME:CEST
DTSTART:20240331T010000
END:DAYLIGHT
BEGIN:STANDARD
TZOFFSETFROM:+0200
TZOFFSETTO:+0100
TZNAME:CET
DTSTART:20241027T010000
END:STANDARD
END:VTIMEZONE
BEGIN:VEVENT
DTSTART;TZID=Europe/Stockholm:20230516T180000
DTEND;TZID=Europe/Stockholm:20230516T220000
DTSTAMP:20260423T002745
CREATED:20230307T092801Z
LAST-MODIFIED:20230307T092801Z
UID:50169-1684260000-1684274400@birdlife.se
SUMMARY:Östra delen av Kvismaren med Åslaholmen och Källviken - Närkes Ornitologiska Förening
DESCRIPTION:Samling vid Lövholmen kl. 18:00\, och var beredd på att det kan bli lite sent. \nLars Johansson 070-558 99 06 vet mer. \nDubbelkolla samlingsplatsen med ansvarig (BirdLife SE kommentar).
URL:https://birdlife.se/evenemang/ostra-delen-av-kvismaren-med-aslaholmen-och-kallviken-narkes-ornitologiska-forening/
LOCATION:Öby kulle\, Kvismaren\, Örebro\, Sweden
CATEGORIES:Närke,Svealand
GEO:59.1770625;15.3750781
END:VEVENT
END:VCALENDAR