BEGIN:VCALENDAR
VERSION:2.0
PRODID:-//BirdLife Sverige - ECPv6.15.17.1//NONSGML v1.0//EN
CALSCALE:GREGORIAN
METHOD:PUBLISH
X-WR-CALNAME:BirdLife Sverige
X-ORIGINAL-URL:https://birdlife.se
X-WR-CALDESC:Händelser för BirdLife Sverige
REFRESH-INTERVAL;VALUE=DURATION:PT1H
X-Robots-Tag:noindex
X-PUBLISHED-TTL:PT1H
BEGIN:VTIMEZONE
TZID:Europe/Stockholm
BEGIN:DAYLIGHT
TZOFFSETFROM:+0100
TZOFFSETTO:+0200
TZNAME:CEST
DTSTART:20210328T010000
END:DAYLIGHT
BEGIN:STANDARD
TZOFFSETFROM:+0200
TZOFFSETTO:+0100
TZNAME:CET
DTSTART:20211031T010000
END:STANDARD
BEGIN:DAYLIGHT
TZOFFSETFROM:+0100
TZOFFSETTO:+0200
TZNAME:CEST
DTSTART:20220327T010000
END:DAYLIGHT
BEGIN:STANDARD
TZOFFSETFROM:+0200
TZOFFSETTO:+0100
TZNAME:CET
DTSTART:20221030T010000
END:STANDARD
BEGIN:DAYLIGHT
TZOFFSETFROM:+0100
TZOFFSETTO:+0200
TZNAME:CEST
DTSTART:20230326T010000
END:DAYLIGHT
BEGIN:STANDARD
TZOFFSETFROM:+0200
TZOFFSETTO:+0100
TZNAME:CET
DTSTART:20231029T010000
END:STANDARD
END:VTIMEZONE
BEGIN:VEVENT
DTSTART;TZID=Europe/Stockholm:20220814T073000
DTEND;TZID=Europe/Stockholm:20220814T120000
DTSTAMP:20260423T044346
CREATED:20220608T143959Z
LAST-MODIFIED:20221019T061701Z
UID:44280-1660462200-1660478400@birdlife.se
SUMMARY:RAMSVIKSLANDET - Bohusläns Ornitologiska Förening
DESCRIPTION:Söndag 14 augusti\, ca kl 07:30-ca 12:00\nVi besöker flera lokaler på Ramsvikslandet. Beroende på väder och vind besöker vi Nötö\, Haby\, Grosshamn och Tångevik. Vi bör kunna se bl a tobisgrissla\, toppskarv\, smålom\, havssula\, skärpiplärka\, större strandpipare och skärsnäppa. Kanske kan det även bli svarthakad buskskvätta\, storlom\, tordmule\, sillgrissla och pilgrimsfalk. Tänk på varma kläder och ha med fika.\nSamlingsplats och exakt tid ges vid anmälan.\nAnmälan senast 13/8: Per Wohlin och Peter Nilsson 070-423 92 97.
URL:https://birdlife.se/evenemang/ramsvikslandet-bohuslans-ornitologiska-forening-4/
CATEGORIES:Bohuslän,Götaland
END:VEVENT
END:VCALENDAR