BEGIN:VCALENDAR
VERSION:2.0
PRODID:-//BirdLife Sverige - ECPv6.15.17.1//NONSGML v1.0//EN
CALSCALE:GREGORIAN
METHOD:PUBLISH
X-WR-CALNAME:BirdLife Sverige
X-ORIGINAL-URL:https://birdlife.se
X-WR-CALDESC:Händelser för BirdLife Sverige
REFRESH-INTERVAL;VALUE=DURATION:PT1H
X-Robots-Tag:noindex
X-PUBLISHED-TTL:PT1H
BEGIN:VTIMEZONE
TZID:Europe/Stockholm
BEGIN:DAYLIGHT
TZOFFSETFROM:+0100
TZOFFSETTO:+0200
TZNAME:CEST
DTSTART:20220327T010000
END:DAYLIGHT
BEGIN:STANDARD
TZOFFSETFROM:+0200
TZOFFSETTO:+0100
TZNAME:CET
DTSTART:20221030T010000
END:STANDARD
BEGIN:DAYLIGHT
TZOFFSETFROM:+0100
TZOFFSETTO:+0200
TZNAME:CEST
DTSTART:20230326T010000
END:DAYLIGHT
BEGIN:STANDARD
TZOFFSETFROM:+0200
TZOFFSETTO:+0100
TZNAME:CET
DTSTART:20231029T010000
END:STANDARD
BEGIN:DAYLIGHT
TZOFFSETFROM:+0100
TZOFFSETTO:+0200
TZNAME:CEST
DTSTART:20240331T010000
END:DAYLIGHT
BEGIN:STANDARD
TZOFFSETFROM:+0200
TZOFFSETTO:+0100
TZNAME:CET
DTSTART:20241027T010000
END:STANDARD
END:VTIMEZONE
BEGIN:VEVENT
DTSTART;TZID=Europe/Stockholm:20230806T073000
DTEND;TZID=Europe/Stockholm:20230806T120000
DTSTAMP:20260423T014432
CREATED:20230125T142510Z
LAST-MODIFIED:20230215T064936Z
UID:48059-1691307000-1691323200@birdlife.se
SUMMARY:Ramsvikslandet - Bohusläns Ornitologiska Förening
DESCRIPTION:Söndag 6 augusti\, ca kl 07:30-ca 12:00\nVi besöker flera lokaler på Ramsvikslandet\, troligen Nötö\, Haby\, Grosshamn och Tångevik. Vi bör kunna se tobisgrissla\, toppskarv\, smålom\, havssula\, skärpiplärka och skärsnäppa. Ta med fika.\nSamlingsplats och exakt tid ges vid anmälan.\nAnmälan senast 5/8: Per Wohlin och Peter Nilsson 070-423 92 97.
URL:https://birdlife.se/evenemang/ramsvikslandet-bohuslans-ornitologiska-forening-6/
CATEGORIES:Bohuslän,Götaland
END:VEVENT
END:VCALENDAR