BEGIN:VCALENDAR
VERSION:2.0
PRODID:-//BirdLife Sverige - ECPv6.15.17.1//NONSGML v1.0//EN
CALSCALE:GREGORIAN
METHOD:PUBLISH
X-WR-CALNAME:BirdLife Sverige
X-ORIGINAL-URL:https://birdlife.se
X-WR-CALDESC:Händelser för BirdLife Sverige
REFRESH-INTERVAL;VALUE=DURATION:PT1H
X-Robots-Tag:noindex
X-PUBLISHED-TTL:PT1H
BEGIN:VTIMEZONE
TZID:Europe/Stockholm
BEGIN:DAYLIGHT
TZOFFSETFROM:+0100
TZOFFSETTO:+0200
TZNAME:CEST
DTSTART:20230326T010000
END:DAYLIGHT
BEGIN:STANDARD
TZOFFSETFROM:+0200
TZOFFSETTO:+0100
TZNAME:CET
DTSTART:20231029T010000
END:STANDARD
BEGIN:DAYLIGHT
TZOFFSETFROM:+0100
TZOFFSETTO:+0200
TZNAME:CEST
DTSTART:20240331T010000
END:DAYLIGHT
BEGIN:STANDARD
TZOFFSETFROM:+0200
TZOFFSETTO:+0100
TZNAME:CET
DTSTART:20241027T010000
END:STANDARD
BEGIN:DAYLIGHT
TZOFFSETFROM:+0100
TZOFFSETTO:+0200
TZNAME:CEST
DTSTART:20250330T010000
END:DAYLIGHT
BEGIN:STANDARD
TZOFFSETFROM:+0200
TZOFFSETTO:+0100
TZNAME:CET
DTSTART:20251026T010000
END:STANDARD
END:VTIMEZONE
BEGIN:VEVENT
DTSTART;TZID=Europe/Stockholm:20241207T090000
DTEND;TZID=Europe/Stockholm:20241207T120000
DTSTAMP:20260423T002644
CREATED:20240926T081747Z
LAST-MODIFIED:20240926T081747Z
UID:60360-1733562000-1733572800@birdlife.se
SUMMARY:Ramsvikslandet (för Skådarhjälpen)- Bohusläns Ornitologiska Förening
DESCRIPTION:Lördag 7 december\, kl 09:00-12:00\nSkådarhjälpen pågår mellan 7/12 och 15/12 och är ett sätt för att få skådare att ge bidrag till musikhjälpen. Du som skådar i Bohuslän kan delta själv. Besök www.skadarhjalpen.se\, gå in på menyn rapportera och välj fliken Bohuslän och lägg in dina arter\, oavsett hur många arter du har. När dessa nio dagar är över klickar du på menyn så här betalar du för att betala en peng för de arter du sett och bidra till att göra världen lite bättre!\nMer info på www.skadarhjalpen.se eller kontakta Sussie Carlström 073-690 41 60.\nPå Ramsvikslandet tittar vi på några kustarter såsom t ex sjöorre\, toppskarv\, skärpiplärka\, tobisgrissla\, havsörn\, svärta och skärsnäppa. Och vi har chans på havssula\, tretåig mås och någon lom\, men allt beroende på vädret. Arterna kommer att rapporteras till Skådarhjälpen. Samlingsplats fås vid anmälan.\nAnmälan senast 5/12 till Per Wohlin och Sussie Carlström 073-690 41 60.
URL:https://birdlife.se/evenemang/ramsvikslandet-for-skadarhjalpen-bohuslans-ornitologiska-forening/
CATEGORIES:2024,Bohuslän,Götaland
END:VEVENT
END:VCALENDAR