BEGIN:VCALENDAR
VERSION:2.0
PRODID:-//BirdLife Sverige - ECPv6.15.17.1//NONSGML v1.0//EN
CALSCALE:GREGORIAN
METHOD:PUBLISH
X-WR-CALNAME:BirdLife Sverige
X-ORIGINAL-URL:https://birdlife.se
X-WR-CALDESC:Händelser för BirdLife Sverige
REFRESH-INTERVAL;VALUE=DURATION:PT1H
X-Robots-Tag:noindex
X-PUBLISHED-TTL:PT1H
BEGIN:VTIMEZONE
TZID:Europe/Stockholm
BEGIN:DAYLIGHT
TZOFFSETFROM:+0100
TZOFFSETTO:+0200
TZNAME:CEST
DTSTART:20230326T010000
END:DAYLIGHT
BEGIN:STANDARD
TZOFFSETFROM:+0200
TZOFFSETTO:+0100
TZNAME:CET
DTSTART:20231029T010000
END:STANDARD
BEGIN:DAYLIGHT
TZOFFSETFROM:+0100
TZOFFSETTO:+0200
TZNAME:CEST
DTSTART:20240331T010000
END:DAYLIGHT
BEGIN:STANDARD
TZOFFSETFROM:+0200
TZOFFSETTO:+0100
TZNAME:CET
DTSTART:20241027T010000
END:STANDARD
BEGIN:DAYLIGHT
TZOFFSETFROM:+0100
TZOFFSETTO:+0200
TZNAME:CEST
DTSTART:20250330T010000
END:DAYLIGHT
BEGIN:STANDARD
TZOFFSETFROM:+0200
TZOFFSETTO:+0100
TZNAME:CET
DTSTART:20251026T010000
END:STANDARD
END:VTIMEZONE
BEGIN:VEVENT
DTSTART;TZID=Europe/Stockholm:20241121T180000
DTEND;TZID=Europe/Stockholm:20241121T200000
DTSTAMP:20260423T002546
CREATED:20240926T070856Z
LAST-MODIFIED:20240926T070915Z
UID:60358-1732212000-1732219200@birdlife.se
SUMMARY:Rapportera i fält - Bohusläns Ornitologiska Förening
DESCRIPTION:Torsdag 21 november\, kl 18:00-20:00\nHur kan man rapportera till Artportalen direkt på plats ute i fält? Vi går igenom hur du rapporterar i Seglaren och Check list. Hur lägger du till medobservatörer\, hittar rätt lokal och ändrar i en rapport som redan är skickad? Vi hjälper dig att ladda ner rätt appar och ger tips på olika bandgrupper som du kan vara intresserade av.\nVi börjar kl 18:00 i Uddevalla. Lokal fås vid anmälan.\nAnmälan senast 19/11: Per Wohlin & Sussie Carlström 073-690 41 60.
URL:https://birdlife.se/evenemang/rapportera-i-falt-bohuslans-ornitologiska-forening/
CATEGORIES:2024,Bohuslän,Götaland
END:VEVENT
END:VCALENDAR