BEGIN:VCALENDAR
VERSION:2.0
PRODID:-//BirdLife Sverige - ECPv6.15.17.1//NONSGML v1.0//EN
CALSCALE:GREGORIAN
METHOD:PUBLISH
X-WR-CALNAME:BirdLife Sverige
X-ORIGINAL-URL:https://birdlife.se
X-WR-CALDESC:Händelser för BirdLife Sverige
REFRESH-INTERVAL;VALUE=DURATION:PT1H
X-Robots-Tag:noindex
X-PUBLISHED-TTL:PT1H
BEGIN:VTIMEZONE
TZID:Europe/Stockholm
BEGIN:DAYLIGHT
TZOFFSETFROM:+0100
TZOFFSETTO:+0200
TZNAME:CEST
DTSTART:20220327T010000
END:DAYLIGHT
BEGIN:STANDARD
TZOFFSETFROM:+0200
TZOFFSETTO:+0100
TZNAME:CET
DTSTART:20221030T010000
END:STANDARD
BEGIN:DAYLIGHT
TZOFFSETFROM:+0100
TZOFFSETTO:+0200
TZNAME:CEST
DTSTART:20230326T010000
END:DAYLIGHT
BEGIN:STANDARD
TZOFFSETFROM:+0200
TZOFFSETTO:+0100
TZNAME:CET
DTSTART:20231029T010000
END:STANDARD
BEGIN:DAYLIGHT
TZOFFSETFROM:+0100
TZOFFSETTO:+0200
TZNAME:CEST
DTSTART:20240331T010000
END:DAYLIGHT
BEGIN:STANDARD
TZOFFSETFROM:+0200
TZOFFSETTO:+0100
TZNAME:CET
DTSTART:20241027T010000
END:STANDARD
END:VTIMEZONE
BEGIN:VEVENT
DTSTART;TZID=Europe/Stockholm:20230620T173000
DTEND;TZID=Europe/Stockholm:20230620T203000
DTSTAMP:20260423T014520
CREATED:20230125T130438Z
LAST-MODIFIED:20230125T154740Z
UID:10000462-1687282200-1687293000@birdlife.se
SUMMARY:Tisdagsskådning - Bohusläns Ornitologiska Förening
DESCRIPTION:Vi åker från Volvo Brandt på Fröland\, i Uddevalla\, kl 17:30 för att åka vidare till en fågellokal som bestäms samma dag pga väder\, vind och utbud på fågel. Under våren åker vi längre bort om vädret tillåter. Ta med fika.\nKontaktperson: Sussie Carlström 073-690 41 60.
URL:https://birdlife.se/evenemang/tisdagsskadning-bohuslans-ornitologiska-forening-2/2023-06-20/
LOCATION:Volvo Brandt\, Kärranäsvägen 2\, Uddevalla\, 45176
CATEGORIES:Bohuslän,Götaland
GEO:58.3497317;11.8706163
X-APPLE-STRUCTURED-LOCATION;VALUE=URI;X-ADDRESS=Volvo Brandt Kärranäsvägen 2 Uddevalla 45176;X-APPLE-RADIUS=500;X-TITLE=Kärranäsvägen 2:geo:11.8706163,58.3497317
END:VEVENT
END:VCALENDAR