BEGIN:VCALENDAR
VERSION:2.0
PRODID:-//BirdLife Sverige - ECPv6.15.17.1//NONSGML v1.0//EN
CALSCALE:GREGORIAN
METHOD:PUBLISH
X-WR-CALNAME:BirdLife Sverige
X-ORIGINAL-URL:https://birdlife.se
X-WR-CALDESC:Händelser för BirdLife Sverige
REFRESH-INTERVAL;VALUE=DURATION:PT1H
X-Robots-Tag:noindex
X-PUBLISHED-TTL:PT1H
BEGIN:VTIMEZONE
TZID:Europe/Stockholm
BEGIN:DAYLIGHT
TZOFFSETFROM:+0100
TZOFFSETTO:+0200
TZNAME:CEST
DTSTART:20230326T010000
END:DAYLIGHT
BEGIN:STANDARD
TZOFFSETFROM:+0200
TZOFFSETTO:+0100
TZNAME:CET
DTSTART:20231029T010000
END:STANDARD
BEGIN:DAYLIGHT
TZOFFSETFROM:+0100
TZOFFSETTO:+0200
TZNAME:CEST
DTSTART:20240331T010000
END:DAYLIGHT
BEGIN:STANDARD
TZOFFSETFROM:+0200
TZOFFSETTO:+0100
TZNAME:CET
DTSTART:20241027T010000
END:STANDARD
BEGIN:DAYLIGHT
TZOFFSETFROM:+0100
TZOFFSETTO:+0200
TZNAME:CEST
DTSTART:20250330T010000
END:DAYLIGHT
BEGIN:STANDARD
TZOFFSETFROM:+0200
TZOFFSETTO:+0100
TZNAME:CET
DTSTART:20251026T010000
END:STANDARD
END:VTIMEZONE
BEGIN:VEVENT
DTSTART;TZID=Europe/Stockholm:20240128T083000
DTEND;TZID=Europe/Stockholm:20240128T130000
DTSTAMP:20260423T002546
CREATED:20231101T095401Z
LAST-MODIFIED:20240415T132123Z
UID:52700-1706430600-1706446800@birdlife.se
SUMMARY:Torslandaviken  - Bohusläns Ornitologiska Förening
DESCRIPTION:Vi besöker olika lokaler runt Torslandaviken och kan få se brunand\, sothöna\, snatterand\, salskrake\, berglärka och vinterhämpling. Även vattenrall\, smådopping\, kungsfiskare och rördrom har vi chans på. Kan det även finnas en svarthakad buskskvätta i området? Ta med fika.\nSamlingsplats fås vid anmälan och samåkning kan ske från Uddevalla.\nAnmälan senast 26/1: Per Wohlin och Sussie Carlström 073-690 41 60.
URL:https://birdlife.se/evenemang/torslandaviken-bohuslans-ornitologiska-forening/
CATEGORIES:2024,Bohuslän,Götaland
END:VEVENT
END:VCALENDAR