BEGIN:VCALENDAR
VERSION:2.0
PRODID:-//BirdLife Sverige - ECPv6.15.17.1//NONSGML v1.0//EN
CALSCALE:GREGORIAN
METHOD:PUBLISH
X-WR-CALNAME:BirdLife Sverige
X-ORIGINAL-URL:https://birdlife.se
X-WR-CALDESC:Händelser för BirdLife Sverige
REFRESH-INTERVAL;VALUE=DURATION:PT1H
X-Robots-Tag:noindex
X-PUBLISHED-TTL:PT1H
BEGIN:VTIMEZONE
TZID:Europe/Stockholm
BEGIN:DAYLIGHT
TZOFFSETFROM:+0100
TZOFFSETTO:+0200
TZNAME:CEST
DTSTART:20210328T010000
END:DAYLIGHT
BEGIN:STANDARD
TZOFFSETFROM:+0200
TZOFFSETTO:+0100
TZNAME:CET
DTSTART:20211031T010000
END:STANDARD
BEGIN:DAYLIGHT
TZOFFSETFROM:+0100
TZOFFSETTO:+0200
TZNAME:CEST
DTSTART:20220327T010000
END:DAYLIGHT
BEGIN:STANDARD
TZOFFSETFROM:+0200
TZOFFSETTO:+0100
TZNAME:CET
DTSTART:20221030T010000
END:STANDARD
BEGIN:DAYLIGHT
TZOFFSETFROM:+0100
TZOFFSETTO:+0200
TZNAME:CEST
DTSTART:20230326T010000
END:DAYLIGHT
BEGIN:STANDARD
TZOFFSETFROM:+0200
TZOFFSETTO:+0100
TZNAME:CET
DTSTART:20231029T010000
END:STANDARD
END:VTIMEZONE
BEGIN:VEVENT
DTSTART;TZID=Europe/Stockholm:20221203T093000
DTEND;TZID=Europe/Stockholm:20221203T120000
DTSTAMP:20260423T044403
CREATED:20221018T135948Z
LAST-MODIFIED:20221018T135948Z
UID:45715-1670059800-1670068800@birdlife.se
SUMMARY:VINTERFÅGLAR I STENUNGSUND - Bohusläns Ornitologiska Förening
DESCRIPTION:Lördag 3 december\, kl 09:30-11:30\nFölj med till Stenungsund med omnejd under vintertid. Vi kan få se bland annat smådopping\, svärta\, sjöorre\, salskrake\, bergand\, alkor och kanske får vi se ”kungen” kungsfiskaren samt någon dvärgmås eller något annat kul. Ta med fika.\nAnmälan senast 2/12: Per Wohlin eller Sussie Carlström 073-690 41 60.
URL:https://birdlife.se/evenemang/vinterfaglar-i-stenungsund-bohuslans-ornitologiska-forening/
CATEGORIES:Bohuslän,Götaland
END:VEVENT
END:VCALENDAR