BEGIN:VCALENDAR
VERSION:2.0
PRODID:-//BirdLife Sverige - ECPv6.15.17.1//NONSGML v1.0//EN
CALSCALE:GREGORIAN
METHOD:PUBLISH
X-WR-CALNAME:BirdLife Sverige
X-ORIGINAL-URL:https://birdlife.se
X-WR-CALDESC:Händelser för BirdLife Sverige
REFRESH-INTERVAL;VALUE=DURATION:PT1H
X-Robots-Tag:noindex
X-PUBLISHED-TTL:PT1H
BEGIN:VTIMEZONE
TZID:Europe/Stockholm
BEGIN:DAYLIGHT
TZOFFSETFROM:+0100
TZOFFSETTO:+0200
TZNAME:CEST
DTSTART:20220327T010000
END:DAYLIGHT
BEGIN:STANDARD
TZOFFSETFROM:+0200
TZOFFSETTO:+0100
TZNAME:CET
DTSTART:20221030T010000
END:STANDARD
BEGIN:DAYLIGHT
TZOFFSETFROM:+0100
TZOFFSETTO:+0200
TZNAME:CEST
DTSTART:20230326T010000
END:DAYLIGHT
BEGIN:STANDARD
TZOFFSETFROM:+0200
TZOFFSETTO:+0100
TZNAME:CET
DTSTART:20231029T010000
END:STANDARD
BEGIN:DAYLIGHT
TZOFFSETFROM:+0100
TZOFFSETTO:+0200
TZNAME:CEST
DTSTART:20240331T010000
END:DAYLIGHT
BEGIN:STANDARD
TZOFFSETFROM:+0200
TZOFFSETTO:+0100
TZNAME:CET
DTSTART:20241027T010000
END:STANDARD
END:VTIMEZONE
BEGIN:VEVENT
DTSTART;TZID=Europe/Stockholm:20230122T090000
DTEND;TZID=Europe/Stockholm:20230122T110000
DTSTAMP:20260423T044948
CREATED:20221019T060913Z
LAST-MODIFIED:20230131T085422Z
UID:45739-1674378000-1674385200@birdlife.se
SUMMARY:Vinterfåglar vid broarna i Norra Bohuslän - Bohusläns Ornitologiska Förening
DESCRIPTION:Söndag 22 januari\, kl 09:00-ca 11:00 \nDenna januarisöndag besöker vi broarna i norra Bohuslän så som Måkesund\, Resöbron och Älgölera samt andra lokaler på Resö och Rossö. Beroende på istäcket kan vi så här års hitta arter som sjöorre\, svärta och kanske någon salskrake eller alfågel och ev drar någon havsörn förbi. Vi räknar med att vara ute ett par timmar beroende på väder\, så ta med fika. \nSamlingsplats fås vid anmälan. \nAnmälan senast 3/2: Sara Elg 073-716 56 15.
URL:https://birdlife.se/evenemang/vinterfaglar-vid-broarna-i-norra-bohuslan-bohuslans-ornitologiska-forening-3/
CATEGORIES:Bohuslän,Götaland
END:VEVENT
END:VCALENDAR