BEGIN:VCALENDAR
VERSION:2.0
PRODID:-//BirdLife Sverige - ECPv6.15.17.1//NONSGML v1.0//EN
CALSCALE:GREGORIAN
METHOD:PUBLISH
X-WR-CALNAME:BirdLife Sverige
X-ORIGINAL-URL:https://birdlife.se
X-WR-CALDESC:Händelser för BirdLife Sverige
REFRESH-INTERVAL;VALUE=DURATION:PT1H
X-Robots-Tag:noindex
X-PUBLISHED-TTL:PT1H
BEGIN:VTIMEZONE
TZID:Europe/Stockholm
BEGIN:DAYLIGHT
TZOFFSETFROM:+0100
TZOFFSETTO:+0200
TZNAME:CEST
DTSTART:20220327T010000
END:DAYLIGHT
BEGIN:STANDARD
TZOFFSETFROM:+0200
TZOFFSETTO:+0100
TZNAME:CET
DTSTART:20221030T010000
END:STANDARD
BEGIN:DAYLIGHT
TZOFFSETFROM:+0100
TZOFFSETTO:+0200
TZNAME:CEST
DTSTART:20230326T010000
END:DAYLIGHT
BEGIN:STANDARD
TZOFFSETFROM:+0200
TZOFFSETTO:+0100
TZNAME:CET
DTSTART:20231029T010000
END:STANDARD
BEGIN:DAYLIGHT
TZOFFSETFROM:+0100
TZOFFSETTO:+0200
TZNAME:CEST
DTSTART:20240331T010000
END:DAYLIGHT
BEGIN:STANDARD
TZOFFSETFROM:+0200
TZOFFSETTO:+0100
TZNAME:CET
DTSTART:20241027T010000
END:STANDARD
END:VTIMEZONE
BEGIN:VEVENT
DTSTART;TZID=Europe/Stockholm:20230107T090000
DTEND;TZID=Europe/Stockholm:20230107T120000
DTSTAMP:20260423T044400
CREATED:20221018T140450Z
LAST-MODIFIED:20230131T085522Z
UID:45719-1673082000-1673092800@birdlife.se
SUMMARY:Vinterfåglar vid Rödhammarsfjorden - Bohusläns Ornitologiska Förening
DESCRIPTION:Lördag 7 januari\, kl 09:00-12:00\nStrax norr om Fjällbacka beger vi oss upp på berget och tittar ut över fjorden för att se vad som kan dyka upp denna förmiddag. Det finns chans på bergand\, salskrake\, svärta\, skäggdopping\, smådopping och svarthakedopping. Ta med fika.\nAnmälan senast 6/1: Peter Törnqvist 070-749 19 57.
URL:https://birdlife.se/evenemang/vinterfaglar-vid-rodhammarsfjorden-bohuslans-ornitologiska-forening/
CATEGORIES:Bohuslän,Götaland
END:VEVENT
END:VCALENDAR