BEGIN:VCALENDAR
VERSION:2.0
PRODID:-//BirdLife Sverige - ECPv6.15.17.1//NONSGML v1.0//EN
CALSCALE:GREGORIAN
METHOD:PUBLISH
X-WR-CALNAME:BirdLife Sverige
X-ORIGINAL-URL:https://birdlife.se
X-WR-CALDESC:Händelser för BirdLife Sverige
REFRESH-INTERVAL;VALUE=DURATION:PT1H
X-Robots-Tag:noindex
X-PUBLISHED-TTL:PT1H
BEGIN:VTIMEZONE
TZID:Europe/Stockholm
BEGIN:DAYLIGHT
TZOFFSETFROM:+0100
TZOFFSETTO:+0200
TZNAME:CEST
DTSTART:20220327T010000
END:DAYLIGHT
BEGIN:STANDARD
TZOFFSETFROM:+0200
TZOFFSETTO:+0100
TZNAME:CET
DTSTART:20221030T010000
END:STANDARD
BEGIN:DAYLIGHT
TZOFFSETFROM:+0100
TZOFFSETTO:+0200
TZNAME:CEST
DTSTART:20230326T010000
END:DAYLIGHT
BEGIN:STANDARD
TZOFFSETFROM:+0200
TZOFFSETTO:+0100
TZNAME:CET
DTSTART:20231029T010000
END:STANDARD
BEGIN:DAYLIGHT
TZOFFSETFROM:+0100
TZOFFSETTO:+0200
TZNAME:CEST
DTSTART:20240331T010000
END:DAYLIGHT
BEGIN:STANDARD
TZOFFSETFROM:+0200
TZOFFSETTO:+0100
TZNAME:CET
DTSTART:20241027T010000
END:STANDARD
END:VTIMEZONE
BEGIN:VEVENT
DTSTART;TZID=Europe/Stockholm:20231111T083000
DTEND;TZID=Europe/Stockholm:20231111T103000
DTSTAMP:20260423T030028
CREATED:20231101T095614Z
LAST-MODIFIED:20231101T095614Z
UID:52671-1699691400-1699698600@birdlife.se
SUMMARY:Vinterskådning i Fjällbacka - Bohusläns Ornitologiska Förening
DESCRIPTION:Vi tar en skådningstur på morgonen runt Fjällbacka. In i det sista  bestämmer vi vart vi skådar\, då det beror på väder och fågeltillgång. Troligen letar vi efter sjöfågel eller snösparv och hökuggla.\nAnmälan senast 9/11: Per Wohlin & Sussie Carlström 073-690 41 60.
URL:https://birdlife.se/evenemang/vinterskadning-i-fjallbacka-bohuslans-ornitologiska-forening/
CATEGORIES:Bohuslän,Götaland
END:VEVENT
END:VCALENDAR