BEGIN:VCALENDAR
VERSION:2.0
PRODID:-//BirdLife Sverige - ECPv6.15.17.1//NONSGML v1.0//EN
CALSCALE:GREGORIAN
METHOD:PUBLISH
X-ORIGINAL-URL:https://birdlife.se
X-WR-CALDESC:Händelser för BirdLife Sverige
REFRESH-INTERVAL;VALUE=DURATION:PT1H
X-Robots-Tag:noindex
X-PUBLISHED-TTL:PT1H
BEGIN:VTIMEZONE
TZID:Europe/Stockholm
BEGIN:DAYLIGHT
TZOFFSETFROM:+0100
TZOFFSETTO:+0200
TZNAME:CEST
DTSTART:20210328T010000
END:DAYLIGHT
BEGIN:STANDARD
TZOFFSETFROM:+0200
TZOFFSETTO:+0100
TZNAME:CET
DTSTART:20211031T010000
END:STANDARD
BEGIN:DAYLIGHT
TZOFFSETFROM:+0100
TZOFFSETTO:+0200
TZNAME:CEST
DTSTART:20220327T010000
END:DAYLIGHT
BEGIN:STANDARD
TZOFFSETFROM:+0200
TZOFFSETTO:+0100
TZNAME:CET
DTSTART:20221030T010000
END:STANDARD
BEGIN:DAYLIGHT
TZOFFSETFROM:+0100
TZOFFSETTO:+0200
TZNAME:CEST
DTSTART:20230326T010000
END:DAYLIGHT
BEGIN:STANDARD
TZOFFSETFROM:+0200
TZOFFSETTO:+0100
TZNAME:CET
DTSTART:20231029T010000
END:STANDARD
END:VTIMEZONE
BEGIN:VEVENT
DTSTART;TZID=Europe/Stockholm:20220917T100000
DTEND;TZID=Europe/Stockholm:20220917T120000
DTSTAMP:20260422T225528
CREATED:20220716T094201Z
LAST-MODIFIED:20220716T094201Z
UID:10000522-1663408800-1663416000@birdlife.se
SUMMARY:Botan\, kulturnatten - Lundabygdens fågelklubb
DESCRIPTION:Fågelguidning med berättelser och fågelpoesi. \nHelena Heyman 0736 189668 \nMonica Pedersen 0735 506147. \nSamling i Botan kl. 10 vid växthusentrén.
URL:https://birdlife.se/evenemang/botan-kulturnatten-lundabygdens-fagelklubb/
LOCATION:Botaniska Trädgård Lund\, växthusentrén\, P633+W7 Lund\, Lund
CATEGORIES:Götaland,Skåne
GEO:55.7048125;13.2031875
X-APPLE-STRUCTURED-LOCATION;VALUE=URI;X-ADDRESS=Botaniska Trädgård Lund växthusentrén P633+W7 Lund Lund;X-APPLE-RADIUS=500;X-TITLE=P633+W7 Lund:geo:13.2031875,55.7048125
END:VEVENT
END:VCALENDAR