BEGIN:VCALENDAR
VERSION:2.0
PRODID:-//BirdLife Sverige - ECPv6.15.17.1//NONSGML v1.0//EN
CALSCALE:GREGORIAN
METHOD:PUBLISH
X-WR-CALNAME:BirdLife Sverige
X-ORIGINAL-URL:https://birdlife.se
X-WR-CALDESC:Händelser för BirdLife Sverige
REFRESH-INTERVAL;VALUE=DURATION:PT1H
X-Robots-Tag:noindex
X-PUBLISHED-TTL:PT1H
BEGIN:VTIMEZONE
TZID:Europe/Stockholm
BEGIN:DAYLIGHT
TZOFFSETFROM:+0100
TZOFFSETTO:+0200
TZNAME:CEST
DTSTART:20210328T010000
END:DAYLIGHT
BEGIN:STANDARD
TZOFFSETFROM:+0200
TZOFFSETTO:+0100
TZNAME:CET
DTSTART:20211031T010000
END:STANDARD
BEGIN:DAYLIGHT
TZOFFSETFROM:+0100
TZOFFSETTO:+0200
TZNAME:CEST
DTSTART:20220327T010000
END:DAYLIGHT
BEGIN:STANDARD
TZOFFSETFROM:+0200
TZOFFSETTO:+0100
TZNAME:CET
DTSTART:20221030T010000
END:STANDARD
BEGIN:DAYLIGHT
TZOFFSETFROM:+0100
TZOFFSETTO:+0200
TZNAME:CEST
DTSTART:20230326T010000
END:DAYLIGHT
BEGIN:STANDARD
TZOFFSETFROM:+0200
TZOFFSETTO:+0100
TZNAME:CET
DTSTART:20231029T010000
END:STANDARD
END:VTIMEZONE
BEGIN:VEVENT
DTSTART;TZID=Europe/Stockholm:20221211T100000
DTEND;TZID=Europe/Stockholm:20221211T170000
DTSTAMP:20260423T001239
CREATED:20221031T111656Z
LAST-MODIFIED:20221031T111656Z
UID:10000706-1670752800-1670778000@birdlife.se
SUMMARY:Vandring runt Åbackarna - Fågelföreningen i Norrköping
DESCRIPTION:Åbackarna är en fin övervintringslokal för både änder\, smådopping\, tättingar\, måsar med flera.  \nVi samlas på Färgargården kl. 10.00 för en lugn promenad runt Åbackarna under flitigt skådande. \nAnsvarig: Anna-Lena Jansson\, 0767-60 30 57\, annalena.jansson53@gmail.com
URL:https://birdlife.se/evenemang/vandring-runt-abackarna-fagelforeningen-i-norrkoping-2/
LOCATION:Färgaregården\, Norrköping\, Värdshusgatan 8\, Norrköping\, 60233
CATEGORIES:Götaland,Östergötland
GEO:58.5877865;16.1675031
X-APPLE-STRUCTURED-LOCATION;VALUE=URI;X-ADDRESS=Färgaregården Norrköping Värdshusgatan 8 Norrköping 60233;X-APPLE-RADIUS=500;X-TITLE=Värdshusgatan 8:geo:16.1675031,58.5877865
END:VEVENT
END:VCALENDAR