BEGIN:VCALENDAR
VERSION:2.0
PRODID:-//BirdLife Sverige - ECPv6.15.17.1//NONSGML v1.0//EN
CALSCALE:GREGORIAN
METHOD:PUBLISH
X-WR-CALNAME:BirdLife Sverige
X-ORIGINAL-URL:https://birdlife.se
X-WR-CALDESC:Händelser för BirdLife Sverige
REFRESH-INTERVAL;VALUE=DURATION:PT1H
X-Robots-Tag:noindex
X-PUBLISHED-TTL:PT1H
BEGIN:VTIMEZONE
TZID:Europe/Stockholm
BEGIN:DAYLIGHT
TZOFFSETFROM:+0100
TZOFFSETTO:+0200
TZNAME:CEST
DTSTART:20230326T010000
END:DAYLIGHT
BEGIN:STANDARD
TZOFFSETFROM:+0200
TZOFFSETTO:+0100
TZNAME:CET
DTSTART:20231029T010000
END:STANDARD
BEGIN:DAYLIGHT
TZOFFSETFROM:+0100
TZOFFSETTO:+0200
TZNAME:CEST
DTSTART:20240331T010000
END:DAYLIGHT
BEGIN:STANDARD
TZOFFSETFROM:+0200
TZOFFSETTO:+0100
TZNAME:CET
DTSTART:20241027T010000
END:STANDARD
BEGIN:DAYLIGHT
TZOFFSETFROM:+0100
TZOFFSETTO:+0200
TZNAME:CEST
DTSTART:20250330T010000
END:DAYLIGHT
BEGIN:STANDARD
TZOFFSETFROM:+0200
TZOFFSETTO:+0100
TZNAME:CET
DTSTART:20251026T010000
END:STANDARD
END:VTIMEZONE
BEGIN:VEVENT
DTSTART;TZID=Europe/Stockholm:20241027T120000
DTEND;TZID=Europe/Stockholm:20241027T150000
DTSTAMP:20260423T001652
CREATED:20240930T073358Z
LAST-MODIFIED:20240930T073358Z
UID:10001525-1730030400-1730041200@birdlife.se
SUMMARY:Familjeaktivitet - Järvafältets Ornitologiska Klubb
DESCRIPTION:Söndag 27 oktober mellan kl. 12 och 15 genomför vi en familjeaktivitet tillsammans med Naturskyddsföreningen i Järfälla då vi gör fågelmat vid naturskyddsföreningens lokaler ”naturinfo” vid Görvälns slott. En lämplig aktivitet för barn och familj. \nHåll dig alltid uppdaterad om ändringar genom att titta på hemsidan och Facebookgruppen ”Fågelskådare på Järva”. \nDatum:  27 oktober\nPlats: Naturinfo vid Görvälns slott\nTid: 12:00 till 15:00\nExkursionsledare: Ingrid Stenman\nSvårighetsgrad: Låg\nFöranmälan: Ingen föranmälan krävs
URL:https://birdlife.se/evenemang/familjeaktivitet-jarvafaltets-ornitologiska-klubb/
LOCATION:Görvälns slott parkering\, Järfälla\, CQMP+G2 Jakobsberg
CATEGORIES:2024,Svealand,Uppland
GEO:59.4338125;17.7850625
X-APPLE-STRUCTURED-LOCATION;VALUE=URI;X-ADDRESS=Görvälns slott parkering Järfälla CQMP+G2 Jakobsberg;X-APPLE-RADIUS=500;X-TITLE=CQMP+G2 Jakobsberg:geo:17.7850625,59.4338125
END:VEVENT
END:VCALENDAR