BEGIN:VCALENDAR
VERSION:2.0
PRODID:-//BirdLife Sverige - ECPv6.15.17.1//NONSGML v1.0//EN
CALSCALE:GREGORIAN
METHOD:PUBLISH
X-ORIGINAL-URL:https://birdlife.se
X-WR-CALDESC:Händelser för BirdLife Sverige
REFRESH-INTERVAL;VALUE=DURATION:PT1H
X-Robots-Tag:noindex
X-PUBLISHED-TTL:PT1H
BEGIN:VTIMEZONE
TZID:Europe/Stockholm
BEGIN:DAYLIGHT
TZOFFSETFROM:+0100
TZOFFSETTO:+0200
TZNAME:CEST
DTSTART:20210328T010000
END:DAYLIGHT
BEGIN:STANDARD
TZOFFSETFROM:+0200
TZOFFSETTO:+0100
TZNAME:CET
DTSTART:20211031T010000
END:STANDARD
BEGIN:DAYLIGHT
TZOFFSETFROM:+0100
TZOFFSETTO:+0200
TZNAME:CEST
DTSTART:20220327T010000
END:DAYLIGHT
BEGIN:STANDARD
TZOFFSETFROM:+0200
TZOFFSETTO:+0100
TZNAME:CET
DTSTART:20221030T010000
END:STANDARD
BEGIN:DAYLIGHT
TZOFFSETFROM:+0100
TZOFFSETTO:+0200
TZNAME:CEST
DTSTART:20230326T010000
END:DAYLIGHT
BEGIN:STANDARD
TZOFFSETFROM:+0200
TZOFFSETTO:+0100
TZNAME:CET
DTSTART:20231029T010000
END:STANDARD
BEGIN:DAYLIGHT
TZOFFSETFROM:+0100
TZOFFSETTO:+0200
TZNAME:CEST
DTSTART:20240331T010000
END:DAYLIGHT
BEGIN:STANDARD
TZOFFSETFROM:+0200
TZOFFSETTO:+0100
TZNAME:CET
DTSTART:20241027T010000
END:STANDARD
BEGIN:DAYLIGHT
TZOFFSETFROM:+0100
TZOFFSETTO:+0200
TZNAME:CEST
DTSTART:20250330T010000
END:DAYLIGHT
BEGIN:STANDARD
TZOFFSETFROM:+0200
TZOFFSETTO:+0100
TZNAME:CET
DTSTART:20251026T010000
END:STANDARD
END:VTIMEZONE
BEGIN:VEVENT
DTSTART;TZID=Europe/Stockholm:20241117T083000
DTEND;TZID=Europe/Stockholm:20241117T170000
DTSTAMP:20260423T001153
CREATED:20240930T090526Z
LAST-MODIFIED:20240930T090526Z
UID:10001532-1731832200-1731862800@birdlife.se
SUMMARY:Gåsspaning - Ringsjöbygdens Fågelskådare
DESCRIPTION:Samling Ica Kvantum Hörby kl 8:30
URL:https://birdlife.se/evenemang/gasspaning-ringsjobygdens-fagelskadare/
LOCATION:ICA Hörby\, Ringsjövägen 7\, Hörby\, 24231\, Sverige
CATEGORIES:2024,Götaland,Skåne
END:VEVENT
BEGIN:VEVENT
DTSTART;TZID=Europe/Stockholm:20241020T080000
DTEND;TZID=Europe/Stockholm:20241020T160000
DTSTAMP:20260423T001153
CREATED:20240930T090150Z
LAST-MODIFIED:20240930T090339Z
UID:10001530-1729411200-1729440000@birdlife.se
SUMMARY:Äspet Friseboda - Ringsjöbygdens Fågelskådare
DESCRIPTION:Samling Ica Kvantum i Hörby kl 08:00
URL:https://birdlife.se/evenemang/aspet-friseboda-ringsjobygdens-fagelskadare/
LOCATION:ICA Hörby\, Ringsjövägen 7\, Hörby\, 24231\, Sverige
CATEGORIES:2024,Götaland,Skåne
END:VEVENT
BEGIN:VEVENT
DTSTART;TZID=Europe/Stockholm:20231104T080000
DTEND;TZID=Europe/Stockholm:20231104T170000
DTSTAMP:20260423T001153
CREATED:20231031T142107Z
LAST-MODIFIED:20231031T142107Z
UID:10001238-1699084800-1699117200@birdlife.se
SUMMARY:Gåsspaning runt Vomb/Kranke - Ringsjöbygdens Fågelskådare
DESCRIPTION:Samling Ica Kvantum Hörby kl 8:00
URL:https://birdlife.se/evenemang/gasspaning-runt-vomb-kranke-ringsjobygdens-fagelskadare-2/
LOCATION:ICA Hörby\, Ringsjövägen 7\, Hörby\, 24231\, Sverige
CATEGORIES:Götaland,Skåne
END:VEVENT
BEGIN:VEVENT
DTSTART;TZID=Europe/Stockholm:20221105T080000
DTEND;TZID=Europe/Stockholm:20221105T170000
DTSTAMP:20260423T001153
CREATED:20221101T151608Z
LAST-MODIFIED:20221101T151608Z
UID:10000801-1667635200-1667667600@birdlife.se
SUMMARY:Gåsspaning runt Vomb/Kranke - Ringsjöbygdens Fågelskådare
DESCRIPTION:Samling Ica Kvantum Hörby kl 8:00
URL:https://birdlife.se/evenemang/gasspaning-runt-vomb-kranke-ringsjobygdens-fagelskadare/
LOCATION:ICA Hörby\, Ringsjövägen 7\, Hörby\, 24231\, Sverige
CATEGORIES:Götaland,Skåne
END:VEVENT
END:VCALENDAR