BEGIN:VCALENDAR
VERSION:2.0
PRODID:-//BirdLife Sverige - ECPv6.15.17.1//NONSGML v1.0//EN
CALSCALE:GREGORIAN
METHOD:PUBLISH
X-WR-CALNAME:BirdLife Sverige
X-ORIGINAL-URL:https://birdlife.se
X-WR-CALDESC:Händelser för BirdLife Sverige
REFRESH-INTERVAL;VALUE=DURATION:PT1H
X-Robots-Tag:noindex
X-PUBLISHED-TTL:PT1H
BEGIN:VTIMEZONE
TZID:Europe/Stockholm
BEGIN:DAYLIGHT
TZOFFSETFROM:+0100
TZOFFSETTO:+0200
TZNAME:CEST
DTSTART:20230326T010000
END:DAYLIGHT
BEGIN:STANDARD
TZOFFSETFROM:+0200
TZOFFSETTO:+0100
TZNAME:CET
DTSTART:20231029T010000
END:STANDARD
BEGIN:DAYLIGHT
TZOFFSETFROM:+0100
TZOFFSETTO:+0200
TZNAME:CEST
DTSTART:20240331T010000
END:DAYLIGHT
BEGIN:STANDARD
TZOFFSETFROM:+0200
TZOFFSETTO:+0100
TZNAME:CET
DTSTART:20241027T010000
END:STANDARD
BEGIN:DAYLIGHT
TZOFFSETFROM:+0100
TZOFFSETTO:+0200
TZNAME:CEST
DTSTART:20250330T010000
END:DAYLIGHT
BEGIN:STANDARD
TZOFFSETFROM:+0200
TZOFFSETTO:+0100
TZNAME:CET
DTSTART:20251026T010000
END:STANDARD
END:VTIMEZONE
BEGIN:VEVENT
DTSTART;TZID=Europe/Stockholm:20240512T080000
DTEND;TZID=Europe/Stockholm:20240512T110000
DTSTAMP:20260422T225507
CREATED:20240130T135034Z
LAST-MODIFIED:20240415T125843Z
UID:10000837-1715500800-1715511600@birdlife.se
SUMMARY:Fågelräkning vid Johannisbergs Vattenpark - Västmanlands Ornitologiska Förening
DESCRIPTION:Som en del i BirdLife Sveriges och Svensk fågeltaxerings stora sjöfågelinventering inventerar Unga fågelskådare Johannisbergs vattenpark utanför Västerås. \nDenna aktivitet är mer än bara en inventering. Vi kommer att gå vår förutbestämda slinga flera gånger och mellan rundorna kommer vi att skåda och berätta om fåglar i vattenparken från en lämplig observationsplats beroende på var det finns mest intressanta fåglar. \nUnder våren rastar en del arktiska vadare på väg norrut och även en hel del tättingar och sjöfågel.\nSå vi kan rekommendera ett besök här för att få reda på mer om fågellivet på Johannisberg av våra duktiga ungdomar. \nÄr du ung och sugen på fågelskådning är det också ett bra tillfälle att prata med våra ungdomar om Ungdomsskådarna. \nDatum:12/5\nAnmälan: Ingen anmälan\nArrangör: Unga fågelskådare Västmanland\nTid: 08:00 – 11:00\nHitta dit: https://goo.gl/maps/zzAGbXFqRB1BKMzy9
URL:https://birdlife.se/evenemang/fagelrakning-vid-johannisbergs-vattenpark-vastmanlands-ornitologiska-forening/
LOCATION:Johannisbergs vattenpark\, Västerås\, HGJ5+RW Västerås\, Sweden
CATEGORIES:2024,Svealand,Västmanland
ORGANIZER;CN="V%C3%A4stmanlands Ornitologiska F%C3%B6rening":MAILTO:johan.karlsson.vof@gmail.com
GEO:59.5820625;16.5098125
X-APPLE-STRUCTURED-LOCATION;VALUE=URI;X-ADDRESS=Johannisbergs vattenpark Västerås HGJ5+RW Västerås Sweden;X-APPLE-RADIUS=500;X-TITLE=HGJ5+RW Västerås:geo:16.5098125,59.5820625
END:VEVENT
END:VCALENDAR