BEGIN:VCALENDAR
VERSION:2.0
PRODID:-//BirdLife Sverige - ECPv6.15.17.1//NONSGML v1.0//EN
CALSCALE:GREGORIAN
METHOD:PUBLISH
X-WR-CALNAME:BirdLife Sverige
X-ORIGINAL-URL:https://birdlife.se
X-WR-CALDESC:Händelser för BirdLife Sverige
REFRESH-INTERVAL;VALUE=DURATION:PT1H
X-Robots-Tag:noindex
X-PUBLISHED-TTL:PT1H
BEGIN:VTIMEZONE
TZID:Europe/Stockholm
BEGIN:DAYLIGHT
TZOFFSETFROM:+0100
TZOFFSETTO:+0200
TZNAME:CEST
DTSTART:20220327T010000
END:DAYLIGHT
BEGIN:STANDARD
TZOFFSETFROM:+0200
TZOFFSETTO:+0100
TZNAME:CET
DTSTART:20221030T010000
END:STANDARD
BEGIN:DAYLIGHT
TZOFFSETFROM:+0100
TZOFFSETTO:+0200
TZNAME:CEST
DTSTART:20230326T010000
END:DAYLIGHT
BEGIN:STANDARD
TZOFFSETFROM:+0200
TZOFFSETTO:+0100
TZNAME:CET
DTSTART:20231029T010000
END:STANDARD
BEGIN:DAYLIGHT
TZOFFSETFROM:+0100
TZOFFSETTO:+0200
TZNAME:CEST
DTSTART:20240331T010000
END:DAYLIGHT
BEGIN:STANDARD
TZOFFSETFROM:+0200
TZOFFSETTO:+0100
TZNAME:CET
DTSTART:20241027T010000
END:STANDARD
END:VTIMEZONE
BEGIN:VEVENT
DTSTART;TZID=Europe/Stockholm:20231113T183000
DTEND;TZID=Europe/Stockholm:20231113T203000
DTSTAMP:20260423T001319
CREATED:20231030T100304Z
LAST-MODIFIED:20231030T100327Z
UID:10000649-1699900200-1699907400@birdlife.se
SUMMARY:Medlemsmöte - Markaryds Fågelklubb
DESCRIPTION:En kväll där vi planerar för verksamheten 2023. Bl.a. genomgång av årsprogrammet\, ekonomi\, underhåll\, sponsorer mm. \nVälkomna till en kväll med många bra idéer. Medtag eget fika. \nVi träffas i klubblokalen kl. 18:30. Fika till självkostnadspris. Välkomna!
URL:https://birdlife.se/evenemang/medlemsmote-markaryds-fagelklubb/
LOCATION:Markaryds Fågelklubb\, Intäppan\, Kaplansgatan 5 I\, Markaryd\, 28533
CATEGORIES:Götaland,Kronoberg
GEO:56.4516954;13.5932916
X-APPLE-STRUCTURED-LOCATION;VALUE=URI;X-ADDRESS=Markaryds Fågelklubb Intäppan Kaplansgatan 5 I Markaryd 28533;X-APPLE-RADIUS=500;X-TITLE=Intäppan\, Kaplansgatan 5 I:geo:13.5932916,56.4516954
END:VEVENT
END:VCALENDAR