BEGIN:VCALENDAR
VERSION:2.0
PRODID:-//BirdLife Sverige - ECPv6.15.17.1//NONSGML v1.0//EN
CALSCALE:GREGORIAN
METHOD:PUBLISH
X-WR-CALNAME:BirdLife Sverige
X-ORIGINAL-URL:https://birdlife.se
X-WR-CALDESC:Händelser för BirdLife Sverige
REFRESH-INTERVAL;VALUE=DURATION:PT1H
X-Robots-Tag:noindex
X-PUBLISHED-TTL:PT1H
BEGIN:VTIMEZONE
TZID:Europe/Stockholm
BEGIN:DAYLIGHT
TZOFFSETFROM:+0100
TZOFFSETTO:+0200
TZNAME:CEST
DTSTART:20220327T010000
END:DAYLIGHT
BEGIN:STANDARD
TZOFFSETFROM:+0200
TZOFFSETTO:+0100
TZNAME:CET
DTSTART:20221030T010000
END:STANDARD
BEGIN:DAYLIGHT
TZOFFSETFROM:+0100
TZOFFSETTO:+0200
TZNAME:CEST
DTSTART:20230326T010000
END:DAYLIGHT
BEGIN:STANDARD
TZOFFSETFROM:+0200
TZOFFSETTO:+0100
TZNAME:CET
DTSTART:20231029T010000
END:STANDARD
BEGIN:DAYLIGHT
TZOFFSETFROM:+0100
TZOFFSETTO:+0200
TZNAME:CEST
DTSTART:20240331T010000
END:DAYLIGHT
BEGIN:STANDARD
TZOFFSETFROM:+0200
TZOFFSETTO:+0100
TZNAME:CET
DTSTART:20241027T010000
END:STANDARD
END:VTIMEZONE
BEGIN:VEVENT
DTSTART;TZID=Europe/Stockholm:20230506T050000
DTEND;TZID=Europe/Stockholm:20230506T130000
DTSTAMP:20260422T225410
CREATED:20230307T075038Z
LAST-MODIFIED:20230307T075038Z
UID:10000971-1683349200-1683378000@birdlife.se
SUMMARY:Fågeltornskampen - Jämtlands läns ornitologiska förening
DESCRIPTION:Fågeltornskampen 6 maj 05:00 – 13:00 samt återinvigning av Sikåstornet  \nSikås byförening ordnar servering mm vid återinvigningen av fågeltornet. Mer info om tidpunkt mm kommer i sociala medier. \nInfo Tor Persson 070-686 96 23.
URL:https://birdlife.se/evenemang/fageltornskampen-jamtlands-lans-ornitologiska-forening-2/
LOCATION:Sikåstornet\, Hammerdal\, J7H3+FP Hammerdal\, Sweden
CATEGORIES:Fågeltornskampen,Jämtland/Härjedalen,Norrland
GEO:63.6286875;15.2543125
X-APPLE-STRUCTURED-LOCATION;VALUE=URI;X-ADDRESS=Sikåstornet Hammerdal J7H3+FP Hammerdal Sweden;X-APPLE-RADIUS=500;X-TITLE=J7H3+FP Hammerdal:geo:15.2543125,63.6286875
END:VEVENT
END:VCALENDAR