BEGIN:VCALENDAR
VERSION:2.0
PRODID:-//BirdLife Sverige - ECPv6.15.17.1//NONSGML v1.0//EN
CALSCALE:GREGORIAN
METHOD:PUBLISH
X-ORIGINAL-URL:https://birdlife.se
X-WR-CALDESC:Händelser för BirdLife Sverige
REFRESH-INTERVAL;VALUE=DURATION:PT1H
X-Robots-Tag:noindex
X-PUBLISHED-TTL:PT1H
BEGIN:VTIMEZONE
TZID:Europe/Stockholm
BEGIN:DAYLIGHT
TZOFFSETFROM:+0100
TZOFFSETTO:+0200
TZNAME:CEST
DTSTART:20210328T010000
END:DAYLIGHT
BEGIN:STANDARD
TZOFFSETFROM:+0200
TZOFFSETTO:+0100
TZNAME:CET
DTSTART:20211031T010000
END:STANDARD
BEGIN:DAYLIGHT
TZOFFSETFROM:+0100
TZOFFSETTO:+0200
TZNAME:CEST
DTSTART:20220327T010000
END:DAYLIGHT
BEGIN:STANDARD
TZOFFSETFROM:+0200
TZOFFSETTO:+0100
TZNAME:CET
DTSTART:20221030T010000
END:STANDARD
BEGIN:DAYLIGHT
TZOFFSETFROM:+0100
TZOFFSETTO:+0200
TZNAME:CEST
DTSTART:20230326T010000
END:DAYLIGHT
BEGIN:STANDARD
TZOFFSETFROM:+0200
TZOFFSETTO:+0100
TZNAME:CET
DTSTART:20231029T010000
END:STANDARD
BEGIN:DAYLIGHT
TZOFFSETFROM:+0100
TZOFFSETTO:+0200
TZNAME:CEST
DTSTART:20240331T010000
END:DAYLIGHT
BEGIN:STANDARD
TZOFFSETFROM:+0200
TZOFFSETTO:+0100
TZNAME:CET
DTSTART:20241027T010000
END:STANDARD
BEGIN:DAYLIGHT
TZOFFSETFROM:+0100
TZOFFSETTO:+0200
TZNAME:CEST
DTSTART:20250330T010000
END:DAYLIGHT
BEGIN:STANDARD
TZOFFSETFROM:+0200
TZOFFSETTO:+0100
TZNAME:CET
DTSTART:20251026T010000
END:STANDARD
END:VTIMEZONE
BEGIN:VEVENT
DTSTART;TZID=Europe/Stockholm:20240224T100000
DTEND;TZID=Europe/Stockholm:20240224T120000
DTSTAMP:20260423T001326
CREATED:20231030T134311Z
LAST-MODIFIED:20240415T131613Z
UID:10000677-1708768800-1708776000@birdlife.se
SUMMARY:Fåglar i Västerviks hamn - Tjust Fågelklubb
DESCRIPTION:Vi promenerar genom Västerviks hamn som vid den här tiden på året brukar bjuda på ett rikt fågelliv. Förutom våra vanliga vintergäster finns chans att se arter som bergand\, smådopping och alfågel. \nSamling vid skärgårdsbåtarnas terminal\, Västerviks hamn.\nKontakter: Olle Svernell 070–5879743 och Anders Thåström 073–0753022
URL:https://birdlife.se/evenemang/faglar-i-vasterviks-hamn-tjust-fagelklubb-2/
LOCATION:Skärgårdsterminalen\, Västervik\, QJ5V+M4 Västervik\, Sverige
CATEGORIES:2024,Götaland,Östra Småland
GEO:57.7621875;16.6510625
X-APPLE-STRUCTURED-LOCATION;VALUE=URI;X-ADDRESS=Skärgårdsterminalen Västervik QJ5V+M4 Västervik Sverige;X-APPLE-RADIUS=500;X-TITLE=QJ5V+M4 Västervik:geo:16.6510625,57.7621875
END:VEVENT
BEGIN:VEVENT
DTSTART;TZID=Europe/Stockholm:20230225T100000
DTEND;TZID=Europe/Stockholm:20230225T120000
DTSTAMP:20260423T001326
CREATED:20221017T133830Z
LAST-MODIFIED:20221017T133830Z
UID:10000281-1677319200-1677326400@birdlife.se
SUMMARY:Fåglar i Västerviks hamn - Tjust Fågelklubb
DESCRIPTION:Vi promenerar genom Västerviks hamn som vi den här tiden på året brukar bjuda på ett rikt fågelliv. Förutom våra vanliga vintergäster finns chans att se arter som bergand\, smådopping och alfågel. \nPlats: Samling vid skärgårdsbåtarnas terminal\, Västerviks hamn.\nKontakt: Git Jansson 070-20 30 155
URL:https://birdlife.se/evenemang/faglar-i-vasterviks-hamn-tjust-fagelklubb/
LOCATION:Skärgårdsterminalen\, Västervik\, QJ5V+M4 Västervik\, Sverige
CATEGORIES:Götaland,Östra Småland
GEO:57.7621875;16.6510625
X-APPLE-STRUCTURED-LOCATION;VALUE=URI;X-ADDRESS=Skärgårdsterminalen Västervik QJ5V+M4 Västervik Sverige;X-APPLE-RADIUS=500;X-TITLE=QJ5V+M4 Västervik:geo:16.6510625,57.7621875
END:VEVENT
BEGIN:VEVENT
DTSTART;TZID=Europe/Stockholm:20220111T183000
DTEND;TZID=Europe/Stockholm:20220111T210000
DTSTAMP:20260423T001326
CREATED:20211103T103005Z
LAST-MODIFIED:20211103T103005Z
UID:10000217-1641925800-1641934800@birdlife.se
SUMMARY:Berguv i Tjust - Tjust Fågelklubb
DESCRIPTION:Vad vet du om Västerviks kommunfågel berguven? Hur lever berguvarna i Tjust och hur har det gått med deras häckning genom åren? Vårt berguvsprojekt har pågått sedan 2014 och under 2019-2020 deltog vi i den svenska riksinventeringen.\nLarsgunnar och Kent berättar och visar bilder. \nPlats: Wästerviks segelsällskap Wikingarnas klubblokal\, Notholmen\, Västervik\nKontakt: Larsgunnar Nilsson 0705-23 35 39
URL:https://birdlife.se/evenemang/berguv-i-tjust-tjust-fagelklubb/
LOCATION:Skärgårdsterminalen\, Västervik\, QJ5V+M4 Västervik\, Sverige
CATEGORIES:Götaland,Östra Småland
GEO:57.7621875;16.6510625
X-APPLE-STRUCTURED-LOCATION;VALUE=URI;X-ADDRESS=Skärgårdsterminalen Västervik QJ5V+M4 Västervik Sverige;X-APPLE-RADIUS=500;X-TITLE=QJ5V+M4 Västervik:geo:16.6510625,57.7621875
END:VEVENT
END:VCALENDAR