BEGIN:VCALENDAR
VERSION:2.0
PRODID:-//BirdLife Sverige - ECPv6.15.17.1//NONSGML v1.0//EN
CALSCALE:GREGORIAN
METHOD:PUBLISH
X-WR-CALNAME:BirdLife Sverige
X-ORIGINAL-URL:https://birdlife.se
X-WR-CALDESC:Händelser för BirdLife Sverige
REFRESH-INTERVAL;VALUE=DURATION:PT1H
X-Robots-Tag:noindex
X-PUBLISHED-TTL:PT1H
BEGIN:VTIMEZONE
TZID:Europe/Stockholm
BEGIN:DAYLIGHT
TZOFFSETFROM:+0100
TZOFFSETTO:+0200
TZNAME:CEST
DTSTART:20210328T010000
END:DAYLIGHT
BEGIN:STANDARD
TZOFFSETFROM:+0200
TZOFFSETTO:+0100
TZNAME:CET
DTSTART:20211031T010000
END:STANDARD
BEGIN:DAYLIGHT
TZOFFSETFROM:+0100
TZOFFSETTO:+0200
TZNAME:CEST
DTSTART:20220327T010000
END:DAYLIGHT
BEGIN:STANDARD
TZOFFSETFROM:+0200
TZOFFSETTO:+0100
TZNAME:CET
DTSTART:20221030T010000
END:STANDARD
BEGIN:DAYLIGHT
TZOFFSETFROM:+0100
TZOFFSETTO:+0200
TZNAME:CEST
DTSTART:20230326T010000
END:DAYLIGHT
BEGIN:STANDARD
TZOFFSETFROM:+0200
TZOFFSETTO:+0100
TZNAME:CET
DTSTART:20231029T010000
END:STANDARD
BEGIN:DAYLIGHT
TZOFFSETFROM:+0100
TZOFFSETTO:+0200
TZNAME:CEST
DTSTART:20240331T010000
END:DAYLIGHT
BEGIN:STANDARD
TZOFFSETFROM:+0200
TZOFFSETTO:+0100
TZNAME:CET
DTSTART:20241027T010000
END:STANDARD
BEGIN:DAYLIGHT
TZOFFSETFROM:+0100
TZOFFSETTO:+0200
TZNAME:CEST
DTSTART:20250330T010000
END:DAYLIGHT
BEGIN:STANDARD
TZOFFSETFROM:+0200
TZOFFSETTO:+0100
TZNAME:CET
DTSTART:20251026T010000
END:STANDARD
END:VTIMEZONE
BEGIN:VEVENT
DTSTART;TZID=Europe/Stockholm:20241107T180000
DTEND;TZID=Europe/Stockholm:20241107T200000
DTSTAMP:20260423T001838
CREATED:20240926T070613Z
LAST-MODIFIED:20240926T070613Z
UID:10001487-1731002400-1731009600@birdlife.se
SUMMARY:Semester och fåglar i Karibien (bildvisning) - Bohusläns Ornitologiska Förening
DESCRIPTION:Torsdag 7 november\, kl 18:00-20:00\nLennart Hermansson har besökt Karibien tre gånger\, på de två öarna Aruba och Guadeloupe. Förutom sol och bad blev det en hel del fotografering på fåglar\, t ex hittade jag ett bo för en endemisk art\, Guadeloupespett\, en riktig ”kioskvältare”!!\nVi börjar kl 18:00 i Studiefrämjandets lokaler\, Kungsgatan 37A  i Uddevalla.\nAnmälan senast 5/11: Sussie Carlström 073-690 41 60.
URL:https://birdlife.se/evenemang/semester-och-faglar-i-karibien-bildvisning-bohuslans-ornitologiska-forening/
LOCATION:Studiefrämjandet Uddevalla\, 8WXR+MF Uddevalla
CATEGORIES:2024,Bohuslän,Götaland
GEO:58.3491875;11.9411875
X-APPLE-STRUCTURED-LOCATION;VALUE=URI;X-ADDRESS=Studiefrämjandet Uddevalla 8WXR+MF Uddevalla;X-APPLE-RADIUS=500;X-TITLE=8WXR+MF Uddevalla:geo:11.9411875,58.3491875
END:VEVENT
BEGIN:VEVENT
DTSTART;TZID=Europe/Stockholm:20241031T180000
DTEND;TZID=Europe/Stockholm:20241031T200000
DTSTAMP:20260423T001838
CREATED:20240926T070201Z
LAST-MODIFIED:20240926T070201Z
UID:10001485-1730397600-1730404800@birdlife.se
SUMMARY:Fåglar på Filipinerna (bildvisning) - Bohusläns Ornitologiska Förening
DESCRIPTION:Torsdag 31 oktober\, kl 18:00-20:00\nThomas Carlsson visar bilder från sin och Åsas resa i Filipinerna 2024.\nThomas är en fågelskådare\, som har sett över 3.000 arter i världen\, som gillar att fotografera och som tar oss med på deras resa på några öar bland färgglada fåglar och några endemiska fågelarter.\nDe visar även bilder på miljön och från under vattenytan.\nVi börjar kl 18:00 i Studiefrämjandets lokaler\, Kungsgatan 37A\, i Uddevalla.\nAnmälan senast 29/10: Sussie Carlström 073-690 41 60.
URL:https://birdlife.se/evenemang/faglar-pa-filipinerna-bildvisning-bohuslans-ornitologiska-forening/
LOCATION:Studiefrämjandet Uddevalla\, 8WXR+MF Uddevalla
CATEGORIES:2024,Bohuslän,Götaland
GEO:58.3491875;11.9411875
X-APPLE-STRUCTURED-LOCATION;VALUE=URI;X-ADDRESS=Studiefrämjandet Uddevalla 8WXR+MF Uddevalla;X-APPLE-RADIUS=500;X-TITLE=8WXR+MF Uddevalla:geo:11.9411875,58.3491875
END:VEVENT
BEGIN:VEVENT
DTSTART;TZID=Europe/Stockholm:20231121T180000
DTEND;TZID=Europe/Stockholm:20231121T200000
DTSTAMP:20260423T001838
CREATED:20231101T095742Z
LAST-MODIFIED:20231101T095742Z
UID:10001252-1700589600-1700596800@birdlife.se
SUMMARY:Fototripp i Norge och Sverige - Bildvisning - Bohusläns Ornitologiska Förening
DESCRIPTION:Flatanger\, Dovre\, Runde\, Flatruet\, Fulufjället och Knuthöjdsmossen är några av lokalerna som fotografen Patrik Eld kommer att prata och visa bilder ifrån.\nVi kommer att få höra om denna spännande resa som bjöd på bland annat orrspel från båt\, spelande brushanar från bara några meters håll. Andra arter såsom smålom\, blåhake\, fjällabb och många fler typiska arter kommer vi att få njuta av denna kväll.\nVi börjar kl 18:00 i Studiefrämjandets lokaler\, Kungsgatan 37A\, Uddevalla. Kostnad 30:- och fika ingår.\nAnmälan senast 19/11 (begränsat antal deltagare): Sussie Carlström 073-690 41 60.
URL:https://birdlife.se/evenemang/fototripp-i-norge-och-sverige-bildvisning-bohuslans-ornitologiska-forening/
LOCATION:Studiefrämjandet Uddevalla\, 8WXR+MF Uddevalla
CATEGORIES:Bohuslän,Götaland
GEO:58.3491875;11.9411875
X-APPLE-STRUCTURED-LOCATION;VALUE=URI;X-ADDRESS=Studiefrämjandet Uddevalla 8WXR+MF Uddevalla;X-APPLE-RADIUS=500;X-TITLE=8WXR+MF Uddevalla:geo:11.9411875,58.3491875
END:VEVENT
BEGIN:VEVENT
DTSTART;TZID=Europe/Stockholm:20231115T180000
DTEND;TZID=Europe/Stockholm:20231115T200000
DTSTAMP:20260423T001838
CREATED:20231101T095655Z
LAST-MODIFIED:20231101T095655Z
UID:10001250-1700071200-1700078400@birdlife.se
SUMMARY:Västra Papua\, Nya Guinea - Bildvisning - Bohusläns Ornitologiska Förening
DESCRIPTION:Thomas Carlsson visar bilder från hans och Åsas resa\, i västra Papua\, Nya Guinea. Thomas besökte ögruppen förra året 2022 och där fotade han bland annat paradisfåglar och kronduvor.\nVi börjar kl 18:00 i Studiefrämjandets lokaler\, Kungsgatan 37A\, Uddevalla. Kostnad 30:- och fika ingår.\nAnmälan senast 13/11 (begränsat antal deltagare: Sussie Carlström 073-690 41 60.
URL:https://birdlife.se/evenemang/vastra-papua-nya-guinea-bildvisning-bohuslans-ornitologiska-forening/
LOCATION:Studiefrämjandet Uddevalla\, 8WXR+MF Uddevalla
CATEGORIES:Bohuslän,Götaland
GEO:58.3491875;11.9411875
X-APPLE-STRUCTURED-LOCATION;VALUE=URI;X-ADDRESS=Studiefrämjandet Uddevalla 8WXR+MF Uddevalla;X-APPLE-RADIUS=500;X-TITLE=8WXR+MF Uddevalla:geo:11.9411875,58.3491875
END:VEVENT
BEGIN:VEVENT
DTSTART;TZID=Europe/Stockholm:20231109T180000
DTEND;TZID=Europe/Stockholm:20231109T200000
DTSTAMP:20260423T001838
CREATED:20231101T095555Z
LAST-MODIFIED:20231101T095555Z
UID:10001247-1699552800-1699560000@birdlife.se
SUMMARY:Varför en lokal blir en fågellokal - Bildvisning - Bohusläns Ornitologiska Förening
DESCRIPTION:Lennart Hermansson visar bilder och pratar om året vid Sjöritsälvens utflöde i Färlevfjorden med fokus på ”Varför en lokal blir en fågellokal”.\nVi börjar kl 18:00 i Studiefrämjandets lokaler\, Kungsgatan 37A\, Uddevalla.\nKostnad 30:- och fika ingår.\nAnmälan senast 7/11 (begränsat antal deltagare): Sussie Carlström 073-690 41 60.
URL:https://birdlife.se/evenemang/varfor-en-lokal-blir-en-fagellokal-bildvisning-bohuslans-ornitologiska-forening/
LOCATION:Studiefrämjandet Uddevalla\, 8WXR+MF Uddevalla
CATEGORIES:Bohuslän,Götaland
GEO:58.3491875;11.9411875
X-APPLE-STRUCTURED-LOCATION;VALUE=URI;X-ADDRESS=Studiefrämjandet Uddevalla 8WXR+MF Uddevalla;X-APPLE-RADIUS=500;X-TITLE=8WXR+MF Uddevalla:geo:11.9411875,58.3491875
END:VEVENT
BEGIN:VEVENT
DTSTART;TZID=Europe/Stockholm:20230208T180000
DTEND;TZID=Europe/Stockholm:20230208T200000
DTSTAMP:20260423T001838
CREATED:20230125T143125Z
LAST-MODIFIED:20230125T143132Z
UID:10000885-1675879200-1675886400@birdlife.se
SUMMARY:Specifikt i Artportalen - Bohusläns Ornitologiska Förening
DESCRIPTION:Onsdag 8 februari\, kl 18:00-ca 20:00\nSara Elg och Per Saarinen från Rrk Bohuslän kommer att gå igenom några  specifika funktioner i Artportalen. Hur man skapar egna fyndlokaler\, lokalers noggrannhet och rapportering med häckningskriterier. Vi kommer även prata om vad dokumentationskrav innebär och hur man fyller i en raritetsrapport. \nKostnad 30:- och fika ingår.\nVi börjar kl 18:00 i Studiefrämjandets lokaler\, Kungsgatan 37A\, Uddevalla.\nAnmälan senast 6/2: Sussie Carlström 073-690 41 60.
URL:https://birdlife.se/evenemang/specifikt-i-artportalen-bohuslans-ornitologiska-forening/
LOCATION:Studiefrämjandet Uddevalla\, 8WXR+MF Uddevalla
CATEGORIES:Bohuslän,Götaland
GEO:58.3491875;11.9411875
X-APPLE-STRUCTURED-LOCATION;VALUE=URI;X-ADDRESS=Studiefrämjandet Uddevalla 8WXR+MF Uddevalla;X-APPLE-RADIUS=500;X-TITLE=8WXR+MF Uddevalla:geo:11.9411875,58.3491875
END:VEVENT
BEGIN:VEVENT
DTSTART;TZID=Europe/Stockholm:20221212T180000
DTEND;TZID=Europe/Stockholm:20221212T200000
DTSTAMP:20260423T001838
CREATED:20221018T140345Z
LAST-MODIFIED:20221018T140345Z
UID:10000310-1670868000-1670875200@birdlife.se
SUMMARY:ARTPORTALEN m.m. - Bohusläns Ornitologiska Förening
DESCRIPTION:Måndag 12 december\, kl 18:00-20:00\nDetta är lämpligt för er som redan har er konto och som vill lära er mera. Hur man lägger till en ljudfil och foton till en observation. Vi går igenom olika sökfunktioner och hur man sorterar på ett bra sätt i Artportalen. Visning sker även på hur man rapporterar via mobiltelefonen; artportalen\, checklist och seglaren. Vi berättar skillnader mellan Band\, WhatsApp och BirdAlarm. Finns intresse visar vi hur man ställer in kriterier i olika landskap i BirdAlarm.\nFöredragshållare är Per Wohlin och Sussie Carlström.\nVi börjar kl 18:00 i Studiefrämjandets lokaler\, Kungsgatan 37A\, Uddevalla. Kostnad 30:- och fika ingår.\nAnmälan senast 10/12: Sussie Carlström 073-690 41 60.
URL:https://birdlife.se/evenemang/artportalen-m-m-bohuslans-ornitologiska-forening/
LOCATION:Studiefrämjandet Uddevalla\, 8WXR+MF Uddevalla
CATEGORIES:Bohuslän,Götaland
GEO:58.3491875;11.9411875
X-APPLE-STRUCTURED-LOCATION;VALUE=URI;X-ADDRESS=Studiefrämjandet Uddevalla 8WXR+MF Uddevalla;X-APPLE-RADIUS=500;X-TITLE=8WXR+MF Uddevalla:geo:11.9411875,58.3491875
END:VEVENT
BEGIN:VEVENT
DTSTART;TZID=Europe/Stockholm:20221206T180000
DTEND;TZID=Europe/Stockholm:20221206T200000
DTSTAMP:20260423T001838
CREATED:20221018T140113Z
LAST-MODIFIED:20221018T140113Z
UID:10000306-1670349600-1670356800@birdlife.se
SUMMARY:RAPPORTERING I ARTPORTALEN med Rrk - Bohusläns Ornitologiska Förening
DESCRIPTION:Tisdag 6 december\, kl 18:00-ca 20:00\nVi kommer bland annat att gå igenom hur man skapar egna fyndlokaler\, lokalers noggrannhet och rapportering med häckningskriterier. Vi kommer även prata om vad dokumentationskrav innebär och hur det ser ut när man fyller i en raritetsrapport.\nFöredragshållare är Sara Elg och Per Saarinen\, Rrk Bohuslän.\nVi börjar kl 18:00 i Studiefrämjandets lokaler\, Kungsgatan 37A\, Uddevalla.\nKostnad 30:- och fika ingår. \nAnmälan senast 4/12: Sussie Carlström 073-690 41 60.
URL:https://birdlife.se/evenemang/rapportering-i-artportalen-med-rrk-bohuslans-ornitologiska-forening/
LOCATION:Studiefrämjandet Uddevalla\, 8WXR+MF Uddevalla
CATEGORIES:Bohuslän,Götaland
GEO:58.3491875;11.9411875
X-APPLE-STRUCTURED-LOCATION;VALUE=URI;X-ADDRESS=Studiefrämjandet Uddevalla 8WXR+MF Uddevalla;X-APPLE-RADIUS=500;X-TITLE=8WXR+MF Uddevalla:geo:11.9411875,58.3491875
END:VEVENT
BEGIN:VEVENT
DTSTART;TZID=Europe/Stockholm:20221129T180000
DTEND;TZID=Europe/Stockholm:20221129T200000
DTSTAMP:20260423T001838
CREATED:20221018T135836Z
LAST-MODIFIED:20221018T135836Z
UID:10000302-1669744800-1669752000@birdlife.se
SUMMARY:ARTPORTALEN FÖR NYBÖRJARE - Bohusläns Ornitologiska Förening
DESCRIPTION:Tisdag 29 november\, kl 18:00-20:00\nEn kväll för både er som inte kommit i gång och för er som är i gång men tycker att det är besvärligt. Vi går igenom grundinställningarna och sedan hur man rapporterar. Vi pratar om varför man kan behöva dölja sin observation och visar hur man gör. Hur man lägger till medobservatörer och hur tar man bort sig själv från obsar. Vi kikar på Mina sidor\, lokaler\, landskap. Vi hjälper er som inte har konto\, att skapa eget konto\, före och efter föredraget\, meddela vid anmälan. Föredragshållare är Per Wohlin och Sussie Carlström. \nVi börjar kl 18:00 i Studiefrämjandets lokaler\, Kungsgatan 37A\, Uddevalla. \nKostnad 30:- och fika ingår.\nAnmälan senast 27/11: Sussie Carlström 073-690 41 60.
URL:https://birdlife.se/evenemang/artportalen-for-nyborjare-bohuslans-ornitologiska-forening-2/
LOCATION:Studiefrämjandet Uddevalla\, 8WXR+MF Uddevalla
CATEGORIES:Bohuslän,Götaland
GEO:58.3491875;11.9411875
X-APPLE-STRUCTURED-LOCATION;VALUE=URI;X-ADDRESS=Studiefrämjandet Uddevalla 8WXR+MF Uddevalla;X-APPLE-RADIUS=500;X-TITLE=8WXR+MF Uddevalla:geo:11.9411875,58.3491875
END:VEVENT
BEGIN:VEVENT
DTSTART;TZID=Europe/Stockholm:20221122T180000
DTEND;TZID=Europe/Stockholm:20221122T200000
DTSTAMP:20260423T001838
CREATED:20221018T135721Z
LAST-MODIFIED:20221018T135721Z
UID:10000682-1669140000-1669147200@birdlife.se
SUMMARY:FÅGELQUIZ - Bohusläns Ornitologiska Förening
DESCRIPTION:Tisdag 22 november\, kl 18:00-20:00\nKom och var med på en fågelquiz för dig som vill testa dina kunskaper i artbestämning\, utbredning\, läten m.m.\nVi börjar kl 18:00 i Studiefrämjandets lokaler\, Kungsgatan 37A\, Uddevalla.\nKostnad 30:- och fika ingår.\nAnmälan senast 20/11: Per Wohlin och Sussie Carlström 073-690 41 60.
URL:https://birdlife.se/evenemang/fagelquiz-bohuslans-ornitologiska-forening-2/
LOCATION:Studiefrämjandet Uddevalla\, 8WXR+MF Uddevalla
CATEGORIES:Bohuslän,Götaland
GEO:58.3491875;11.9411875
X-APPLE-STRUCTURED-LOCATION;VALUE=URI;X-ADDRESS=Studiefrämjandet Uddevalla 8WXR+MF Uddevalla;X-APPLE-RADIUS=500;X-TITLE=8WXR+MF Uddevalla:geo:11.9411875,58.3491875
END:VEVENT
BEGIN:VEVENT
DTSTART;TZID=Europe/Stockholm:20221110T180000
DTEND;TZID=Europe/Stockholm:20221110T200000
DTSTAMP:20260423T001838
CREATED:20221018T135554Z
LAST-MODIFIED:20221018T135554Z
UID:10000671-1668103200-1668110400@birdlife.se
SUMMARY:FLEXIBEL QUIZ - För kvinnor - Bohusläns Ornitologiska Förening
DESCRIPTION:Torsdag 10 november\, kl 18:00-20:00\nEn quiz som är anpassad för olika kunskapsnivåer som gör att det är mer trevligt att träffas och lära sig något nytt än att tävla i kunskap. Vad kan dölja sig i de konstiga bilderna och i lattjolajban lådan? Har du bra minne kanske du vinner i Memoryn? Kan det komma någon rebus?\nVi börjar kl 18:00 i Studiefrämjandets lokaler\, Kungsgatan 37A\, Uddevalla. \nKostnad 30:- och fika ingår.\nAnmälan senast 8/11: Sussie Carlström 073-690 41 60.
URL:https://birdlife.se/evenemang/flexibel-quiz-for-kvinnor-bohuslans-ornitologiska-forening/
LOCATION:Studiefrämjandet Uddevalla\, 8WXR+MF Uddevalla
CATEGORIES:Bohuslän,Götaland
GEO:58.3491875;11.9411875
X-APPLE-STRUCTURED-LOCATION;VALUE=URI;X-ADDRESS=Studiefrämjandet Uddevalla 8WXR+MF Uddevalla;X-APPLE-RADIUS=500;X-TITLE=8WXR+MF Uddevalla:geo:11.9411875,58.3491875
END:VEVENT
BEGIN:VEVENT
DTSTART;TZID=Europe/Stockholm:20220208T180000
DTEND;TZID=Europe/Stockholm:20220208T200000
DTSTAMP:20260423T001838
CREATED:20211102T074834Z
LAST-MODIFIED:20211102T074834Z
UID:10000179-1644343200-1644350400@birdlife.se
SUMMARY:Fågelquiz - Bohusläns Ornitologiska Förening
DESCRIPTION:Kom och var med på en fågelquiz för dig som vill testa dina kunskaper i artbestämning\, utbredning\, läten m.m. \nVi börjar kl 18:00 i Studiefrämjandets lokaler\, Kungsgatan 37\, Uddevalla. \nKostnad 30:-\, fika ingår. \nAnmälan senast 5/2: Per Wohlin & Sussie Carlström 073-690 41 60.
URL:https://birdlife.se/evenemang/fagelquiz-bohuslans-ornitologiska-forening/
LOCATION:Studiefrämjandet Uddevalla\, 8WXR+MF Uddevalla
CATEGORIES:Bohuslän,Götaland
GEO:58.3491875;11.9411875
X-APPLE-STRUCTURED-LOCATION;VALUE=URI;X-ADDRESS=Studiefrämjandet Uddevalla 8WXR+MF Uddevalla;X-APPLE-RADIUS=500;X-TITLE=8WXR+MF Uddevalla:geo:11.9411875,58.3491875
END:VEVENT
END:VCALENDAR