Workbook

Sheet Introduction
A1: Introduction - please see as well the introduction ppt explayning more details! Background: These awareness indicators for forest birds are – by initiative from FSC-Sweden - developed by BirdLife-partners in six countries around the Baltic Sea with BirdLife-Estonia and DOF/BirdLife-Denmark as leads. They should help FSC-Standard-developers in pointing out the most important species to be addressed by soft and hard measures in the standard revisions to come. WHICH specific measures are still to be developed.
A14: When is a species of concerrvation concern? According to the Birds Directive all birds should be taken care of - also in forrestry. For instance deliberate destruction of, or damage to, their nests and eggs or removal of their nests are not allowed. On top of this a broad register of species do need more awareness to avoid negative trends in their population nationally as well as internationally. The Sweedish authorities have for instance pointed out some 62 forrest species to be particulare aware of in forestry – the so called priority species. Takes into consideration as well the international responsibility (IUCN-redlist, Annex I) as the local (national red list and trends in population). In using the same criterion in all six countries a total list of 85 species turns out. The following issues should be taken into consideration when managing forrest where those species occur: The red list status internationally for each of the species (since birds don’t know borders (!)) The Annex I-status at the Birds Directive (since species adopted here always should be taken care of according to legislation – especialy if declining) The relative abundance of each species in each country (if higher abundance than average then higher responsibility) The red list status nationally The trends in population (in short and long term) The rareness (depending on the size of actual population compared to the relative part of territorry in each country) The generation length defined as the awarage age in which the particular species reproduces its self (since species with long generation length turns out to be more vulnerable than others) As awareness indicator for international Red List-status is used the BLI SPEC-classification (reflecting Red List-status worldwide and for Europe the actual population trends as well). Anex I-status is taken from the Birds Directive and it is related to the national Long Term trend in population since countries should be more aware of Annex-I-species in decline than species which population are stabe ore increasing. Relative abundance is simply calculated by dividing the specific country's share of EU-27 territorry into its share of the total EU-27 population of each species. (Sweeden for instance holds 10.19 % of the total territory and 60.1 % of the tottal EU-27-polupaltion of Osprey giving a relative abundance of 60.1/10.19 = 5.96 which means the Osprey is close to 6 times more abundant in Sweeden compared to the average of EU-27)
A34: The Red List-status is taken from the national Red List's respectively. DK, EE, FI and SE uses the IUCN-Red List categories while LV & LT are using their own. Population estimates are from EEA's Eionet database as reported by Memberstates (where 'Long Term' is approximately 1980-2011 and 'Short Term' is app. 1999-2011). Are to be updated in 2018/2019. Rare-ness indicator is simply calculated by dividing the actual population into the amount of pairs which indicates rareness for that particular country (which for DK and EE would be 40 pairs, for LV and LT 60 pairs, for FI 300 pairs and for SE 400 pairs). Average generation length is taken from BirdLife International 2004. For each of the indicators it is indicated whether the awareness needed should be 'Very high', 'High', 'Basic+' or 'Basic' where 'Basic' means at least full filling the requiremnents of the Birds Directive while 'Very high' could be for instance protection (by law) of as well the nest(tree) as its surroundings in a distance of eventually several hundred meters (but where the meassures nedded should be adopted to every each of the species). Se below the ranking of the indicators. See all refrences at the Tab 'Data base' and see Tab 'Index' for instructions to how to navigate in the tool.
A81: Ranking of the awareness indicators
A82: Awareness: | D82: Very high | E82: High | F82: Basic+ | G82: Basic
A83: SPEC | D83: 1 | E83: 2 | F83: 3 | G83: Non-SPEC
A84: Annex I (if Long Term-trend is:) | D84: Declining | E84: Depleted | F84: Stable/Incr. | G84: Not Annex I
A85: Relative abundance, EU27 | D85: >2 | E85: <2 - >1 | F85: <1 - ≥0.5 | G85: <0.5
A86: Red-list (National) | B86: DK, EE, FI, SE/LV, LT | D86: RE, CR/ 0, 1 | E86: EN, VU/ 2, 3 | F86: NT/ 4 | G86: LC/ 5
A87: Trend (population) | B87: Long Term | D87: Declining | E87: Depleted | F87: Stable | G87: Increasing
B88: Short Term | E88: Declining | F88: Stable | G88: Increasing
A89: Rare-ness | D89: >1 | E89: <1 - >0.1 | F89: <0.1 - >0.01 | G89: <0.01
A90: Generations length, year | D90: >10 | E90: <10 - >5 | F90: <5 - >3.3 | G90: <3.3
A92: Please be aware that in this tool a short term decline would not qualify for 'Very high awareness' on its own.

Sheet Index
A1: In the following tabs you will find:
A2: Awareness indicators: | C2: Awareness indicators for the 85 forrest species (listed below) in six countries.
A3: Data Base: | C3: The total data base from where the Indicator-tab selects its data and where you could find more information on each species
A4: Supplements: | C4: The list of 23 species supplementing the original Swedish list of 'Priority species' (and reasons for supplementing)
A5: Candidates: | C5: The list of 12 species which are candidating to be 'Priority species' due to trends in population.
A6: Protection: | C6: The database on protection of nests and surroundings for each species and each country (to be completed)
A7: Countries: | C7: Data on area etc. of EU-27countries.
A9: How to navigate:
A10: Below you find a total list of the 85 species analysed organised systematically by Euring-number and to the right you find the the number of the lines in which the particular species are reported in the Awareness Indicator as well as in the databases (on species and protection)
A13: By using the provided sorting operations you could sort the list for instance alphabetically by name (English or Scientific) or by Index-no., resulting in a list in the new systematic order (Fjelsaa et. al).
A16: For some species new scientific names are used. Find the old ones in collumn 'Alternative Scientific name'.
F18: Line number
A19: Index | B19: Euring | C19: Scientific name | D19: (Alternative) Scientific name | E19: English name | F19: Awareness indicator | G19: Data-base
A20: H169-13-00 | B20: 20 | C20: Gavia stellata | E20: Red-throated Diver | F20: 2 | G20: 3
A21: H182-10-00 | B21: 1310 | C21: Ciconia nigra | E21: Black Stork | F21: 15 | G21: 4
A22: H009-06-00 | B22: 1540 | C22: Cygnus cygnus | E22: Whooper Swan | F22: 28 | G22: 5
A23: H010-09-00 | B23: 1570 | C23: Anser fabalis | E23: Bean Goose | F23: 41 | G23: 6
A24: H012-01-00 | B24: 2180 | C24: Bucephala clangula | E24: Common Goldeneye | F24: 54 | G24: 7
A25: H012-03-00 | B25: 2200 | C25: Mergellus albellus | E25: Smew | F25: 67 | G25: 8
A26: H235-06-00 | B26: 2310 | C26: Pernis apivorus | E26: European Honey Buzzard | F26: 81 | G26: 9
A27: H250-02-00 | B27: 2380 | C27: Milvus migrans | E27: Black Kite | F27: 94 | G27: 10
A28: H250-01-00 | B28: 2390 | C28: Milvus milvus | E28: Red Kite | F28: 107 | G28: 11
A29: H249-08-00 | B29: 2430 | C29: Haliaeetus albicilla | E29: White-tailed Sea Eagle | F29: 120 | G29: 12
A30: H238-08-00 | B30: 2560 | C30: Circaetus gallicus | E30: Short-toed Eagle | F30: 133 | G30: 13
A31: H248-06-00 | B31: 2670 | C31: Accipiter gentilis | E31: Nothern Gooshawk | F31: 146 | G31: 14
... A33: H254-09-00 | B33: 2900 | C33: Buteo lagopus | E33: Rough-legged Buzzard | F33: 172 | G33: 16
A34: H241-08-00 | B34: 2920 | C34: Clanga pomarina | D34: Aquila pomarina | E34: Lesser Spotted Eagle | F34: 185 | G34: 17
A35: H241-10-00 | B35: 2930 | C35: Clanga clanga | D35: Aquila clanga | E35: Greater Spotted Eagle | F35: 198 | G35: 18
A36: H242-04-00 | B36: 2960 | C36: Aquila chrysaetos | E36: Golden Eagle | F36: 211 | G36: 19
A37: H234-02-00 | B37: 3010 | C37: Pandion haliaetus | E37: Osprey | F37: 224 | G37: 20
A38: H349-10-00 | B38: 3040 | C38: Falco tinnunculus | E38: Common Kestrel | F38: 237 | G38: 21
A39: H351-03-00 | B39: 3090 | C39: Falco columbarius | E39: Merlin | F39: 250 | G39: 22
A40: H351-07-00 | B40: 3100 | C40: Falco subbuteo | E40: Eurasian Hobby | F40: 263 | G40: 23
A41: H352-08-00 | B41: 3200 | C41: Falco peregrinus | E41: Peregrine Falcon | F41: 276 | G41: 24
A42: H045-02-00 | B42: 3260 | C42: Bonasa bonasia | E42: Nothern Hazel-Grouse | F42: 289 | G42: 25
A43: H045-04-00 | B43: 3290 | C43: Lagopus lagopus | E43: Willow Grouse | F43: 302 | G43: 26
A44: H047-06-00 | B44: 3320 | C44: Lyrurus tetrix | D44: Tetrao tetrix | E44: Eurasian Black Grouse | F44: 315 | G44: 27
A45: H047-04-00 | B45: 3350 | C45: Tetrao urogallus | E45: Western Capercaillie | F45: 328 | G45: 28
A46: H165-07-00 | B46: 4330 | C46: Grus grus | E46: Common Crane | F46: 341 | G46: 29
A47: H216-03-00 | B47: 5530 | C47: Tringa ochropus | E47: Green Sandpiper | F47: 354 | G47: 30
A48: H053-05-00 | B48: 6680 | C48: Columba oenas | E48: Stock Dove | F48: 367 | G48: 31
A49: H055-04-00 | B49: 6870 | C49: Streptopelia turtur | E49: European Turtle Dove | F49: 380 | G49: 32
A50: H275-01-00 | B50: 7440 | C50: Bubo bubo | E50: Eurasian Eagle Owl | F50: 393 | G50: 33
A51: H260-11-00 | B51: 7500 | C51: Surnia ulula | E51: Hawk Owl | F51: 406 | G51: 34
A52: H260-12-00 | B52: 7510 | C52: Glaucidium passerinum | E52: Eurasian Pygmy Owl | F52: 419 | G52: 35
A53: H274-02-00 | B53: 7650 | C53: Strix uralensis | E53: Ural Owl | F53: 432 | G53: 36
A54: H274-03-00 | B54: 7660 | C54: Strix nebulosa | E54: Great Grey Owl | F54: 445 | G54: 37
A55: H264-04-00 | B55: 7700 | C55: Aegolius funereus | E55: Tengmalm's Owl | F55: 458 | G55: 38
A56: H091-04-00 | B56: 7780 | C56: Caprimulgus europaeus | E56: European Nightjar | F56: 471 | G56: 39
... A83: M603-08-00 | B83: 13480 | C83: Ficedula albicollis | E83: Collared Flycatcher | F83: 822 | G83: 66
A84: M428-07-00 | B84: 14400 | C84: Poecile palustris | D84: Parus palustris | E84: Marsh Tit | F84: 835 | G84: 67
A85: M429-03-00 | B85: 14420 | C85: Poecile montanus | D85: Parus montanus | E85: Willow Tit | F85: 848 | G85: 68
A86: M430-02-00 | B86: 14480 | C86: Poecile cinctus | D86: Parus cinctus | E86: Siberian Tit | F86: 861 | G86: 69
A87: M428-01-00 | B87: 14540 | C87: Lophophanes cristatus | D87: Parus cristatus | E87: Crested Tit | F87: 874 | G87: 70
A88: M426-07-00 | B88: 14610 | C88: Periparus ater | D88: Parus ater | E88: Coal Tit | F88: 887 | G88: 71
A89: M552-03-00 | B89: 14790 | C89: Sitta europaea | E89: Eurasian Nuthatch | F89: 900 | G89: 72
A90: M204-03-00 | B90: 15080 | C90: Oriolus oriolus | E90: Eurasian Golden Oriole | F90: 913 | G90: 73
A91: M226-09-00 | B91: 15150 | C91: Lanius collurio | E91: Red-backed Shrike | F91: 926 | G91: 74
A92: M232-01-00 | B92: 15430 | C92: Perisoreus infaustus | E92: Siberian Jay | F92: 939 | G92: 75
A93: M234-04-00 | B93: 15570 | C93: Nucifraga caryocatactes | E93: Eurasian Nutcrakcer | F93: 952 | G93: 76
A94: M573-08-00 | B94: 15820 | C94: Sturnus vulgaris | E94: Common Starling | F94: 965 | G94: 77
A95: N316-02-00 | B95: 16380 | C95: Fringilla montifringilla | E95: Brambling | F95: 978 | G95: 78
A96: N334-01-00 | B96: 16400 | C96: Serinus serinus | E96: European Serin | F96: 991 | G96: 79
A97: N328-06-00 | B97: 16490 | C97: Carduelis chloris | E97: European Greenfinch | F97: 1004 | G97: 80
A98: N332-08-00 | B98: 16660 | C98: Loxia curvirostra | E98: Red Crossbill | F98: 1017 | G98: 81
A99: N323-01-00 | B99: 16790 | C99: Carpodacus erythrinus | E99: Common Rosefinch | F99: 1030 | G99: 82
A100: N325-10-00 | B100: 17100 | C100: Pyrrhula pyrrhula | E100: Eurasian Bullfinch | F100: 1043 | G100: 83
... A104: N356-08-00 | B104: 18770 | C104: Emberiza schoeniclus | E104: Reed Bunting | F104: 1095 | G104: 87

Sheet Awareness indicators
A1: Line | B1: Scientific name | C1: English name | D1: Awareness Indicators | F1: General | G1: Denmark | M1: Estonia | S1: Finland | Y1: Latvia | AE1: Lithuania | AK1: Sweeden
A2: 3 | B2: ='Data base'!C$3 -> Gavia stellata | C2: ='Data base'!D3 -> Red-throated Diver | D2: Awareness: | G2: Not breed. | H2: Very high | I2: High | J2: Basic+ | K2: Basic | M2: Not breed. | N2: Very high | O2: High | P2: Basic+ | Q2: Basic | T2: Very high | U2: High | V2: Basic+ | W2: Basic | Y2: Not breed. | Z2: Very high | AA2: High | AB2: Basic+ | AC2: Basic | AE2: Not breed. | AF2: Very high | AG2: High | AH2: Basic+ | AI2: Basic | AL2: Very high | AM2: High | AN2: Basic+ | AO2: Basic
D3: SPEC | F3: ='Data base'!G$3 -> 3 | G3: =$F3 -> 3 | H3: 1 | I3: 2 | J3: 3 | K3: Non-SPEC | M3: =$F3 -> 3 | N3: 1 | O3: 2 | P3: 3 | Q3: Non-SPEC | S3: =$F3 -> 3 | T3: 1 | U3: 2 | V3: 3 | W3: Non-SPEC | Y3: =$F3 -> 3 | Z3: 1 | AA3: 2 | AB3: 3 | AC3: Non-SPEC | AE3: =$F3 -> 3 | AF3: 1 | AG3: 2 | AH3: 3 | AI3: Non-SPEC | AK3: =$F3 -> 3 | AL3: 1 | AM3: 2 | AN3: 3 | AO3: Non-SPEC
D4: Annex I (if Long Term-trend is:) | F4: ='Data base'!J$3 -> x | G4: =$F4 -> x | H4: Declining | I4: Depleted | J4: Stable/Incr. | K4: Not Annex I | M4: =$F4 -> x | N4: Declining | O4: Depleted | P4: Stable/Incr. | Q4: Not Annex I | S4: =$F4 -> x | T4: Declining | U4: Depleted | V4: Stable/Incr. | W4: Not Annex I | Y4: =$F4 -> x | Z4: Declining | AA4: Depleted | AB4: Stable/Incr. | AC4: Not Annex I | AE4: =$F4 -> x | AF4: Declining | AG4: Depleted | AH4: Stable/Incr. | AI4: Not Annex I | AK4: =$F4 -> x | AL4: Declining | AM4: Depleted | AN4: Stable/Incr. | AO4: Not Annex I
D5: Relative abundance, EU27 | G5: ='Data base'!S3 -> 0 | H5: >2 | I5: <2 - >1 | J5: <1 - ≥0.5 | K5: <0.5 | M5: ='Data base'!AB3 -> 0 | N5: >2 | O5: <2 - >1 | P5: <1 - ≥0.5 | Q5: <0.5 | S5: ='Data base'!AK3 -> 3.5554075 | T5: >2 | U5: <2 - >1 | V5: <1 - ≥0.5 | W5: <0.5 | Y5: ='Data base'!AT3 -> 0 | Z5: >2 | AA5: <2 - >1 | AB5: <1 - ≥0.5 | AC5: <0.5 | AE5: ='Data base'!BC3 -> 0 | AF5: >2 | AG5: <2 - >1 | AH5: <1 - ≥0.5 | AI5: <0.5 | AK5: ='Data base'!BM3 -> 3.9459573 | AL5: >2 | AM5: <2 - >1 | AN5: <1 - ≥0.5 | AO5: <0.5
D6: Red-list (National) | E6: DK, EE, FI, SE/LV, LT | H6: RE, CR/ 0, 1 | I6: EN, VU/ 2, 3 | J6: NT/ 4 | K6: LC/ 5 | M6: ='Data base'!T3 -> RE | N6: RE, CR/ 0, 1 | O6: EN, VU/ 2, 3 | P6: NT/ 4 | Q6: LC/ 5 | S6: ='Data base'!AC3 -> - | T6: RE, CR/ 0, 1 | U6: EN, VU/ 2, 3 | V6: NT/ 4 | W6: LC/ 5 | Y6: ='Data base'!AL3 -> 0 | Z6: RE, CR/ 0, 1 | AA6: EN, VU/ 2, 3 | AB6: NT/ 4 | AC6: LC/ 5 | AE6: ='Data base'!AU3 -> - | AF6: RE, CR/ 0, 1 | AG6: EN, VU/ 2, 3 | AH6: NT/ 4 | AI6: LC/ 5 | AK6: ='Data base'!BD3 -> NT | AL6: RE, CR/ 0, 1 | AM6: EN, VU/ 2, 3 | AN6: NT/ 4 | AO6: LC/ 5
D7: Trend (population) | E7: Long Term | H7: Declining | I7: Depleted | J7: Stable | K7: Increasing | M7: ='Data base'!Y3 -> - | N7: Declining | O7: Depleted | P7: Stable | Q7: Increasing | S7: ='Data base'!AH3 -> + (67 - 150) | T7: Declining | U7: Depleted | V7: Stable | W7: Increasing | Y7: ='Data base'!AQ3 -> - | Z7: Declining | AA7: Depleted | AB7: Stable | AC7: Increasing | AE7: ='Data base'!AZ3 -> - | AF7: Declining | AG7: Depleted | AH7: Stable | AI7: Increasing | AK7: ='Data base'!BJ3 -> - (10 - 20) | AL7: Declining | AM7: Depleted | AN7: Stable | AO7: Increasing
E8: Short Term | I8: Declining | J8: Stable | K8: Increasing | M8: ='Data base'!X3 -> - | O8: Declining | P8: Stable | Q8: Increasing | S8: ='Data base'!AG3 -> + (27 - 44) | U8: Declining | V8: Stable | W8: Increasing | Y8: ='Data base'!AP3 -> - | AA8: Declining | AB8: Stable | AC8: Increasing | AE8: ='Data base'!AY3 -> - | AG8: Declining | AH8: Stable | AI8: Increasing | AK8: ='Data base'!BI3 -> 0 | AM8: Declining | AN8: Stable | AO8: Increasing
D9: Rare-ness | H9: >1 | I9: <1 - >0.1 | J9: <0.1 - >0.01 | K9: <0.01 | M9: ='Data base'!W3 -> #DIV/0! | N9: >1 | O9: <1 - >0.1 | P9: <0.1 - >0.01 | Q9: <0.01 | S9: ='Data base'!AF3 -> 0.4 | T9: >1 | U9: <1 - ≥0.1 | V9: <0.1 - >0.01 | W9: <0.01 | Y9: ='Data base'!AO3 -> #DIV/0! | Z9: >1 | AA9: <1 - >0.1 | AB9: <0.1 - >0.01 | AC9: <0.01 | AE9: ='Data base'!AX3 -> #DIV/0! | AF9: >1 | AG9: <1 - >0.1 | AH9: <0.1 - >0.01 | AI9: <0.01 | AK9: ='Data base'!BH3 -> 0.30769231 | AL9: >1 | AM9: <1 - ≥0.1 | AN9: <0.1 - >0.01 | AO9: <0.01
D10: Generations length, year | F10: ='Data base'!E$3 -> 7 | G10: =$F10 -> 7 | H10: >10 | I10: <10 - >5 | J10: <5 - >3.3 | K10: <3.3 | M10: =$F10 -> 7 | N10: >10 | O10: <10 - >5 | P10: <5 - >3.3 | Q10: <3.3 | S10: =$F10 -> 7 | T10: >10 | U10: <10 - >5 | V10: <5 - >3.3 | W10: <3.3 | Y10: =$F10 -> 7 | Z10: >10 | AA10: <10 - >5 | AB10: <5 - >3.3 | AC10: <3.3 | AE10: =$F10 -> 7 | AF10: >10 | AG10: <10 - >5 | AH10: <5 - >3.3 | AI10: <3.3 | AK10: =$F10 -> 7 | AL10: >10 | AM10: <10 - >5 | AN10: <5 - >3.3 | AO10: <3.3
D11: Actual size of population (low assess) | M11: ='Data base'!U3 -> 0 | S11: ='Data base'!AD3 -> 750 | Y11: ='Data base'!AM3 -> 0 | AE11: ='Data base'!AV3 -> 0 | AK11: ='Data base'!BF3 -> 1300
D12: Actual additional protection, nest | M12: =Protection!F3 -> 0 | S12: =Protection!G3 -> 0 | Y12: =Protection!H3 -> 0 | AE12: =Protection!I3 -> 0 | AK12: =Protection!J3 -> Yes
D13: Actual protection, surroundings | M13: =Protection!L3 -> 0 | S13: =Protection!M3 -> none | Y13: =Protection!N3 -> 0 | AE13: =Protection!O3 -> 0 | AK13: =Protection!P3 -> 100-200
A15: 4 | B15: ='Data base'!C4 -> Ciconia nigra | C15: ='Data base'!D4 -> Black Stork | D15: Awareness: | H15: Very high | I15: High | J15: Basic+ | K15: Basic | N15: Very high | O15: High | P15: Basic+ | Q15: Basic | S15: Not breed. | T15: Very high | U15: High | V15: Basic+ | W15: Basic | Z15: Very high | AA15: High | AB15: Basic+ | AC15: Basic | AF15: Very high | AG15: High | AH15: Basic+ | AI15: Basic | AK15: Not breed. | AL15: Very high | AM15: High | AN15: Basic+ | AO15: Basic
D16: SPEC | F16: ='Data base'!G$4 -> 0 | G16: =$F16 -> 0 | H16: 1 | I16: 2 | J16: 3 | K16: Non-SPEC | M16: =$F16 -> 0 | N16: 1 | O16: 2 | P16: 3 | Q16: Non-SPEC | S16: =$F16 -> 0 | T16: 1 | U16: 2 | V16: 3 | W16: Non-SPEC | Y16: =$F16 -> 0 | Z16: 1 | AA16: 2 | AB16: 3 | AC16: Non-SPEC | AE16: =$F16 -> 0 | AF16: 1 | AG16: 2 | AH16: 3 | AI16: Non-SPEC | AK16: =$F16 -> 0 | AL16: 1 | AM16: 2 | AN16: 3 | AO16: Non-SPEC
D17: Annex I (if Long Term-trend is:) | F17: ='Data base'!J4 -> x | G17: =$F17 -> x | H17: Declining | I17: Depleted | J17: Stable/Incr. | K17: Not Annex I | M17: =$F17 -> x | N17: Declining | O17: Depleted | P17: Stable/Incr. | Q17: Not Annex I | S17: =$F17 -> x | T17: Declining | U17: Depleted | V17: Stable/Incr. | W17: Not Annex I | Y17: =$F17 -> x | Z17: Declining | AA17: Depleted | AB17: Stable/Incr. | AC17: Not Annex I | AE17: =$F17 -> x | AF17: Declining | AG17: Depleted | AH17: Stable/Incr. | AI17: Not Annex I | AK17: =$F17 -> x | AL17: Declining | AM17: Depleted | AN17: Stable/Incr. | AO17: Not Annex I
D18: Relative abundance, EU27 | G18: ='Data base'!S4 -> 0 | H18: >2 | I18: <2 - >1 | J18: <1 - ≥0.5 | K18: <0.5 | M18: ='Data base'!AB4 -> 1.172728 | N18: >2 | O18: <2 - ≥1 | P18: <1 - ≥0.5 | Q18: <0.5 | S18: ='Data base'!AK4 -> 0 | T18: >2 | U18: <2 - >1 | V18: <1 - ≥0.5 | W18: <0.5 | Y18: ='Data base'!AT4 -> 2.3951512 | Z18: >2 | AA18: <2 - >1 | AB18: <1 - ≥0.5 | AC18: <0.5 | AE18: ='Data base'!BC4 -> 8.5286602 | AF18: >2 | AG18: <2 - >1 | AH18: <1 - ≥0.5 | AI18: <0.5 | AK18: ='Data base'!BM4 -> 0 | AL18: >2 | AM18: <2 - >1 | AN18: <1 - ≥0.5 | AO18: <0.5
D19: Red-list (National) | E19: DK, EE, FI, SE/LV, LT | G19: ='Data base'!K$4 -> RE | H19: RE, CR/ 0, 1 | I19: EN, VU/ 2, 3 | J19: NT/ 4 | K19: LC/ 5 | M19: ='Data base'!T4 -> EN | N19: RE, CR/ 0, 1 | O19: EN, VU/ 2, 3 | P19: NT/ 4 | Q19: LC/ 5 | S19: ='Data base'!AC4 -> - | T19: RE, CR/ 0, 1 | U19: EN, VU/ 2, 3 | V19: NT/ 4 | W19: LC/ 5 | Y19: ='Data base'!AL4 -> 3 | Z19: RE, CR/ 0, 1 | AA19: EN, VU/ 2, 3 | AB19: NT/ 4 | AC19: LC/ 5 | AE19: ='Data base'!AU4 -> 2 (V) | AF19: RE, CR/ 0, 1 | AG19: EN, VU/ 2, 3 | AH19: NT/ 4 | AI19: LC/ 5 | AK19: ='Data base'!BD4 -> RE | AL19: RE, CR/ 0, 1 | AM19: EN, VU/ 2, 3 | AN19: NT/ 4 | AO19: LC/ 5
D20: Trend (population) | E20: Long Term | G20: ='Data base'!P$4 -> - | H20: Declining | I20: Depleted | J20: Stable | K20: Increasing | M20: ='Data base'!Y4 -> - (50 - 70) | N20: Declining | O20: Depleted | P20: Stable | Q20: Increasing | S20: ='Data base'!AH4 -> - | T20: Declining | U20: Depleted | V20: Stable | W20: Increasing | Y20: ='Data base'!AQ4 -> - (52 - 52) | Z20: Declining | AA20: Depleted | AB20: Stable | AC20: Increasing | AE20: ='Data base'!AZ4 -> - (10 - 43) | AF20: Declining | AG20: Depleted | AH20: Stable | AI20: Increasing | AK20: ='Data base'!BJ4 -> - | AL20: Declining | AM20: Depleted | AN20: Stable | AO20: Increasing
E21: Short Term | G21: ='Data base'!O$4 -> - | I21: Declining | J21: Stable | K21: Increasing | M21: ='Data base'!X4 -> + (20 - 50) | O21: Declining | P21: Stable | Q21: Increasing | S21: ='Data base'!AG4 -> - | U21: Declining | V21: Stable | W21: Increasing | Y21: ='Data base'!AP4 -> - (39 - 39) | AA21: Declining | AB21: Stable | AC21: Increasing | AE21: ='Data base'!AY4 -> 0 | AG21: Declining | AH21: Stable | AI21: Increasing | AK21: ='Data base'!BI4 -> - | AM21: Declining | AN21: Stable | AO21: Increasing
D22: Rare-ness | G22: ='Data base'!N$4 -> - | H22: >1 | I22: <1 - >0.1 | J22: <0.1 - >0.01 | K22: <0.01 | M22: ='Data base'!W4 -> 0.66666667 | N22: >1 | O22: <1 - ≥0.1 | P22: <0.1 - >0.01 | Q22: <0.01 | S22: ='Data base'!AF4 -> #DIV/0! | T22: >1 | U22: <1 - >0.1 | V22: <0.1 - >0.01 | W22: <0.01 | Y22: ='Data base'!AO4 -> 0.33333333 | Z22: >1 | AA22: <1 - ≥0.1 | AB22: <0.1 - >0.01 | AC22: <0.01 | AE22: ='Data base'!AX4 -> 0.098360656 | AF22: >1 | AG22: <1 - >0.1 | AH22: <0.1 - ≥0.01 | AI22: <0.01 | AK22: ='Data base'!BH4 -> #DIV/0! | AL22: >1 | AM22: <1 - >0.1 | AN22: <0.1 - >0.01 | AO22: <0.01
D23: Generations length, year | F23: ='Data base'!E$4 -> 8 | G23: =$F23 -> 8 | H23: >10 | I23: <10 - >5 | J23: <5 - >3.3 | K23: <3.3 | M23: =$F23 -> 8 | N23: >10 | O23: <10 - >5 | P23: <5 - >3.3 | Q23: <3.3 | S23: =$F23 -> 8 | T23: >10 | U23: <10 - >5 | V23: <5 - >3.3 | W23: <3.3 | Y23: =$F23 -> 8 | Z23: >10 | AA23: <10 - >5 | AB23: <5 - >3.3 | AC23: <3.3 | AE23: =$F23 -> 8 | AF23: >10 | AG23: <10 - >5 | AH23: <5 - >3.3 | AI23: <3.3 | AK23: =$F23 -> 8 | AL23: >10 | AM23: <10 - >5 | AN23: <5 - >3.3 | AO23: <3.3
D24: Actual size of population (low assess) | G24: ='Data base'!L$4 -> 0 | M24: ='Data base'!U4 -> 60 | S24: ='Data base'!AD4 -> 0 | Y24: ='Data base'!AM4 -> 180 | AE24: ='Data base'!AV4 -> 610 | AF24: 1 | AG24: 4 | AH24: 2 | AI24: 1 | AJ24: =AF24*4+AG24*3+AH24*2+AI24 -> 21 | AK24: ='Data base'!BF4 -> 0
D25: Actual additional protection, nest | G25: =Protection!E$4 -> All year | M25: =Protection!F4 -> All year | S25: =Protection!G4 -> 0 | Y25: =Protection!H4 -> All year (if micro-res.) | AE25: =Protection!I4 -> 0 | AK25: =Protection!J4 -> Yes
D26: Actual protection, surroundings | G26: =Protection!K$4 -> none | M26: =Protection!L4 -> 250 m, microreserve* | S26: =Protection!M4 -> - | Y26: =Protection!N4 -> Microreserve | AE26: =Protection!O4 -> 0 | AK26: =Protection!P4 -> 500*
A28: 5 | B28: ='Data base'!C5 -> Cygnus cygnus | C28: ='Data base'!D5 -> Whooper Swan | D28: Awareness: | H28: Very high | I28: High | J28: Basic+ | K28: Basic | N28: Very high | O28: High | P28: Basic+ | Q28: Basic | T28: Very high | U28: High | V28: Basic+ | W28: Basic | Z28: Very high | AA28: High | AB28: Basic+ | AC28: Basic | AF28: Very high | AG28: High | AH28: Basic+ | AI28: Basic | AL28: Very high | AM28: High | AN28: Basic+ | AO28: Basic
D29: SPEC | F29: ='Data base'!G5 -> 0 | G29: =$F29 -> 0 | H29: 1 | I29: 2 | J29: 3 | K29: Non-SPEC | M29: =$F29 -> 0 | N29: 1 | O29: 2 | P29: 3 | Q29: Non-SPEC | S29: =$F29 -> 0 | T29: 1 | U29: 2 | V29: 3 | W29: Non-SPEC | Y29: =$F29 -> 0 | Z29: 1 | AA29: 2 | AB29: 3 | AC29: Non-SPEC | AE29: =$F29 -> 0 | AF29: 1 | AG29: 2 | AH29: 3 | AI29: Non-SPEC | AK29: =$F29 -> 0 | AL29: 1 | AM29: 2 | AN29: 3 | AO29: Non-SPEC
D30: Annex I (if Long Term-trend is:) | F30: ='Data base'!J5 -> x | G30: =$F30 -> x | H30: Declining | I30: Depleted | J30: Stable/Incr. | K30: Not Annex I | M30: =$F30 -> x | N30: Declining | O30: Depleted | P30: Stable/Incr. | Q30: Not Annex I | S30: =$F30 -> x | T30: Declining | U30: Depleted | V30: Stable/Incr. | W30: Not Annex I | Y30: =$F30 -> x | Z30: Declining | AA30: Depleted | AB30: Stable/Incr. | AC30: Not Annex I | AE30: =$F30 -> x | AF30: Declining | AG30: Depleted | AH30: Stable/Incr. | AI30: Not Annex I | AK30: =$F30 -> x | AL30: Declining | AM30: Depleted | AN30: Stable/Incr. | AO30: Not Annex I
D31: Relative abundance, EU27 | G31: ='Data base'!S5 -> 0 | H31: >2 | I31: <2 - >1 | J31: <1 - ≥0.5 | K31: <0.5 | M31: ='Data base'!AB5 -> 0.97727337 | N31: >2 | O31: <2 - >1 | P31: <1 - ≥0.5 | Q31: <0.5 | S31: ='Data base'!AK5 -> 7.7643825 | T31: >2 | U31: <2 - >1 | V31: <1 - ≥0.5 | W31: <0.5 | Y31: ='Data base'!AT5 -> 1.3686578 | Z31: >2 | AA31: <2 - ≥1 | AB31: <1 - ≥0.5 | AC31: <0.5 | AE31: ='Data base'!BC5 -> 0.54150224 | AF31: >2 | AG31: <2 - >1 | AH31: <1 - ≥0.5 | AI31: <0.5 | AK31: ='Data base'!BM5 -> 3.5336931 | AL31: >2 | AM31: <2 - >1 | AN31: <1 - ≥0.5 | AO31: <0.5
D32: Red-list (National) | E32: DK, EE, FI, SE/LV, LT | G32: ='Data base'!K5 -> (NA) | H32: RE, CR/ 0, 1 | I32: EN, VU/ 2, 3 | J32: NT/ 4 | K32: LC/ 5 | M32: ='Data base'!T5 -> (NA) | N32: RE, CR/ 0, 1 | O32: EN, VU/ 2, 3 | P32: NT/ 4 | Q32: LC/ 5 | S32: ='Data base'!AC5 -> - | T32: RE, CR/ 0, 1 | U32: EN, VU/ 2, 3 | V32: NT/ 4 | W32: LC/ 5 | Y32: ='Data base'!AL5 -> 3 | Z32: RE, CR/ 0, 1 | AA32: EN, VU/ 2, 3 | AB32: NT/ 4 | AC32: LC/ 5 | AE32: ='Data base'!AU5 -> 3 ( R ) | AF32: RE, CR/ 0, 1 | AG32: EN, VU/ 2, 3 | AH32: NT/ 4 | AI32: LC/ 5 | AK32: ='Data base'!BD5 -> - | AL32: RE, CR/ 0, 1 | AM32: EN, VU/ 2, 3 | AN32: NT/ 4 | AO32: LC/ 5
D33: Trend (population) | E33: Long Term | G33: ='Data base'!P5 -> - | H33: Declining | I33: Depleted | J33: Stable | K33: Increasing | M33: ='Data base'!X5 -> + (50-70) | N33: Declining | O33: Depleted | P33: Stable | Q33: Increasing | S33: ='Data base'!AH5 -> + (508 - 829) | T33: Declining | U33: Depleted | V33: Stable | W33: Increasing | Y33: ='Data base'!AQ5 -> + (1,500 - 3,100) | Z33: Declining | AA33: Depleted | AB33: Stable | AC33: Increasing | AE33: ='Data base'!AZ5 -> + (2,300 - 2,500) | AF33: Declining | AG33: Depleted | AH33: Stable | AI33: Increasing | AK33: ='Data base'!BJ5 -> + (800 - 1,200) | AL33: Declining | AM33: Depleted | AN33: Stable | AO33: Increasing
E34: Short Term | G34: ='Data base'!O5 -> - | I34: Declining | J34: Stable | K34: Increasing | M34: ='Data base'!Y5 -> + (50-70) | O34: Declining | P34: Stable | Q34: Increasing | S34: ='Data base'!AG5 -> + (84 - 153) | U34: Declining | V34: Stable | W34: Increasing | Y34: ='Data base'!AP5 -> + (60 - 88) | AA34: Declining | AB34: Stable | AC34: Increasing | AE34: ='Data base'!AY5 -> + (700 - 800) | AG34: Declining | AH34: Stable | AI34: Increasing | AK34: ='Data base'!BI5 -> + (1 - 51) | AM34: Declining | AN34: Stable | AO34: Increasing
D35: Rare-ness | G35: ='Data base'!N5 -> 13.33 | H35: >1 | I35: <1 - >0.1 | J35: <0.1 - >0.01 | K35: <0.01 | M35: ='Data base'!W5 -> 0.26666667 | N35: >1 | O35: <1 - ≥0.1 | P35: <0.1 - >0.01 | Q35: <0.01 | S35: ='Data base'!AF5 -> 0.035294118 | T35: >1 | U35: <1 - >0.1 | V35: <0.1 - ≥0.01 | W35: <0.01 | Y35: ='Data base'!AO5 -> 0.1875 | Z35: >1 | AA35: <1 - >0.1 | AB35: <0.1 - >0.01 | AC35: <0.01 | AE35: ='Data base'!AX5 -> 0.5 | AF35: >1 | AG35: <1 - ≥0.1 | AH35: <0.1 - >0.01 | AI35: <0.01 | AK35: ='Data base'!BH5 -> 0.085106383 | AL35: >1 | AM35: <1 - >0.1 | AN35: <0.1 - ≥0.01 | AO35: <0.01
D36: Generations length, year | F36: ='Data base'!E5 -> 9 | G36: =$F36 -> 9 | H36: >10 | I36: <10 - >5 | J36: <5 - >3.3 | K36: <3.3 | M36: =$F36 -> 9 | N36: >10 | O36: <10 - >5 | P36: <5 - >3.3 | Q36: <3.3 | S36: =$F36 -> 9 | T36: >10 | U36: <10 - >5 | V36: <5 - >3.3 | W36: <3.3 | Y36: =$F36 -> 9 | Z36: >10 | AA36: <10 - >5 | AB36: <5 - >3.3 | AC36: <3.3 | AE36: =$F36 -> 9 | AF36: >10 | AG36: <10 - >5 | AH36: <5 - >3.3 | AI36: <3.3 | AK36: =$F36 -> 9 | AL36: >10 | AM36: <10 - >5 | AN36: <5 - >3.3 | AO36: <3.3
D37: Actual size of population (low assess) | G37: ='Data base'!L5 -> 3 | M37: ='Data base'!U5 -> 150 | S37: ='Data base'!AD5 -> 8500 | Y37: ='Data base'!AM5 -> 320 | AE37: ='Data base'!AV5 -> 120 | AK37: ='Data base'!BF5 -> 4700
D38: Actual additional protection, nest | G38: =Protection!E5 -> - | M38: =Protection!F5 -> 0 | S38: =Protection!G5 -> 0 | Y38: =Protection!H5 -> 0 | AE38: =Protection!I5 -> 0 | AK38: =Protection!J5 -> Yes
D39: Actual protection, surroundings | G39: =Protection!K5 -> - | M39: =Protection!L5 -> 0 | S39: =Protection!M5 -> none | Y39: =Protection!N5 -> 0 | AE39: =Protection!O5 -> 0 | AK39: =Protection!P5 -> 100-200
A41: 6 | B41: ='Data base'!C6 -> Anser fabalis | C41: ='Data base'!D6 -> Bean Goose | D41: Awareness: | G41: Not breed. | H41: Very high | I41: High | J41: Basic+ | K41: Basic | M41: Not breed. | N41: Very high | O41: High | P41: Basic+ | Q41: Basic | T41: Very high | U41: High | V41: Basic+ | W41: Basic | Y41: Not breed. | Z41: Very high | AA41: High | AB41: Basic+ | AC41: Basic | AE41: Not breed. | AF41: Very high | AG41: High | AH41: Basic+ | AI41: Basic | AL41: Very high | AM41: High | AN41: Basic+ | AO41: Basic
D42: SPEC | F42: ='Data base'!G6 -> 0 | G42: =$F42 -> 0 | H42: 1 | I42: 2 | J42: 3 | K42: Non-SPEC | M42: =$F42 -> 0 | N42: 1 | O42: 2 | P42: 3 | Q42: Non-SPEC | S42: =$F42 -> 0 | T42: 1 | U42: 2 | V42: 3 | W42: Non-SPEC | Y42: =$F42 -> 0 | Z42: 1 | AA42: 2 | AB42: 3 | AC42: Non-SPEC | AE42: =$F42 -> 0 | AF42: 1 | AG42: 2 | AH42: 3 | AI42: Non-SPEC | AK42: =$F42 -> 0 | AL42: 1 | AM42: 2 | AN42: 3 | AO42: Non-SPEC
D43: Annex I (if Long Term-trend is:) | F43: ='Data base'!J6 -> 0 | G43: =$F43 -> 0 | H43: Declining | I43: Depleted | J43: Stable/Incr. | K43: Not Annex I | M43: =$F43 -> 0 | N43: Declining | O43: Depleted | P43: Stable/Incr. | Q43: Not Annex I | S43: =$F43 -> 0 | T43: Declining | U43: Depleted | V43: Stable/Incr. | W43: Not Annex I | Y43: =$F43 -> 0 | Z43: Declining | AA43: Depleted | AB43: Stable/Incr. | AC43: Not Annex I | AE43: =$F43 -> 0 | AF43: Declining | AG43: Depleted | AH43: Stable/Incr. | AI43: Not Annex I | AK43: =$F43 -> 0 | AL43: Declining | AM43: Depleted | AN43: Stable/Incr. | AO43: Not Annex I
D44: Relative abundance, EU27 | G44: ='Data base'!S6 -> 0 | H44: >2 | I44: <2 - >1 | J44: <1 - ≥0.5 | K44: <0.5 | M44: ='Data base'!AB6 -> 0 | N44: >2 | O44: <2 - >1 | P44: <1 - ≥0.5 | Q44: <0.5 | S44: ='Data base'!AK6 -> 8.6270917 | T44: >2 | U44: <2 - >1 | V44: <1 - ≥0.5 | W44: <0.5 | Y44: ='Data base'!AT6 -> 0 | Z44: >2 | AA44: <2 - >1 | AB44: <1 - ≥0.5 | AC44: <0.5 | AE44: ='Data base'!BC6 -> 0 | AF44: >2 | AG44: <2 - >1 | AH44: <1 - ≥0.5 | AI44: <0.5 | AK44: ='Data base'!BM6 -> 3.3373768 | AL44: >2 | AM44: <2 - >1 | AN44: <1 - ≥0.5 | AO44: <0.5
D45: Red-list (National) | E45: DK, EE, FI, SE/LV, LT | H45: RE, CR/ 0, 1 | I45: EN, VU/ 2, 3 | J45: NT/ 4 | K45: LC/ 5 | M45: ='Data base'!T6 -> LC | N45: RE, CR/ 0, 1 | O45: EN, VU/ 2, 3 | P45: NT/ 4 | Q45: LC/ 5 | S45: ='Data base'!AC6 -> VU | T45: RE, CR/ 0, 1 | U45: EN, VU/ 2, 3 | V45: NT/ 4 | W45: LC/ 5 | Y45: ='Data base'!AL6 -> - | Z45: RE, CR/ 0, 1 | AA45: EN, VU/ 2, 3 | AB45: NT/ 4 | AC45: LC/ 5 | AE45: ='Data base'!AU6 -> - | AF45: RE, CR/ 0, 1 | AG45: EN, VU/ 2, 3 | AH45: NT/ 4 | AI45: LC/ 5 | AK45: ='Data base'!BD6 -> NT | AL45: RE, CR/ 0, 1 | AM45: EN, VU/ 2, 3 | AN45: NT/ 4 | AO45: LC/ 5
D46: Trend (population) | E46: Long Term | H46: Declining | I46: Depleted | J46: Stable | K46: Increasing | M46: ='Data base'!X6 -> - | N46: Declining | O46: Depleted | P46: Stable | Q46: Increasing | S46: ='Data base'!AH6 -> x | T46: Declining | U46: Depleted | V46: Stable | W46: Increasing | Y46: ='Data base'!AQ6 -> - | Z46: Declining | AA46: Depleted | AB46: Stable | AC46: Increasing | AE46: ='Data base'!AZ6 -> - | AF46: Declining | AG46: Depleted | AH46: Stable | AI46: Increasing | AK46: ='Data base'!BJ6 -> 0 | AL46: Declining | AM46: Depleted | AN46: Stable | AO46: Increasing
E47: Short Term | I47: Declining | J47: Stable | K47: Increasing | M47: ='Data base'!Y6 -> - | O47: Declining | P47: Stable | Q47: Increasing | S47: ='Data base'!AG6 -> x | U47: Declining | V47: Stable | W47: Increasing | Y47: ='Data base'!AP6 -> - | AA47: Declining | AB47: Stable | AC47: Increasing | AE47: ='Data base'!AY6 -> - | AG47: Declining | AH47: Stable | AI47: Increasing | AK47: ='Data base'!BI6 -> 0 | AM47: Declining | AN47: Stable | AO47: Increasing
D48: Rare-ness | H48: >1 | I48: <1 - >0.1 | J48: <0.1 - >0.01 | K48: <0.01 | M48: ='Data base'!W6 -> #DIV/0! | N48: >1 | O48: <1 - >0.1 | P48: <0.1 - >0.01 | Q48: <0.01 | S48: ='Data base'!AF6 -> 0.3 | T48: >1 | U48: <1 - ≥0.1 | V48: <0.1 - >0.01 | W48: <0.01 | Y48: ='Data base'!AO6 -> #DIV/0! | Z48: >1 | AA48: <1 - >0.1 | AB48: <0.1 - >0.01 | AC48: <0.01 | AE48: ='Data base'!AX6 -> #DIV/0! | AF48: >1 | AG48: <1 - >0.1 | AH48: <0.1 - >0.01 | AI48: <0.01 | AK48: ='Data base'!BH6 -> 0.61538462 | AL48: >1 | AM48: <1 - ≥0.1 | AN48: <0.1 - >0.01 | AO48: <0.01
D49: Generations length, year | F49: ='Data base'!E6 -> 7 | G49: =$F49 -> 7 | H49: >10 | I49: <10 - >5 | J49: <5 - >3.3 | K49: <3.3 | M49: =$F49 -> 7 | N49: >10 | O49: <10 - >5 | P49: <5 - >3.3 | Q49: <3.3 | S49: =$F49 -> 7 | T49: >10 | U49: <10 - >5 | V49: <5 - >3.3 | W49: <3.3 | Y49: =$F49 -> 7 | Z49: >10 | AA49: <10 - >5 | AB49: <5 - >3.3 | AC49: <3.3 | AE49: =$F49 -> 7 | AF49: >10 | AG49: <10 - >5 | AH49: <5 - >3.3 | AI49: <3.3 | AK49: =$F49 -> 7 | AL49: >10 | AM49: <10 - >5 | AN49: <5 - >3.3 | AO49: <3.3
D50: Actual size of population (low assess) | M50: ='Data base'!U6 -> 0 | S50: ='Data base'!AD6 -> 1000 | Y50: ='Data base'!AM6 -> 0 | AE50: ='Data base'!AV6 -> 0 | AK50: ='Data base'!BF6 -> 650
D51: Actual additional protection, nest | M51: =Protection!F6 -> 0 | S51: =Protection!G6 -> 0 | Y51: =Protection!H6 -> 0 | AE51: =Protection!I6 -> 0 | AK51: =Protection!J6 -> Yes
D52: Actual protection, surroundings | M52: =Protection!L6 -> 0 | S52: =Protection!M6 -> none | Y52: =Protection!N6 -> 0 | AE52: =Protection!O6 -> 0 | AK52: =Protection!P6 -> 500
A54: 7 | B54: ='Data base'!C7 -> Bucephala clangula | C54: ='Data base'!D7 -> Common Goldeneye | D54: Awareness: | H54: Very high | I54: High | J54: Basic+ | K54: Basic | N54: Very high | O54: High | P54: Basic+ | Q54: Basic | T54: Very high | U54: High | V54: Basic+ | W54: Basic | Z54: Very high | AA54: High | AB54: Basic+ | AC54: Basic | AF54: Very high | AG54: High | AH54: Basic+ | AI54: Basic | AL54: Very high | AM54: High | AN54: Basic+ | AO54: Basic
D55: SPEC | F55: ='Data base'!G7 -> 0 | G55: =$F55 -> 0 | H55: 1 | I55: 2 | J55: 3 | K55: Non-SPEC | M55: =$F55 -> 0 | N55: 1 | O55: 2 | P55: 3 | Q55: Non-SPEC | S55: 0 | T55: 1 | U55: 2 | V55: 3 | W55: Non-SPEC | Y55: =$F55 -> 0 | Z55: 1 | AA55: 2 | AB55: 3 | AC55: Non-SPEC | AE55: =$F55 -> 0 | AF55: 1 | AG55: 2 | AH55: 3 | AI55: Non-SPEC | AK55: =$F55 -> 0 | AL55: 1 | AM55: 2 | AN55: 3 | AO55: Non-SPEC
D56: Annex I (if Long Term-trend is:) | F56: ='Data base'!J7 -> 0 | G56: =$F56 -> 0 | H56: Declining | I56: Depleted | J56: Stable/Incr. | K56: Not Annex I | M56: =$F56 -> 0 | N56: Declining | O56: Depleted | P56: Stable/Incr. | Q56: Not Annex I | S56: =$F56 -> 0 | T56: Declining | U56: Depleted | V56: Stable/Incr. | W56: Not Annex I | Y56: =$F56 -> 0 | Z56: Declining | AA56: Depleted | AB56: Stable/Incr. | AC56: Not Annex I | AE56: =$F56 -> 0 | AF56: Declining | AG56: Depleted | AH56: Stable/Incr. | AI56: Not Annex I | AK56: =$F56 -> 0 | AL56: Declining | AM56: Depleted | AN56: Stable/Incr. | AO56: Not Annex I
D57: Relative abundance, EU27 | G57: ='Data base'!S7 -> 0.010388003 | H57: >2 | I57: <2 - >1 | J57: <1 - ≥0.5 | K57: <0.5 | M57: ='Data base'!AB7 -> 1.172728 | N57: >2 | O57: <2 - ≥1 | P57: <1 - ≥0.5 | Q57: <0.5 | S57: ='Data base'!AK7 -> 8.9146614 | T57: >2 | U57: <2 - >1 | V57: <1 - ≥0.5 | W57: <0.5 | Y57: ='Data base'!AT7 -> 1.7792552 | Z57: >2 | AA57: <2 - ≥1 | AB57: <1 - ≥0.5 | AC57: <0.5 | AE57: ='Data base'!BC7 -> 0.54150224 | AF57: >2 | AG57: <2 - >1 | AH57: <1 - ≥0.5 | AI57: <0.5 | AK57: ='Data base'!BM7 -> 2.4343219 | AL57: >2 | AM57: <2 - >1 | AN57: <1 - ≥0.5 | AO57: <0.5
D58: Red-list (National) | E58: DK, EE, FI, SE/LV, LT | G58: ='Data base'!K7 -> NT | H58: RE, CR/ 0, 1 | I58: EN, VU/ 2, 3 | J58: NT/ 4 | K58: LC/ 5 | M58: ='Data base'!T7 -> LC | N58: RE, CR/ 0, 1 | O58: EN, VU/ 2, 3 | P58: NT/ 4 | Q58: LC/ 5 | S58: ='Data base'!AC7 -> - | T58: RE, CR/ 0, 1 | U58: EN, VU/ 2, 3 | V58: NT/ 4 | W58: LC/ 5 | Y58: ='Data base'!AL7 -> - | Z58: RE, CR/ 0, 1 | AA58: EN, VU/ 2, 3 | AB58: NT/ 4 | AC58: LC/ 5 | AE58: ='Data base'!AU7 -> - | AF58: RE, CR/ 0, 1 | AG58: EN, VU/ 2, 3 | AH58: NT/ 4 | AI58: LC/ 5 | AK58: ='Data base'!BD7 -> - | AL58: RE, CR/ 0, 1 | AM58: EN, VU/ 2, 3 | AN58: NT/ 4 | AO58: LC/ 5
D59: Trend (population) | E59: Long Term | G59: ='Data base'!P7 -> -90000 | H59: Declining | I59: Depleted | J59: Stable | K59: Increasing | M59: ='Data base'!X7 -> + (20 - 50) | N59: Declining | O59: Depleted | P59: Stable | Q59: Increasing | S59: ='Data base'!AH7 -> 0 | T59: Declining | U59: Depleted | V59: Stable | W59: Increasing | Y59: ='Data base'!AQ7 -> + (100 - 200) | Z59: Declining | AA59: Depleted | AB59: Stable | AC59: Increasing | AE59: ='Data base'!AZ7 -> + (100 - 200) | AF59: Declining | AG59: Depleted | AH59: Stable | AI59: Increasing | AK59: ='Data base'!BJ7 -> 0 | AL59: Declining | AM59: Depleted | AN59: Stable | AO59: Increasing
E60: Short Term | G60: ='Data base'!O7 -> + (50 - 100) | I60: Declining | J60: Stable | K60: Increasing | M60: ='Data base'!Y7 -> + (50 - 70) | O60: Declining | P60: Stable | Q60: Increasing | S60: ='Data base'!AG7 -> - (9 - 20) | U60: Declining | V60: Stable | W60: Increasing | Y60: ='Data base'!AP7 -> + (30 - 100) | AA60: Declining | AB60: Stable | AC60: Increasing | AE60: ='Data base'!AY7 -> + (30 - 100) | AG60: Declining | AH60: Stable | AI60: Increasing | AK60: ='Data base'!BI7 -> - (8 - 34) | AM60: Declining | AN60: Stable | AO60: Increasing
D61: Rare-ness | G61: ='Data base'!N7 -> 0.4 | H61: >1 | I61: <1 - >0.1 | J61: <0.1 - >0.01 | K61: <0.01 | M61: ='Data base'!W7 -> 0.013333333 | N61: >1 | O61: <1 - >0.1 | P61: <0.1 - ≥0.01 | Q61: <0.01 | S61: ='Data base'!AF7 -> 0.0015789474 | T61: >1 | U61: <1 - >0.1 | V61: <0.1 - >0.01 | W61: <0.01 | Y61: ='Data base'!AO7 -> 0.03 | Z61: >1 | AA61: <1 - >0.1 | AB61: <0.1 - ≥0.01 | AC61: <0.01 | AE61: ='Data base'!AX7 -> 0.03 | AF61: >1 | AG61: <1 - >0.1 | AH61: <0.1 - ≥0.01 | AI61: <0.01 | AK61: ='Data base'!BH7 -> 0.0061538462 | AL61: >1 | AM61: <1 - >0.1 | AN61: <0.1 - >0.01 | AO61: <0.01
D62: Generations length, year | F62: ='Data base'!E7 -> 4 | G62: =$F62 -> 4 | H62: >10 | I62: <10 - >5 | J62: <5 - >3.3 | K62: <3.3 | M62: =$F62 -> 4 | N62: >10 | O62: <10 - >5 | P62: <5 - ≥3.3 | Q62: <3.3 | S62: =$F62 -> 4 | T62: >10 | U62: <10 - >5 | V62: <5 - >3.3 | W62: <3.3 | Y62: =$F62 -> 4 | Z62: >10 | AA62: <10 - >5 | AB62: <5 - >3.3 | AC62: <3.3 | AE62: =$F62 -> 4 | AF62: >10 | AG62: <10 - >5 | AH62: <5 - >3.3 | AI62: <3.3 | AK62: =$F62 -> 4 | AL62: >10 | AM62: <10 - >5 | AN62: <5 - >3.3 | AO62: <3.3
D63: Actual size of population (low assess) | G63: ='Data base'!L7 -> 100 | M63: ='Data base'!U7 -> 3000 | S63: ='Data base'!AD7 -> 190000 | Y63: ='Data base'!AM7 -> 2000 | AE63: ='Data base'!AV7 -> 2000 | AK63: ='Data base'!BF7 -> 65000
D64: Actual additional protection, nest | G64: =Protection!E7 -> [01.11-31.08] | M64: =Protection!F7 -> 0 | S64: =Protection!G7 -> 0 | Y64: =Protection!H7 -> 0 | AE64: =Protection!I7 -> 0 | AK64: =Protection!J7 -> ?
D65: Actual protection, surroundings | G65: =Protection!K7 -> none | M65: =Protection!L7 -> ? | S65: =Protection!M7 -> 0 | Y65: =Protection!N7 -> 0 | AE65: =Protection!O7 -> 0 | AK65: =Protection!P7 -> ?
D66: Number of apointed SPA's | G66: =Protection!R7 -> 0 | M66: =Protection!R7 -> 0 | S66: =Protection!S7 -> 0 | Y66: =Protection!T7 -> 0 | AE66: =Protection!U7 -> 0 | AK66: =Protection!V7 -> 0
A68: 8 | B68: ='Data base'!C8 -> Mergellus albellus | C68: ='Data base'!D8 -> Smew | D68: Awareness: | G68: Not breed. | H68: Very high | I68: High | J68: Basic+ | K68: Basic | M68: Not breed. | N68: Very high | O68: High | P68: Basic+ | Q68: Basic | T68: Very high | U68: High | V68: Basic+ | W68: Basic | Y68: Not breed. | Z68: Very high | AA68: High | AB68: Basic+ | AC68: Basic | AE68: Not breed. | AF68: Very high | AG68: High | AH68: Basic+ | AI68: Basic | AL68: Very high | AM68: High | AN68: Basic+ | AO68: Basic
D69: SPEC | F69: ='Data base'!G8 -> 3 | G69: =$F69 -> 3 | H69: 1 | I69: 2 | J69: 3 | K69: Non-SPEC | M69: =$F69 -> 3 | N69: 1 | O69: 2 | P69: 3 | Q69: Non-SPEC | S69: =$F69 -> 3 | T69: 1 | U69: 2 | V69: 3 | W69: Non-SPEC | Y69: =$F69 -> 3 | Z69: 1 | AA69: 2 | AB69: 3 | AC69: Non-SPEC | AE69: =$F69 -> 3 | AF69: 1 | AG69: 2 | AH69: 3 | AI69: Non-SPEC | AK69: =$F69 -> 3 | AL69: 1 | AM69: 2 | AN69: 3 | AO69: Non-SPEC
D70: Annex I (if Long Term-trend is:) | F70: ='Data base'!J8 -> x | G70: =$F70 -> x | H70: Declining | I70: Depleted | J70: Stable/Incr. | K70: Not Annex I | M70: =$F70 -> x | N70: Declining | O70: Depleted | P70: Stable/Incr. | Q70: Not Annex I | S70: =$F70 -> x | T70: Declining | U70: Depleted | V70: Stable/Incr. | W70: Not Annex I | Y70: =$F70 -> x | Z70: Declining | AA70: Depleted | AB70: Stable/Incr. | AC70: Not Annex I | AE70: =$F70 -> x | AF70: Declining | AG70: Depleted | AH70: Stable/Incr. | AI70: Not Annex I | AK70: =$F70 -> x | AL70: Declining | AM70: Depleted | AN70: Stable/Incr. | AO70: Not Annex I
D71: Relative abundance, EU27 | G71: ='Data base'!S8 -> 0 | H71: >2 | I71: <2 - >1 | J71: <1 - ≥0.5 | K71: <0.5 | M71: ='Data base'!AB8 -> 0 | N71: >2 | O71: <2 - >1 | P71: <1 - ≥0.5 | Q71: <0.5 | S71: ='Data base'!AK8 -> 9.0061609 | T71: >2 | U71: <2 - >1 | V71: <1 - ≥0.5 | W71: <0.5 | Y71: ='Data base'!AT8 -> 0 | Z71: >2 | AA71: <2 - >1 | AB71: <1 - ≥0.5 | AC71: <0.5 | AE71: ='Data base'!BC8 -> 0 | AF71: >2 | AG71: <2 - >1 | AH71: <1 - ≥0.5 | AI71: <0.5 | AK71: ='Data base'!BM8 -> 3.0527182 | AL71: >2 | AM71: <2 - >1 | AN71: <1 - ≥0.5 | AO71: <0.5
D72: Red-list (National) | E72: DK, EE, FI, SE/LV, LT | H72: RE, CR/ 0, 1 | I72: EN, VU/ 2, 3 | J72: NT/ 4 | K72: LC/ 5 | M72: ='Data base'!T8 -> (NA) | N72: RE, CR/ 0, 1 | O72: EN, VU/ 2, 3 | P72: NT/ 4 | Q72: LC/ 5 | S72: ='Data base'!AC8 -> - | T72: RE, CR/ 0, 1 | U72: EN, VU/ 2, 3 | V72: NT/ 4 | W72: LC/ 5 | Y72: ='Data base'!AL8 -> - | Z72: RE, CR/ 0, 1 | AA72: EN, VU/ 2, 3 | AB72: NT/ 4 | AC72: LC/ 5 | AE72: ='Data base'!AU8 -> - | AF72: RE, CR/ 0, 1 | AG72: EN, VU/ 2, 3 | AH72: NT/ 4 | AI72: LC/ 5 | AK72: ='Data base'!BD8 -> - | AL72: RE, CR/ 0, 1 | AM72: EN, VU/ 2, 3 | AN72: NT/ 4 | AO72: LC/ 5
D73: Trend (population) | E73: Long Term | H73: Declining | I73: Depleted | J73: Stable | K73: Increasing | M73: ='Data base'!X8 -> - | N73: Declining | O73: Depleted | P73: Stable | Q73: Increasing | S73: ='Data base'!AH8 -> + (67 - 425) | T73: Declining | U73: Depleted | V73: Stable | W73: Increasing | Y73: ='Data base'!AQ8 -> - | Z73: Declining | AA73: Depleted | AB73: Stable | AC73: Increasing | AE73: ='Data base'!AZ8 -> - | AF73: Declining | AG73: Depleted | AH73: Stable | AI73: Increasing | AK73: ='Data base'!BJ8 -> + (60 - 120) | AL73: Declining | AM73: Depleted | AN73: Stable | AO73: Increasing
E74: Short Term | I74: Declining | J74: Stable | K74: Increasing | M74: ='Data base'!Y8 -> - | O74: Declining | P74: Stable | Q74: Increasing | S74: ='Data base'!AG8 -> 0 | U74: Declining | V74: Stable | W74: Increasing | Y74: ='Data base'!AP8 -> - | AA74: Declining | AB74: Stable | AC74: Increasing | AE74: ='Data base'!AY8 -> - | AG74: Declining | AH74: Stable | AI74: Increasing | AK74: ='Data base'!BI8 -> 0 | AM74: Declining | AN74: Stable | AO74: Increasing
D75: Rare-ness | H75: >1 | I75: <1 - >0.1 | J75: <0.1 - >0.01 | K75: <0.01 | M75: ='Data base'!W8 -> #DIV/0! | N75: >1 | O75: <1 - >0.1 | P75: <0.1 - >0.01 | Q75: <0.01 | S75: ='Data base'!AF8 -> 0.15 | T75: >1 | U75: <1 - ≥0.1 | V75: <0.1 - >0.01 | W75: <0.01 | Y75: ='Data base'!AO8 -> #DIV/0! | Z75: >1 | AA75: <1 - >0.1 | AB75: <0.1 - >0.01 | AC75: <0.01 | AE75: ='Data base'!AX8 -> #DIV/0! | AF75: >1 | AG75: <1 - >0.1 | AH75: <0.1 - >0.01 | AI75: <0.01 | AK75: ='Data base'!BH8 -> 0.36363636 | AL75: >1 | AM75: <1 - ≥0.1 | AN75: <0.1 - >0.01 | AO75: <0.01
D76: Generations length, year | F76: ='Data base'!E8 -> 4 | G76: =$F76 -> 4 | H76: >10 | I76: <10 - >5 | J76: <5 - >3.3 | K76: <3.3 | M76: =$F76 -> 4 | N76: >10 | O76: <10 - >5 | P76: <5 - ≥3.3 | Q76: <3.3 | S76: =$F76 -> 4 | T76: >10 | U76: <10 - >5 | V76: <5 - >3.3 | W76: <3.3 | Y76: =$F76 -> 4 | Z76: >10 | AA76: <10 - >5 | AB76: <5 - >3.3 | AC76: <3.3 | AE76: =$F76 -> 4 | AF76: >10 | AG76: <10 - >5 | AH76: <5 - >3.3 | AI76: <3.3 | AK76: =$F76 -> 4 | AL76: >10 | AM76: <10 - >5 | AN76: <5 - >3.3 | AO76: <3.3
D77: Actual size of population (low assess) | L77: =H77*4+I77*3+J77*2+K77 -> 0 | M77: ='Data base'!U8 -> 0 | S77: ='Data base'!AD8 -> 2000 | Y77: ='Data base'!AM8 -> 0 | AE77: ='Data base'!AV8 -> 0 | AK77: ='Data base'!BF8 -> 1100
D78: Actual additional protection, nest | M78: =Protection!F8 -> 0 | S78: =Protection!G8 -> 0 | Y78: =Protection!H8 -> 0 | AE78: =Protection!I8 -> 0 | AK78: =Protection!J8 -> Yes
D79: Actual protection, surroundings | M79: =Protection!L8 -> 0 | S79: =Protection!M8 -> none | Y79: =Protection!N8 -> 0 | AE79: =Protection!O8 -> 0 | AK79: =Protection!P8 -> 100
A81: 9 | B81: ='Data base'!C9 -> Pernis apivorus | C81: ='Data base'!D9 -> European Honey Buzzard | D81: Awareness: | H81: Very high | I81: High | J81: Basic+ | K81: Basic | N81: Very high | O81: High | P81: Basic+ | Q81: Basic | T81: Very high | U81: High | V81: Basic+ | W81: Basic | Z81: Very high | AA81: High | AB81: Basic+ | AC81: Basic | AF81: Very high | AG81: High | AH81: Basic+ | AI81: Basic | AL81: Very high | AM81: High | AN81: Basic+ | AO81: Basic
D82: SPEC | F82: ='Data base'!G9 -> 0 | G82: =$F82 -> 0 | H82: 1 | I82: 2 | J82: 3 | K82: Non-SPEC | M82: =$F82 -> 0 | N82: 1 | O82: 2 | P82: 3 | Q82: Non-SPEC | S82: =$F82 -> 0 | T82: 1 | U82: 2 | V82: 3 | W82: Non-SPEC | Y82: =$F82 -> 0 | Z82: 1 | AA82: 2 | AB82: 3 | AC82: Non-SPEC | AE82: =$F82 -> 0 | AF82: 1 | AG82: 2 | AH82: 3 | AI82: Non-SPEC | AK82: =$F82 -> 0 | AL82: 1 | AM82: 2 | AN82: 3 | AO82: Non-SPEC
D83: Annex I (if Long Term-trend is:) | F83: ='Data base'!J4 -> x | G83: =$F83 -> x | H83: Declining | I83: Depleted | J83: Stable/Incr. | K83: Not Annex I | M83: =$F83 -> x | N83: Declining | O83: Depleted | P83: Stable/Incr. | Q83: Not Annex I | S83: =$F83 -> x | T83: Declining | U83: Depleted | V83: Stable/Incr. | W83: Not Annex I | Y83: =$F83 -> x | Z83: Declining | AA83: Depleted | AB83: Stable/Incr. | AC83: Not Annex I | AE83: =$F83 -> x | AF83: Declining | AG83: Depleted | AH83: Stable/Incr. | AI83: Not Annex I | AK83: =$F83 -> x | AL83: Declining | AM83: Depleted | AN83: Stable/Incr. | AO83: Not Annex I
D84: Relative abundance, EU27 | G84: ='Data base'!S9 -> 1.5582004 | H84: >2 | I84: <2 - >1 | J84: <1 - ≥0.5 | K84: <0.5 | M84: ='Data base'!AB9 -> 1.9545467 | N84: >2 | O84: <2 - ≥1 | P84: <1 - ≥0.5 | Q84: <0.5 | S84: ='Data base'!AK9 -> 0.5620681 | T84: >2 | U84: <2 - >1 | V84: <1 - ≥0.5 | W84: <0.5 | Y84: ='Data base'!AT9 -> 3.0794801 | Z84: >2 | AA84: <2 - >1 | AB84: <1 - ≥0.5 | AC84: <0.5 | AE84: ='Data base'!BC9 -> 1.7598823 | AF84: >2 | AG84: <2 - ≥1 | AH84: <1 - ≥0.5 | AI84: <0.5 | AK84: ='Data base'!BM9 -> 1.1778977 | AL84: >2 | AM84: <2 - ≥1 | AN84: <1 - ≥0.5 | AO84: <0.5
D85: Red-list (National) | E85: DK, EE, FI, SE/LV, LT | G85: ='Data base'!K9 -> - | H85: RE, CR/ 0, 1 | I85: EN, VU/ 2, 3 | J85: NT/ 4 | K85: LC/ 5 | M85: ='Data base'!T9 -> LC | N85: RE, CR/ 0, 1 | O85: EN, VU/ 2, 3 | P85: NT/ 4 | Q85: LC/ 5 | S85: ='Data base'!AC9 -> EN | T85: RE, CR/ 0, 1 | U85: EN, VU/ 2, 3 | V85: NT/ 4 | W85: LC/ 5 | Y85: ='Data base'!AL9 -> - | Z85: RE, CR/ 0, 1 | AA85: EN, VU/ 2, 3 | AB85: NT/ 4 | AC85: LC/ 5 | AE85: ='Data base'!AU9 -> 3 ( R ) | AF85: RE, CR/ 0, 1 | AG85: EN, VU/ 2, 3 | AH85: NT/ 4 | AI85: LC/ 5 | AK85: ='Data base'!BD9 -> NT | AL85: RE, CR/ 0, 1 | AM85: EN, VU/ 2, 3 | AN85: NT/ 4 | AO85: LC/ 5
D86: Trend (population) | E86: Long Term | G86: ='Data base'!P9 -> 0 | H86: Declining | I86: Depleted | J86: Stable | K86: Increasing | M86: ='Data base'!X9 -> - (20 - 50) | N86: Declining | O86: Depleted | P86: Stable | Q86: Increasing | S86: ='Data base'!AH9 -> - (40 - 47) | T86: Declining | U86: Depleted | V86: Stable | W86: Increasing | Y86: ='Data base'!AQ9 -> + ( - 100) | Z86: Declining | AA86: Depleted | AB86: Stable | AC86: Increasing | AE86: ='Data base'!AZ9 -> 0 | AF86: Declining | AG86: Depleted | AH86: Stable | AI86: Increasing | AK86: ='Data base'!BJ9 -> - (30 - 70) | AL86: Declining | AM86: Depleted | AN86: Stable | AO86: Increasing
E87: Short Term | G87: ='Data base'!O9 -> 0 | I87: Declining | J87: Stable | K87: Increasing | M87: ='Data base'!Y9 -> 0 | O87: Declining | P87: Stable | Q87: Increasing | S87: ='Data base'!AG9 -> - (27 - 33) | U87: Declining | V87: Stable | W87: Increasing | Y87: ='Data base'!AP9 -> x | AA87: Declining | AB87: Stable | AC87: Increasing | AE87: ='Data base'!AY9 -> 0 | AG87: Declining | AH87: Stable | AI87: Increasing | AK87: ='Data base'!BI9 -> 0 | AM87: Declining | AN87: Stable | AO87: Increasing
D88: Rare-ness | G88: ='Data base'!N9 -> 0.061538462 | H88: >1 | I88: <1 - >0.1 | J88: <0.1 - >0.01 | K88: <0.01 | M88: ='Data base'!W9 -> 0.044444444 | N88: >1 | O88: <1 - >0.1 | P88: <0.1 - ≥0.01 | Q88: <0.01 | S88: ='Data base'!AF9 -> 0.13636364 | T88: >1 | U88: <1 - ≥0.1 | V88: <0.1 - >0.01 | W88: <0.01 | Y88: ='Data base'!AO9 -> 0.03 | Z88: >1 | AA88: <1 - >0.1 | AB88: <0.1 - ≥0.01 | AC88: <0.01 | AE88: ='Data base'!AX9 -> 0.06 | AF88: >1 | AG88: <1 - >0.1 | AH88: <0.1 - ≥0.01 | AI88: <0.01 | AK88: ='Data base'!BH9 -> 0.076923077 | AL88: >1 | AM88: <1 - >0.1 | AN88: <0.1 - ≥0.01 | AO88: <0.01
D89: Generations length, year | F89: ='Data base'!E9 -> 9 | G89: =$F89 -> 9 | H89: >10 | I89: <10 - >5 | J89: <5 - >3.3 | K89: <3.3 | M89: =$F89 -> 9 | N89: >10 | O89: <10 - >5 | P89: <5 - >3.3 | Q89: <3.3 | S89: =$F89 -> 9 | T89: >10 | U89: <10 - >5 | V89: <5 - >3.3 | W89: <3.3 | Y89: =$F89 -> 9 | Z89: >10 | AA89: <10 - >5 | AB89: <5 - >3.3 | AC89: <3.3 | AE89: =$F89 -> 9 | AF89: >10 | AG89: <10 - >5 | AH89: <5 - >3.3 | AI89: <3.3 | AK89: =$F89 -> 9 | AL89: >10 | AM89: <10 - >5 | AN89: <5 - >3.3 | AO89: <3.3
D90: Actual size of population (low assess) | G90: ='Data base'!L9 -> 650 | M90: ='Data base'!U9 -> 900 | S90: ='Data base'!AD9 -> 2200 | T90: 2 | U90: 4 | V90: 1 | W90: 1 | X90: =T90*4+U90*3+V90*2+W90 -> 23 | Y90: ='Data base'!AM9 -> 2000 | AE90: ='Data base'!AV9 -> 1000 | AK90: ='Data base'!BF9 -> 5200
D91: Actual additional protection, nest | G91: =Protection!E9 -> Breeding | M91: =Protection!F9 -> *** all nests of wild birds) | S91: =Protection!G9 -> 0 | Y91: =Protection!H9 -> 0 | AE91: =Protection!I9 -> 0 | AK91: =Protection!J9 -> Yes
D92: Actual protection, surroundings | G92: =Protection!K9 -> none | M92: =Protection!L9 -> 0 | S92: =Protection!M9 -> none | Y92: =Protection!N9 -> 0 | AE92: =Protection!O9 -> 0 | AK92: =Protection!P9 -> 300
A94: 10 | B94: ='Data base'!C10 -> Milvus migrans | C94: ='Data base'!D10 -> Black Kite | D94: Awareness: | G94: Not breed. | H94: Very high | I94: High | J94: Basic+ | K94: Basic | N94: Very high | O94: High | P94: Basic+ | Q94: Basic | T94: Very high | U94: High | V94: Basic+ | W94: Basic | Z94: Very high | AA94: High | AB94: Basic+ | AC94: Basic | AF94: Very high | AG94: High | AH94: Basic+ | AI94: Basic | AL94: Very high | AM94: High | AN94: Basic+ | AO94: Basic
D95: SPEC | F95: ='Data base'!G10 -> 3 | G95: =$F95 -> 3 | H95: 1 | I95: 2 | J95: 3 | K95: Non-SPEC | M95: =$F95 -> 3 | N95: 1 | O95: 2 | P95: 3 | Q95: Non-SPEC | S95: =$F95 -> 3 | T95: 1 | U95: 2 | V95: 3 | W95: Non-SPEC | Y95: =$F95 -> 3 | Z95: 1 | AA95: 2 | AB95: 3 | AC95: Non-SPEC | AE95: =$F95 -> 3 | AF95: 1 | AG95: 2 | AH95: 3 | AI95: Non-SPEC | AK95: =$F95 -> 3 | AL95: 1 | AM95: 2 | AN95: 3 | AO95: Non-SPEC
D96: Annex I (if Long Term-trend is:) | F96: ='Data base'!J10 -> x | G96: =$F96 -> x | H96: Declining | I96: Depleted | J96: Stable/Incr. | K96: Not Annex I | M96: =$F96 -> x | N96: Declining | O96: Depleted | P96: Stable/Incr. | Q96: Not Annex I | S96: =$F96 -> x | T96: Declining | U96: Depleted | V96: Stable/Incr. | W96: Not Annex I | Y96: =$F96 -> x | Z96: Declining | AA96: Depleted | AB96: Stable/Incr. | AC96: Not Annex I | AE96: =$F96 -> x | AF96: Declining | AG96: Depleted | AH96: Stable/Incr. | AI96: Not Annex I | AK96: =$F96 -> x | AL96: Declining | AM96: Depleted | AN96: Stable/Incr. | AO96: Not Annex I
D97: Relative abundance, EU27 | G97: ='Data base'!S10 -> 0 | H97: >2 | I97: <2 - >1 | J97: <1 - ≥0.5 | K97: <0.5 | M97: ='Data base'!AB10 -> 0.00097727337 | N97: >2 | O97: <2 - >1 | P97: <1 - ≥0.5 | Q97: <0.5 | S97: ='Data base'!AK10 -> 0 | T97: >2 | U97: <2 - >1 | V97: <1 - ≥0.5 | W97: <0.5 | Y97: ='Data base'!AT10 -> 0.00068432891 | Z97: >2 | AA97: <2 - >1 | AB97: <1 - ≥0.5 | AC97: <0.5 | AE97: ='Data base'!BC10 -> 0.067687779 | AF97: >2 | AG97: <2 - >1 | AH97: <1 - ≥0.5 | AI97: <0.5 | AK97: ='Data base'!BM10 -> 9.8158141e-05 | AL97: >2 | AM97: <2 - >1 | AN97: <1 - ≥0.5 | AO97: <0.5
D98: Red-list (National) | E98: DK, EE, FI, SE/LV, LT | H98: RE, CR/ 0, 1 | I98: EN, VU/ 2, 3 | J98: NT/ 4 | K98: LC/ 5 | M98: ='Data base'!T10 -> CR | N98: RE, CR/ 0, 1 | O98: EN, VU/ 2, 3 | P98: NT/ 4 | Q98: LC/ 5 | S98: ='Data base'!AC10 -> CR | T98: RE, CR/ 0, 1 | U98: EN, VU/ 2, 3 | V98: NT/ 4 | W98: LC/ 5 | Y98: ='Data base'!AL10 -> 2 | Z98: RE, CR/ 0, 1 | AA98: EN, VU/ 2, 3 | AB98: NT/ 4 | AC98: LC/ 5 | AE98: ='Data base'!AU10 -> 2 (V) | AF98: RE, CR/ 0, 1 | AG98: EN, VU/ 2, 3 | AH98: NT/ 4 | AI98: LC/ 5 | AK98: ='Data base'!BD10 -> EN | AL98: RE, CR/ 0, 1 | AM98: EN, VU/ 2, 3 | AN98: NT/ 4 | AO98: LC/ 5
D99: Trend (population) | E99: Long Term | H99: Declining | I99: Depleted | J99: Stable | K99: Increasing | M99: ='Data base'!X10 -> + (50 - 50) | N99: Declining | O99: Depleted | P99: Stable | Q99: Increasing | S99: ='Data base'!AH10 -> + (750 - 850) | T99: Declining | U99: Depleted | V99: Stable | W99: Increasing | Y99: ='Data base'!AQ10 -> 0 | Z99: Declining | AA99: Depleted | AB99: Stable | AC99: Increasing | AE99: ='Data base'!AZ10 -> - (40 - 50) | AF99: Declining | AG99: Depleted | AH99: Stable | AI99: Increasing | AK99: ='Data base'!BJ10 -> + (500 - 700) | AL99: Declining | AM99: Depleted | AN99: Stable | AO99: Increasing
E100: Short Term | I100: Declining | J100: Stable | K100: Increasing | M100: ='Data base'!Y10 -> + (500 - 700) | O100: Declining | P100: Stable | Q100: Increasing | S100: ='Data base'!AG10 -> + (70 - 90) | U100: Declining | V100: Stable | W100: Increasing | Y100: ='Data base'!AP10 -> - | AA100: Declining | AB100: Stable | AC100: Increasing | AE100: ='Data base'!AY10 -> - (20 - 40) | AG100: Declining | AH100: Stable | AI100: Increasing | AK100: ='Data base'!BI10 -> + (50 - 50) | AM100: Declining | AN100: Stable | AO100: Increasing
D101: Rare-ness | H101: >1 | I101: <1 - >0.1 | J101: <0.1 - >0.01 | K101: <0.01 | M101: ='Data base'!W10 -> 4 | N101: >1 | O101: <1 - >0.1 | P101: <0.1 - >0.01 | Q101: <0.01 | S101: ='Data base'!AF10 -> 20 | T101: >1 | U101: <1 - >0.1 | V101: <0.1 - >0.01 | W101: <0.01 | Y101: ='Data base'!AO10 -> 3 | Z101: >1 | AA101: <1 - >0.1 | AB101: <0.1 - >0.01 | AC101: <0.01 | AE101: ='Data base'!AX10 -> 1.5 | AF101: >1 | AG101: <1 - >0.1 | AH101: <0.1 - >0.01 | AI101: <0.01 | AK101: ='Data base'!BH10 -> 40 | AL101: >1 | AM101: <1 - >0.1 | AN101: <0.1 - >0.01 | AO101: <0.01
D102: Generations length, year | F102: ='Data base'!E10 -> 6 | G102: =$F102 -> 6 | H102: >10 | I102: <10 - >5 | J102: <5 - >3.3 | K102: <3.3 | M102: =$F102 -> 6 | N102: >10 | O102: <10 - >5 | P102: <5 - >3.3 | Q102: <3.3 | S102: =$F102 -> 6 | T102: >10 | U102: <10 - >5 | V102: <5 - >3.3 | W102: <3.3 | Y102: =$F102 -> 6 | Z102: >10 | AA102: <10 - >5 | AB102: <5 - >3.3 | AC102: <3.3 | AE102: =$F102 -> 6 | AF102: >10 | AG102: <10 - >5 | AH102: <5 - >3.3 | AI102: <3.3 | AK102: =$F102 -> 6 | AL102: >10 | AM102: <10 - >5 | AN102: <5 - >3.3 | AO102: <3.3
D103: Actual size of population (low assess) | M103: ='Data base'!U10 -> 10 | S103: ='Data base'!AD10 -> 15 | T103: 2 | U103: 1 | V103: 2 | W103: 3 | Y103: ='Data base'!AM10 -> 20 | AE103: ='Data base'!AV10 -> 40 | AK103: ='Data base'!BF10 -> 10
D104: Actual additional protection, nest | M104: =Protection!F10 -> 0 | S104: =Protection!G10 -> 0 | Y104: =Protection!H10 -> All year (if micro-res.) | AE104: =Protection!I10 -> 0 | AK104: =Protection!J10 -> Yes
D105: Actual protection, surroundings | M105: =Protection!L10 -> 0 | S105: =Protection!M10 -> x | Y105: =Protection!N10 -> Microreserve | AE105: =Protection!O10 -> 0 | AK105: =Protection!P10 -> 300
A107: 11 | B107: ='Data base'!C11 -> Milvus milvus | C107: ='Data base'!D11 -> Red Kite | D107: Awareness: | H107: Very high | I107: High | J107: Basic+ | K107: Basic | M107: Not breed. | N107: Very high | O107: High | P107: Basic+ | Q107: Basic | S107: Not breed. | T107: Very high | U107: High | V107: Basic+ | W107: Basic | Z107: Very high | AA107: High | AB107: Basic+ | AC107: Basic | AF107: Very high | AG107: High | AH107: Basic+ | AI107: Basic | AL107: Very high | AM107: High | AN107: Basic+ | AO107: Basic
D108: SPEC | F108: ='Data base'!G11 -> 1 | G108: =$F108 -> 1 | H108: 1 | I108: 2 | J108: 3 | K108: Non-SPEC | M108: =$F108 -> 1 | N108: 1 | O108: 2 | P108: 3 | Q108: Non-SPEC | S108: =$F108 -> 1 | T108: 1 | U108: 2 | V108: 3 | W108: Non-SPEC | Y108: =$F108 -> 1 | Z108: 1 | AA108: 2 | AB108: 3 | AC108: Non-SPEC | AE108: =$F108 -> 1 | AF108: 1 | AG108: 2 | AH108: 3 | AI108: Non-SPEC | AK108: =$F108 -> 1 | AL108: 1 | AM108: 2 | AN108: 3 | AO108: Non-SPEC
...

Sheet Data base
E1: Genertion | F1: Global/Europe/EU-27 | K1: Denmark | L1: Estimated population | N1: Rareness | O1: Trend, % | Q1: Trend | R1: Pct of | S1: RA | T1: Estonia | U1: Estimated population | W1: Rareness | X1: Trend, % | Z1: Trend | AA1: =R1 -> Pct of | AB1: RA | AC1: Finland | AD1: Estimated population | AF1: Rareness | AG1: Trend, % | AI1: Trend | AJ1: =AA1 -> Pct of | AK1: =AB1 -> RA | AL1: Latvia | AM1: Estimated population | AO1: Rareness | AP1: Trend, % | AR1: Trend | AS1: =AJ1 -> Pct of | AT1: =AK1 -> RA | AU1: Lithuania | AV1: Estimated population | AX1: Rareness | AY1: Trend, % | BA1: Trend | BB1: =AS1 -> Pct of | BC1: =AT1 -> RA | BD1: Sweden | BF1: Estimated population | BH1: Rareness | BI1: Trend, % | BK1: Trend | BL1: Pct of | BM1: Rep. | BO1: Total, pct of EU27
A2: Index | B2: Euring | C2: Scientific name | D2: English name | E2: Length, y. | F2: IUCN, W | G2: BLI-SPEC | H2: Europe | I2: EU-27 | J2: Annex I | K2: DK-red | L2: Low | M2: High | N2: 40 | O2: Short Term | P2: Long Term | Q2: (BLI-crit.) | R2: EU-pop. | S2: 0.96264894 | T2: EE-red | U2: Low | V2: High | W2: 40 | X2: Short Term | Y2: Long Term | Z2: (BLI-crit.) | AA2: =R2 -> EU-pop. | AB2: =Countries!E5 -> 1.0232551 | AC2: FI-red | AD2: Low | AE2: High | AF2: 300 | AG2: Short Term | AH2: Long Term | AI2: (BLI-crit.) | AJ2: =AA2 -> EU-pop. | AK2: =Countries!E21 -> 7.6503186 | AL2: LV-red | AM2: Low | AN2: High | AO2: 60 | AP2: Short Term | AQ2: Long Term | AR2: (BLI-crit.) | AS2: =AJ2 -> EU-pop. | AT2: =Countries!E12 -> 1.4612856 | AU2: LT-red | AV2: Low | AW2: High | AX2: 60 | AY2: Short Term | AZ2: Long Term | BA2: (BLI-crit.) | BB2: =AS2 -> EU-pop. | BC2: =Countries!E13 -> 1.4773716 | BD2: SE-red | BE2: SV App.4 | BF2: Low | BG2: High | BH2: 400 | BI2: Short Term | BJ2: Long Term | BK2: (BLI-crit.) | BL2: EU-pop. | BM2: =Countries!E26 -> 10.187642
A3: H169-13-00 | B3: 20 | C3: Gavia stellata | D3: Red-throated Diver | E3: 7 | G3: 3 | J3: x | K3: - | L3: 0 | M3: 0 | N3: - | O3: - | P3: - | Q3: - | R3: 0 | S3: =R3/S$2 -> 0 | T3: RE | U3: 0 | V3: 0 | W3: =W$2/U3 -> #DIV/0! | X3: - | Y3: - | Z3: - | AA3: 0 | AB3: =AA3/AB$2 -> 0 | AC3: - | AD3: 750 | AE3: 1500 | AF3: =AF$2/AD3 -> 0.4 | AG3: + (27 - 44) | AH3: + (67 - 150) | AJ3: 27.2 | AK3: =AJ3/AK$2 -> 3.5554075 | AL3: 0 | AM3: 0 | AN3: 0 | AO3: =AO$2/AM3 -> #DIV/0! | AP3: - | AQ3: - | AS3: 0 | AT3: =AS3/AT$2 -> 0 | AU3: - | AV3: 0 | AX3: =AX$2/AV3 -> #DIV/0! | AY3: - | AZ3: - | BB3: 0 | BC3: =BB3/BC$2 -> 0 | BD3: NT | BE3: 2.4 | BF3: 1300 | BG3: 1900 | BH3: =BH$2/BF3 -> 0.30769231 | BI3: 0 | BJ3: - (10 - 20) | BL3: 40.2 | BM3: =BL3/BM$2 -> 3.9459573 | BO3: =R3+AA3+AJ3+AS3+BB3+BL3 -> 67.4 | BP3: =BM3+BC3 -> 3.9459573
A4: H182-10-00 | B4: 1310 | C4: Ciconia nigra | D4: Black Stork | E4: 8 | J4: x | K4: RE | L4: 0 | M4: 0 | N4: - | O4: - | P4: - | Q4: - | R4: 0 | S4: =R4/S$2 -> 0 | T4: EN | U4: 60 | V4: 90 | W4: =W$2/U4 -> 0.66666667 | X4: + (20 - 50) | Y4: - (50 - 70) | Z4: Depleted | AA4: 1.2 | AB4: =AA4/AB$2 -> 1.172728 | AC4: - | AD4: 0 | AF4: =AF$2/AD4 -> #DIV/0! | AG4: - | AH4: - | AI4: - | AJ4: 0 | AK4: =AJ4/AK$2 -> 0 | AL4: 3 | AM4: 180 | AN4: 240 | AO4: =AO$2/AM4 -> 0.33333333 | AP4: - (39 - 39) | AQ4: - (52 - 52) | AR4: Declining | AS4: 3.5 | AT4: =AS4/AT$2 -> 2.3951512 | AU4: 2 (V) | AV4: 610 | AW4: 922 | AX4: =AX$2/AV4 -> 0.098360656 | AY4: 0 | AZ4: - (10 - 43) | BA4: Depletede | BB4: 12.6 | BC4: =BB4/BC$2 -> 8.5286602 | BD4: RE | BE4: 1.4 | BF4: 0 | BG4: 0 | BH4: =BH$2/BF4 -> #DIV/0! | BI4: - | BJ4: - | BK4: - | BL4: 0 | BM4: =BL4/BM$2 -> 0 | BO4: =R4+AA4+AJ4+AS4+BB4+BL4 -> 17.3
A5: H009-06-00 | B5: 1540 | C5: Cygnus cygnus | D5: Whooper Swan | E5: 9 | J5: x | K5: (NA) | L5: 3 | M5: 3 | N5: 13.33 | O5: - | P5: - | S5: =R5/S$2 -> 0 | T5: (NA) | U5: 150 | V5: 200 | W5: =W$2/U5 -> 0.26666667 | X5: + (50-70) | Y5: + (50-70) | Z5: Increasing | AA5: 1 | AB5: =AA5/AB$2 -> 0.97727337 | AC5: - | AD5: 8500 | AE5: 11000 | AF5: =AF$2/AD5 -> 0.035294118 | AG5: + (84 - 153) | AH5: + (508 - 829) | AJ5: 59.4 | AK5: =AJ5/AK$2 -> 7.7643825 | AL5: 3 | AM5: 320 | AN5: 320 | AO5: =AO$2/AM5 -> 0.1875 | AP5: + (60 - 88) | AQ5: + (1,500 - 3,100) | AS5: 2 | AT5: =AS5/AT$2 -> 1.3686578 | AU5: 3 ( R ) | AV5: 120 | AW5: 130 | AX5: =AX$2/AV5 -> 0.5 | AY5: + (700 - 800) | AZ5: + (2,300 - 2,500) | BB5: 0.8 | BC5: =BB5/BC$2 -> 0.54150224 | BD5: - | BE5: 4 | BF5: 4700 | BG5: 7300 | BH5: =BH$2/BF5 -> 0.085106383 | BI5: + (1 - 51) | BJ5: + (800 - 1,200) | BL5: 36 | BM5: =BL5/BM$2 -> 3.5336931 | BO5: =R5+AA5+AJ5+AS5+BB5+BL5 -> 99.2
A6: H010-09-00 | B6: 1570 | C6: Anser fabalis | D6: Bean Goose | E6: 7 | K6: - | L6: 0 | M6: 0 | N6: - | O6: - | P6: - | Q6: - | R6: 0 | S6: =R6/S$2 -> 0 | T6: LC | U6: 0 | V6: 0 | W6: =W$2/U6 -> #DIV/0! | X6: - | Y6: - | Z6: - | AA6: 0 | AB6: =AA6/AB$2 -> 0 | AC6: VU | AD6: 1000 | AE6: 2500 | AF6: =AF$2/AD6 -> 0.3 | AG6: x | AH6: x | AJ6: 66 | AK6: =AJ6/AK$2 -> 8.6270917 | AL6: - | AM6: 0 | AN6: 0 | AO6: =AO$2/AM6 -> #DIV/0! | AP6: - | AQ6: - | AS6: 0 | AT6: =AS6/AT$2 -> 0 | AU6: - | AV6: 0 | AW6: 0 | AX6: =AX$2/AV6 -> #DIV/0! | AY6: - | AZ6: - | BB6: 0 | BC6: =BB6/BC$2 -> 0 | BD6: NT | BE6: 2 | BF6: 650 | BG6: 1000 | BH6: =BH$2/BF6 -> 0.61538462 | BI6: 0 | BJ6: 0 | BL6: 34 | BM6: =BL6/BM$2 -> 3.3373768 | BO6: =R6+AA6+AJ6+AS6+BB6+BL6 -> 100
A7: H012-01-00 | B7: 2180 | C7: Bucephala clangula | D7: Common Goldeneye | E7: 4 | K7: NT | L7: 100 | M7: 100 | N7: =N$2/L7 -> 0.4 | O7: + (50 - 100) | P7: =+ (10000 - 100000) -> -90000 | Q7: Increasing | R7: 0.01 | S7: =R7/S$2 -> 0.010388003 | T7: LC | U7: 3000 | V7: 5000 | W7: =W$2/U7 -> 0.013333333 | X7: + (20 - 50) | Y7: + (50 - 70) | Z7: Increasing | AA7: 1.2 | AB7: =AA7/AB$2 -> 1.172728 | AC7: - | AD7: 190000 | AE7: 250000 | AF7: =AF$2/AD7 -> 0.0015789474 | AG7: - (9 - 20) | AH7: 0 | AI7: (Declining) | AJ7: 68.2 | AK7: =AJ7/AK$2 -> 8.9146614 | AL7: - | AM7: 2000 | AN7: 3000 | AO7: =AO$2/AM7 -> 0.03 | AP7: + (30 - 100) | AQ7: + (100 - 200) | AR7: Increasing | AS7: 2.6 | AT7: =AS7/AT$2 -> 1.7792552 | AU7: - | AV7: 2000 | AW7: 3000 | AX7: =AX$2/AV7 -> 0.03 | AY7: + (30 - 100) | AZ7: + (100 - 200) | BA7: Increasing | BB7: 0.8 | BC7: =BB7/BC$2 -> 0.54150224 | BD7: - | BF7: 65000 | BG7: 96000 | BH7: =BH$2/BF7 -> 0.0061538462 | BI7: - (8 - 34) | BJ7: 0 | BK7: (Decreasing) | BL7: 24.8 | BM7: =BL7/BM$2 -> 2.4343219 | BO7: =R7+AA7+AJ7+AS7+BB7+BL7 -> 97.61
A8: H012-03-00 | B8: 2200 | C8: Mergellus albellus | D8: Smew | E8: 4 | G8: 3 | J8: x | K8: - | L8: 0 | M8: 0 | N8: - | O8: - | P8: - | Q8: - | R8: 0 | S8: =R8/S$2 -> 0 | T8: (NA) | U8: 0 | V8: 0 | W8: =W$2/U8 -> #DIV/0! | X8: - | Y8: - | Z8: - | AA8: 0 | AB8: =AA8/AB$2 -> 0 | AC8: - | AD8: 2000 | AE8: 2500 | AF8: =AF$2/AD8 -> 0.15 | AG8: 0 | AH8: + (67 - 425) | AJ8: 68.9 | AK8: =AJ8/AK$2 -> 9.0061609 | AL8: - | AM8: 0 | AN8: 0 | AO8: =AO$2/AM8 -> #DIV/0! | AP8: - | AQ8: - | AS8: 0 | AT8: =AS8/AT$2 -> 0 | AU8: - | AV8: 0 | AW8: 0 | AX8: =AX$2/AV8 -> #DIV/0! | AY8: - | AZ8: - | BB8: 0 | BC8: =BB8/BC$2 -> 0 | BD8: - | BE8: 4 | BF8: 1100 | BG8: 2000 | BH8: =BH$2/BF8 -> 0.36363636 | BI8: 0 | BJ8: + (60 - 120) | BL8: 31.1 | BM8: =BL8/BM$2 -> 3.0527182 | BO8: =R8+AA8+AJ8+AS8+BB8+BL8 -> 100
A9: H235-06-00 | B9: 2310 | C9: Pernis apivorus | D9: European Honey Buzzard | E9: 9 | J9: x | K9: - | L9: 650 | M9: 650 | N9: =N$2/L9 -> 0.061538462 | O9: 0 | P9: 0 | Q9: Stable | R9: 1.5 | S9: =R9/S$2 -> 1.5582004 | T9: LC | U9: 900 | V9: 1300 | W9: =W$2/U9 -> 0.044444444 | X9: - (20 - 50) | Y9: 0 | Z9: (Decreasing) | AA9: 2 | AB9: =AA9/AB$2 -> 1.9545467 | AC9: EN | AD9: 2200 | AE9: 2400 | AF9: =AF$2/AD9 -> 0.13636364 | AG9: - (27 - 33) | AH9: - (40 - 47) | AI9: Declining | AJ9: 4.3 | AK9: =AJ9/AK$2 -> 0.5620681 | AL9: - | AM9: 2000 | AN9: 3000 | AO9: =AO$2/AM9 -> 0.03 | AP9: x | AQ9: + ( - 100) | AR9: (Increasing) | AS9: 4.5 | AT9: =AS9/AT$2 -> 3.0794801 | AU9: 3 ( R ) | AV9: 1000 | AW9: 2000 | AX9: =AX$2/AV9 -> 0.06 | AY9: 0 | AZ9: 0 | BA9: Stable | BB9: 2.6 | BC9: =BB9/BC$2 -> 1.7598823 | BD9: NT | BE9: 2,4,5 | BF9: 5200 | BG9: 8100 | BH9: =BH$2/BF9 -> 0.076923077 | BI9: 0 | BJ9: - (30 - 70) | BK9: Depleted | BL9: 12 | BM9: =BL9/BM$2 -> 1.1778977 | BO9: =R9+AA9+AJ9+AS9+BB9+BL9 -> 26.9
A10: H250-02-00 | B10: 2380 | C10: Milvus migrans | D10: Black Kite | E10: 6 | G10: 3 | J10: x | K10: - | L10: 0 | M10: 0 | N10: - | O10: - | P10: - | Q10: - | R10: 0 | S10: =R10/S$2 -> 0 | T10: CR | U10: 10 | V10: 20 | W10: =W$2/U10 -> 4 | X10: + (50 - 50) | Y10: + (500 - 700) | Z10: Increasing | AA10: 0.001 | AB10: =AA10/AB$2 -> 0.00097727337 | AC10: CR | AD10: 15 | AE10: 29 | AF10: =AF$2/AD10 -> 20 | AG10: + (70 - 90) | AH10: + (750 - 850) | AI10: Increasing | AK10: =AJ10/AK$2 -> 0 | AL10: 2 | AM10: 20 | AN10: 40 | AO10: =AO$2/AM10 -> 3 | AP10: - | AQ10: 0 | AR10: Stable | AS10: 0.001 | AT10: =AS10/AT$2 -> 0.00068432891 | AU10: 2 (V) | AV10: 40 | AW10: 70 | AX10: =AX$2/AV10 -> 1.5 | AY10: - (20 - 40) | AZ10: - (40 - 50) | BA10: Decreasing | BB10: 0.1 | BC10: =BB10/BC$2 -> 0.067687779 | BD10: EN | BE10: 1.4 | BF10: 10 | BG10: 20 | BH10: =BH$2/BF10 -> 40 | BI10: + (50 - 50) | BJ10: + (500 - 700) | BK10: Increasing | BL10: 0.001 | BM10: =BL10/BM$2 -> 9.8158141e-05 | BO10: =R10+AA10+AJ10+AS10+BB10+BL10 -> 0.103
A11: H250-01-00 | B11: 2390 | C11: Milvus milvus | D11: Red Kite | E11: 6 | F11: NT | G11: 1 | H11: NT | I11: NT | J11: x | K11: VU | L11: 100 | M11: 100 | N11: =N$2/L11 -> 0.4 | O11: + (100 - 1000) | P11: + (100 - 1000) | Q11: Increasing | R11: 0.4 | S11: =R11/S$2 -> 0.41552012 | T11: (NA) | U11: 0 | V11: 0 | W11: =W$2/U11 -> #DIV/0! | X11: - | Y11: - | Z11: - | AA11: 0 | AB11: =AA11/AB$2 -> 0 | AC11: - | AD11: 0 | AF11: =AF$2/AD11 -> #DIV/0! | AJ11: 0 | AK11: =AJ11/AK$2 -> 0 | AL11: 1 | AM11: 3 | AN11: 5 | AO11: =AO$2/AM11 -> 20 | AP11: x | AQ11: + ( - 400) | AR11: Increasing | AS11: 0.001 | AT11: =AS11/AT$2 -> 0.00068432891 | AU11: 1 ( E ) | AV11: 20 | AW11: 35 | AX11: =AX$2/AV11 -> 3 | AY11: + (1,900 - 3,400) | AZ11: + (1,900 - 3,400) | BA11: Incresing | BB11: 0.1 | BC11: =BB11/BC$2 -> 0.067687779 | BD11: - | BE11: 1.4 | BF11: 1900 | BG11: 2200 | BH11: =BH$2/BF11 -> 0.21052632 | BI11: + (100 - 200) | BJ11: + (1,500 - 2,500) | BK11: Increasing | BL11: 7.4 | BM11: =BL11/BM$2 -> 0.72637024 | BO11: =R11+AA11+AJ11+AS11+BB11+BL11 -> 7.901
A12: H249-08-00 | B12: 2430 | C12: Haliaeetus albicilla | D12: White-tailed Sea Eagle | E12: 16 | J12: x | K12: VU | L12: 38 | M12: 61 | N12: =N$2/L12 -> 1.0526316 | O12: + (100 - 1000) | P12: + (1000 - 10000) | Q12: Increasing | R12: 1 | S12: =R12/S$2 -> 1.0388003 | T12: NT | U12: 220 | V12: 250 | W12: =W$2/U12 -> 0.18181818 | X12: + (50 - 70) | Y12: + (50 - 70) | Z12: Increasing | AA12: 6.1 | AB12: =AA12/AB$2 -> 5.9613676 | AC12: VU | AD12: 450 | AE12: 450 | AF12: =AF$2/AD12 -> 0.66666667 | AG12: + (80 - 80) | AH12: + (1,025 - 1,025) | AI12: Increasing | AJ12: 11.7 | AK12: =AJ12/AK$2 -> 1.5293481 | AL12: 1 | AM12: 90 | AN12: 100 | AO12: =AO$2/AM12 -> 0.66666667 | AP12: + (260 - 400) | AQ12: + (2,900 - 3,233) | AR12: Increasing | AS12: 2.5 | AT12: =AS12/AT$2 -> 1.7108223 | AU12: 3 ( R ) | AV12: 120 | AW12: 150 | AX12: =AX$2/AV12 -> 0.5 | AY12: + (200 - 280) | AZ12: + (2,900 - 3,600) | BA12: Incresing | BB12: 3.4 | BC12: =BB12/BC$2 -> 2.3013845 | BD12: NT | BE12: 2.4 | BF12: 550 | BG12: 700 | BH12: =BH$2/BF12 -> 0.72727273 | BI12: + (50 - 90) | BJ12: + (400 - 600) | BK12: Increasing | BL12: 16.1 | BM12: =BL12/BM$2 -> 1.5803461 | BO12: =R12+AA12+AJ12+AS12+BB12+BL12 -> 40.8
A13: H238-08-00 | B13: 2560 | C13: Circaetus gallicus | D13: Short-toed Eagle | E13: 13 | J13: x | K13: RE | L13: 0 | M13: 0 | N13: - | O13: - | P13: - | Q13: - | R13: 0 | S13: =R13/S$2 -> 0 | T13: CR | U13: 0 | V13: 1 | W13: =W$2/U13 -> #DIV/0! | X13: - | Y13: - | Z13: - | AA13: 0 | AB13: =AA13/AB$2 -> 0 | AC13: - | AD13: 0 | AF13: =AF$2/AD13 -> #DIV/0! | AK13: =AJ13/AK$2 -> 0 | AL13: 1 | AM13: 0 | AN13: 5 | AO13: =AO$2/AM13 -> #DIV/0! | AP13: x | AQ13: - ( - 100) | AR13: Declining | AS13: 0 | AT13: =AS13/AT$2 -> 0 | AU13: 0 ( Ex ) | AV13: 1 | AW13: 5 | AX13: =AX$2/AV13 -> 60 | AY13: 0 | AZ13: 0 | BA13: Stable | BB13: 0 | BC13: =BB13/BC$2 -> 0 | BD13: - | BF13: 0 | BH13: =BH$2/BF13 -> #DIV/0! | BL13: 0 | BM13: =BL13/BM$2 -> 0 | BO13: =R13+AA13+AJ13+AS13+BB13+BL13 -> 0
A14: H248-06-00 | B14: 2670 | C14: Accipiter gentilis | D14: Nothern Gooshawk | E14: 6 | K14: LC | L14: 270 | M14: 270 | N14: =N$2/L14 -> 0.14814815 | O14: - (50 - 100) | P14: - (33 - 50) | Q14: Declining | R14: 0.4 | S14: =R14/S$2 -> 0.41552012 | T14: NT | U14: 400 | V14: 600 | W14: =W$2/U14 -> 0.1 | X14: - (20 - 50) | Y14: - (50 - 70) | Z14: Decreasing | AA14: 0.8 | AB14: =AA14/AB$2 -> 0.7818187 | AC14: NT | AD14: 4200 | AE14: 4300 | AF14: =AF$2/AD14 -> 0.071428571 | AG14: - (20 - 22) | AH14: - (24 - 33) | AI14: Declining | AJ14: 6.8 | AK14: =AJ14/AK$2 -> 0.88885187 | AL14: - | AM14: 450 | AN14: 1016 | AO14: =AO$2/AM14 -> 0.13333333 | AP14: F | AQ14: - (49 - 85) | AR14: Declining | AS14: 1.1 | AT14: =AS14/AT$2 -> 0.7527618 | AU14: 3 ( R ) | AV14: 500 | AW14: 800 | AX14: =AX$2/AV14 -> 0.12 | AY14: 0 | AZ14: 0 | BA14: Stable | BB14: 1 | BC14: =BB14/BC$2 -> 0.67687779 | BD14: NT | BE14: 2 | BF14: 4500 | BG14: 11000 | BH14: =BH$2/BF14 -> 0.088888889 | BI14: - (20 - 50) | BJ14: 0 | BK14: (Decreasing) | BL14: 11.4 | BM14: =BL14/BM$2 -> 1.1190028 | BO14: =R14+AA14+AJ14+AS14+BB14+BL14 -> 21.5
A15: H255-01-00 | B15: 2870 | C15: Buteo buteo | D15: Eurasian Buzzard | E15: 8 | K15: LC | L15: 5000 | M15: 5000 | N15: =N$2/L15 -> 0.008 | O15: 0 | P15: + (50 - 100) | Q15: Increasing | R15: 0.8 | S15: =R15/S$2 -> 0.83104024 | T15: LC | U15: 6000 | V15: 7000 | W15: =W$2/U15 -> 0.0066666667 | X15: 0 | Y15: 0 | Z15: Stable | AA15: 1 | AB15: =AA15/AB$2 -> 0.97727337 | AC15: VU | AD15: 4000 | AE15: 4200 | AF15: =AF$2/AD15 -> 0.075 | AG15: - (21 - 25) | AH15: - (30 - 36) | AI15: Declining | AJ15: 0.7 | AK15: =AJ15/AK$2 -> 0.091499457 | AL15: - | AM15: 34360 | AN15: 71160 | AO15: =AO$2/AM15 -> 0.0017462165 | AP15: - (2 - 50) | AQ15: - (17 - 82) | AR15: Declining | AS15: 8.1 | AT15: =AS15/AT$2 -> 5.5430642 | AU15: - | AV15: 6000 | AW15: 12000 | AX15: =AX$2/AV15 -> 0.01 | AY15: 0 | AZ15: 0 | BA15: Stable | BB15: 1.4 | BC15: =BB15/BC$2 -> 0.94762891 | BD15: - | BF15: 17000 | BG15: 45000 | BH15: =BH$2/BF15 -> 0.023529412 | BI15: 0 | BJ15: + (20 - 40) | BK15: Increasing | BL15: 4.6 | BM15: =BL15/BM$2 -> 0.45152745 | BO15: =R15+AA15+AJ15+AS15+BB15+BL15 -> 16.6
A16: H254-09-00 | B16: 2900 | C16: Buteo lagopus | D16: Rough-legged Buzzard | E16: 8 | I16: EN | K16: - | L16: 0 | M16: 0 | N16: - | O16: - | P16: - | Q16: - | R16: 0 | S16: =R16/S$2 -> 0 | T16: (NA) | U16: 0 | W16: =W$2/U16 -> #DIV/0! | X16: - | Y16: - | Z16: - | AA16: 0 | AB16: =AA16/AB$2 -> 0 | AC16: - | AD16: 500 | AE16: 4000 | AF16: =AF$2/AD16 -> 0.6 | AG16: F | AH16: - (73 - 93 ) | AJ16: 33.1 | AK16: =AJ16/AK$2 -> 4.3266172 | AL16: - | AM16: 0 | AN16: 0 | AO16: =AO$2/AM16 -> #DIV/0! | AP16: - | AQ16: - | AS16: 0 | AT16: =AS16/AT$2 -> 0 | AU16: - | AV16: 0 | AW16: 0 | AX16: =AX$2/AV16 -> #DIV/0! | AY16: - | AZ16: - | BB16: 0 | BC16: =BB16/BC$2 -> 0 | BD16: NT | BE16: 2.5 | BF16: 1700 | BG16: 5200 | BH16: =BH$2/BF16 -> 0.23529412 | BI16: 0 | BJ16: - (25 - 75) | BL16: 66.9 | BM16: =BL16/BM$2 -> 6.5667796 | BO16: =R16+AA16+AJ16+AS16+BB16+BL16 -> 100
A17: H241-08-00 | B17: 2920 | C17: Clanga pomarina | D17: Lesser Spotted Eagle | E17: 11 | J17: x | K17: - | L17: 0 | M17: 0 | N17: - | O17: - | P17: - | Q17: - | R17: 0 | S17: =R17/S$2 -> 0 | T17: NT | U17: 600 | V17: 700 | W17: =W$2/U17 -> 0.066666667 | X17: 0 | Y17: 0 | Z17: Stable | AA17: 4.9 | AB17: =AA17/AB$2 -> 4.7886395 | AC17: - | AD17: 0 | AJ17: 0 | AK17: =AJ17/AK$2 -> 0 | AL17: 3 | AM17: 3700 | AN17: 3700 | AO17: =AO$2/AM17 -> 0.016216216 | AP17: - (10 - 10) | AQ17: + (147 - 363) | AS17: 28.2 | AT17: =AS17/AT$2 -> 19.298075 | AU17: 3 ( R ) | AV17: 1931 | AW17: 2869 | AX17: =AX$2/AV17 -> 0.031071983 | AY17: 0 | AZ17: - (17 - 24) | BA17: Depleted | BB17: 17.8 | BC17: =BB17/BC$2 -> 12.048425 | BD17: - | BF17: 0 | BH17: =BH$2/BF17 -> #DIV/0! | BI17: - | BJ17: - | BL17: 0 | BM17: =BL17/BM$2 -> 0 | BO17: =R17+AA17+AJ17+AS17+BB17+BL17 -> 50.9
A18: H241-10-00 | B18: 2930 | C18: Clanga clanga | D18: Greater Spotted Eagle | E18: 11 | F18: VU | G18: 1 | H18: EN | J18: x | K18: - | L18: 0 | M18: 0 | N18: - | O18: - | P18: - | Q18: - | R18: 0 | S18: =R18/S$2 -> 0 | T18: CR | U18: 5 | V18: 10 | W18: =W$2/U18 -> 8 | X18: - (50 - 70) | Y18: - (50 - 70) | Z18: Declining | AA18: 29.8 | AB18: =AA18/AB$2 -> 29.122746 | AC18: CR | AD18: 0 | AE18: 1 | AF18: =AF$2/AD18 -> #DIV/0! | AG18: 0 | AH18: 0 | AI18: Stable | AJ18: 0 | AK18: =AJ18/AK$2 -> 0 | AL18: 1 | AM18: 0 | AN18: 0 | AO18: =AO$2/AM18 -> #DIV/0! | AP18: 0 | AQ18: - (100 - 100) | AS18: 0 | AT18: =AS18/AT$2 -> 0 | AU18: 1 ( E ) | AV18: 0 | AW18: 2 | AX18: =AX$2/AV18 -> #DIV/0! | AY18: 0 | AZ18: 0 | BB18: 3 | BC18: =BB18/BC$2 -> 2.0306334 | BD18: - | BF18: 0 | BH18: =BH$2/BF18 -> #DIV/0! | BI18: - | BJ18: - | BL18: 0 | BM18: =BL18/BM$2 -> 0 | BO18: =R18+AA18+AJ18+AS18+BB18+BL18 -> 32.8
A19: H242-04-00 | B19: 2960 | C19: Aquila chrysaetos | D19: Golden Eagle | E19: 11 | J19: x | K19: (NA) | L19: 2 | M19: 2 | N19: =N$2/L19 -> 20 | O19: + (100 - 1,000) | P19: + (100 - 1,000) | Q19: Increasing | R19: 0.001 | S19: =R19/S$2 -> 0.0010388003 | T19: VU | U19: 55 | V19: 65 | W19: =W$2/U19 -> 0.72727273 | X19: + (20 - 50) | Y19: + (20 - 50) | AA19: 1.2 | AB19: =AA19/AB$2 -> 1.172728 | AC19: VU | AD19: 350 | AE19: 350 | AF19: =AF$2/AD19 -> 0.85714286 | AG19: + (36 - 36) | AH19: + (50 - 50) | AI19: Increasing | AJ19: 6.8 | AK19: =AJ19/AK$2 -> 0.88885187 | AL19: 1 | AM19: 9 | AN19: 9 | AO19: =AO$2/AM19 -> 6.6666667 | AP19: + (125 - 125) | AQ19: + (125 - 125) | AS19: 0.2 | AT19: =AS19/AT$2 -> 0.13686578 | AU19: 1 ( E ) | AV19: 0 | AW19: 2 | AX19: =AX$2/AV19 -> #DIV/0! | AY19: 0 | AZ19: 0 | BB19: 0 | BC19: =BB19/BC$2 -> 0 | BD19: NT | BE19: 2.4 | BF19: 580 | BG19: 800 | BH19: =BH$2/BF19 -> 0.68965517 | BI19: 0 | BJ19: + (10 - 40) | BK19: Increasing | BL19: 13.4 | BM19: =BL19/BM$2 -> 1.3153191 | BO19: =R19+AA19+AJ19+AS19+BB19+BL19 -> 21.601
A20: H234-02-00 | B20: 3010 | C20: Pandion haliaetus | D20: Osprey | E20: 9 | J20: x | K20: CR | L20: 3 | M20: 3 | N20: =N$2/L20 -> 13.333333 | O20: + (25 - 50) | P20: + (25 - 50) | Q20: Increase | R20: 0.001 | S20: =R20/S$2 -> 0.0010388003 | T20: VU | U20: 60 | V20: 70 | W20: =W$2/U20 -> 0.66666667 | X20: + (20 - 50) | Y20: + (20 - 50) | AA20: 1 | AB20: =AA20/AB$2 -> 0.97727337 | AC20: - | AD20: 1100 | AE20: 1350 | AF20: =AF$2/AD20 -> 0.27272727 | AG20: + ( - 22) | AH20: + (23 - 26) | AI20: Depleted | AJ20: 18.5 | AK20: =AJ20/AK$2 -> 2.4181999 | AL20: 3 | AM20: 190 | AN20: 210 | AO20: =AO$2/AM20 -> 0.31578947 | AP20: + (27 - 110) | AQ20: + (217 - 367) | AS20: 3 | AT20: =AS20/AT$2 -> 2.0529867 | AU20: 2 ( V ) | AV20: 30 | AW20: 40 | AX20: =AX$2/AV20 -> 2 | AY20: 0 | AZ20: + (10 - 50) | BB20: 0.5 | BC20: =BB20/BC$2 -> 0.3384389 | BD20: - | BE20: 4 | BF20: 3400 | BG20: 4700 | BH20: =BH$2/BF20 -> 0.11764706 | BI20: 0 | BJ20: + (15 - 45) | BL20: 60.6 | BM20: =BL20/BM$2 -> 5.9483833 | BO20: =R20+AA20+AJ20+AS20+BB20+BL20 -> 83.601
A21: H349-10-00 | B21: 3040 | C21: Falco tinnunculus | D21: Common Kestrel | E21: <3.3 | G21: 3 | K21: LC | L21: 1500 | M21: 1500 | N21: =(N$2/L21) -> 0.026666667 | O21: - (33 - 50) | P21: + (25 - 50) | Q21: Fluctuating | R21: 0.4 | S21: =R21/S$2 -> 0.41552012 | T21: LC | U21: 600 | V21: 900 | W21: =W$2/U21 -> 0.066666667 | X21: + (20 - 50) | Y21: 0 | AA21: 0.2 | AB21: =AA21/AB$2 -> 0.19545467 | AC21: - | AD21: 7700 | AE21: 8700 | AF21: =AF$2/AD21 -> 0.038961039 | AG21: + (105 - 132) | AH21: + (442 - 513) | AI21: Increasing | AJ21: 2.4 | AK21: =AJ21/AK$2 -> 0.31371243 | AL21: 1 | AM21: 130 | AN21: 250 | AO21: =AO$2/AM21 -> 0.46153846 | AP21: x | AQ21: x | AS21: 0.001 | AT21: =AS21/AT$2 -> 0.00068432891 | AU21: 2 ( V ) | AV21: 300 | AW21: 400 | AX21: =AX$2/AV21 -> 0.2 | AY21: + (50 - 100) | AZ21: + (100 - 170) | BB21: 0.1 | BC21: =BB21/BC$2 -> 0.067687779 | BD21: - | BF21: 4500 | BG21: 8400 | BH21: =BH$2/BF21 -> 0.088888889 | BI21: + (10 - 30) | BJ21: + (50 - 150) | BL21: 1.8 | BM21: =BL21/BM$2 -> 0.17668465 | BO21: =R21+AA21+AJ21+AS21+BB21+BL21 -> 4.901
A22: H351-03-00 | B22: 3090 | C22: Falco columbarius | D22: Merlin | E22: <3.3 | J22: x | K22: - | L22: 0 | M22: 0 | N22: - | O22: - | P22: - | Q22: - | R22: 0 | S22: =R22/S$2 -> 0 | T22: VU | U22: 30 | V22: 60 | W22: =W$2/U22 -> 1.3333333 | X22: + (20 - 50) | Y22: 0 | AA22: 0.4 | AB22: =AA22/AB$2 -> 0.39090935 | AC22: - | AD22: 2400 | AE22: 3600 | AF22: =AF$2/AD22 -> 0.125 | AG22: 0 | AH22: 0 | AI22: Stable | AJ22: 28 | AK22: =AJ22/AK$2 -> 3.6599783 | AL22: 1 | AM22: 30 | AN22: 75 | AO22: =AO$2/AM22 -> 2 | AP22: x | AQ22: 0 | AS22: 0.5 | AT22: =AS22/AT$2 -> 0.34216446 | AU22: 1 ( E ) | AV22: 5 | AW22: 10 | AX22: =AX$2/AV22 -> 12 | AY22: 0 | AZ22: 0 | BB22: 0.1 | BC22: =BB22/BC$2 -> 0.067687779 | BD22: - | BE22: 4 | BF22: 4600 | BG22: 7900 | BH22: =BH$2/BF22 -> 0.086956522 | BI22: 0 | BJ22: + (10 - 40) | BL22: 57.3 | BM22: =BL22/BM$2 -> 5.6244615 | BO22: =R22+AA22+AJ22+AS22+BB22+BL22 -> 86.3
A23: H351-07-00 | B23: 3100 | C23: Falco subbuteo | D23: Eurasian Hobby | E23: 5 | K23: EN | L23: 13 | M23: 21 | N23: =N$2/L23 -> 3.0769231 | O23: + (50 - 100) | P23: + (100 - 1,000) | Q23: Increasing | R23: 0.001 | S23: =R23/S$2 -> 0.0010388003 | T23: LC | U23: 500 | V23: 800 | W23: =W$2/U23 -> 0.08 | X23: - (20 - 50) | Y23: - (20 - 50) | AA23: 1.3 | AB23: =AA23/AB$2 -> 1.2704554 | AC23: - | AD23: 3100 | AE23: 3200 | AF23: =AF$2/AD23 -> 0.096774194 | AG23: + (19 - 23) | AH23: + (31 - 33) | AI23: Increasing | AJ23: 6.7 | AK23: =AJ23/AK$2 -> 0.87578052 | AL23: - | AM23: 390 | AN23: 845 | AO23: =AO$2/AM23 -> 0.15384615 | AP23: x | AQ23: 0 | AS23: 1.2 | AT23: =AS23/AT$2 -> 0.82119469 | AU23: 3 ( R ) | AV23: 700 | AW23: 1000 | AX23: =AX$2/AV23 -> 0.085714286 | AY23: 0 | AZ23: 0 | BB23: 1.8 | BC23: =BB23/BC$2 -> 1.21838 | BD23: - | BF23: 1700 | BG23: 3000 | BH23: =BH$2/BF23 -> 0.23529412 | BI23: 0 | BJ23: 0 | BL23: 4.8 | BM23: =BL23/BM$2 -> 0.47115908 | BO23: =R23+AA23+AJ23+AS23+BB23+BL23 -> 15.801
A24: H352-08-00 | B24: 3200 | C24: Falco peregrinus | D24: Peregrine Falcon | E24: 5 | J24: x | K24: RE | L24: 4 | M24: 4 | N24: =N$2/L24 -> 10 | O24: + (100 - 1,000) | P24: - | Q24: Increasing | R24: 0.1 | S24: =R24/S$2 -> 0.10388003 | T24: RE | U24: 0 | V24: 0 | W24: =W$2/U24 -> #DIV/0! | X24: - | Y24: - | AA24: 0 | AB24: =AA24/AB$2 -> 0 | AC24: VU | AD24: 194 | AE24: 194 | AF24: =AF$2/AD24 -> 1.5463918 | AG24: + (63 - 63) | AH24: + (646 - 646) | AI24: Increasing | AJ24: 3.4 | AK24: =AJ24/AK$2 -> 0.44442594 | AL24: 0 | AM24: 0 | AN24: 0 | AO24: =AO$2/AM24 -> #DIV/0! | AP24: - | AQ24: - | AS24: 0 | AT24: =AS24/AT$2 -> 0 | AU24: 1 ( E ) | AV24: 1 | AW24: 5 | AX24: =AX$2/AV24 -> 60 | AY24: 0 | AZ24: + ( - 400) | BB24: 0 | BC24: =BB24/BC$2 -> 0 | BD24: NT | BE24: 2.4 | BF24: 300 | BG24: 430 | BH24: =BH$2/BF24 -> 1.3333333 | BI24: + (150 - 250) | BJ24: + (3,000 - 3,500) | BL24: 6.3 | BM24: =BL24/BM$2 -> 0.61839629 | BO24: =R24+AA24+AJ24+AS24+BB24+BL24 -> 9.8
A25: H045-02-00 | B25: 3260 | C25: Bonasa bonasia | D25: Nothern Hazel-Grouse | E25: <3.3 | J25: x | K25: - | L25: 0 | M25: 0 | N25: - | O25: - | P25: - | Q25: - | R25: 0 | S25: =R25/S$2 -> 0 | T25: LC | U25: 30000 | V25: 60000 | W25: =W$2/U25 -> 0.0013333333 | X25: 0 | Y25: - (50 - 70) | AA25: 5.6 | AB25: =AA25/AB$2 -> 5.4727309 | AC25: - | AD25: 470000 | AE25: 520000 | AF25: =AF$2/AD25 -> 0.00063829787 | AG25: + (3 - 14) | AH25: 0 | AI25: Stable | AJ25: 64 | AK25: =AJ25/AK$2 -> 8.3656647 | AL25: - | AM25: 10000 | AN25: 47500 | AO25: =AO$2/AM25 -> 0.006 | AP25: - (59 - 99) | AQ25: + (207 - 972) | AS25: 3.4 | AT25: =AS25/AT$2 -> 2.3267183 | AU25: - | AV25: 8000 | AW25: 20000 | AX25: =AX$2/AV25 -> 0.0075 | AY25: 0 | AZ25: 0 | BB25: 1.7 | BC25: =BB25/BC$2 -> 1.1506923 | BD25: - | BE25: 4 | BF25: 90000 | BG25: 156000 | BH25: =BH$2/BF25 -> 0.0044444444 | BI25: 0 | BJ25: 0 | BL25: 15.4 | BM25: =BL25/BM$2 -> 1.5116354 | BO25: =R25+AA25+AJ25+AS25+BB25+BL25 -> 90.1
A26: H045-04-00 | B26: 3290 | C26: Lagopus lagopus | D26: Willow Grouse | E26: <3.3 | G26: 3 | H26: VU | I26: VU | K26: - | L26: 0 | M26: 0 | N26: - | O26: - | P26: - | Q26: - | R26: 0 | S26: =R26/S$2 -> 0 | T26: EN | U26: 30 | V26: 50 | W26: =W$2/U26 -> 1.3333333 | X26: - (50 - 70) | Y26: - (50 - 70) | Z26: *) | AA26: 98.1 | AB26: =AA26/AB$2 -> 95.870518 | AC26: VU | AF26: =AF$2/AD26 -> #DIV/0! | AK26: =AJ26/AK$2 -> 0 | AL26: 1 | AM26: 0 | AN26: 0 | AO26: =AO$2/AM26 -> #DIV/0! | AP26: 0 | AQ26: - (60 - 100) | AS26: 0 | AT26: =AS26/AT$2 -> 0 | AU26: - | AV26: 0 | AW26: 2 | AX26: =AX$2/AV26 -> #DIV/0! | AY26: 0 | AZ26: 0 | BB26: 0 | BC26: =BB26/BC$2 -> 0 | BD26: - | BE26: 5 | BF26: 62000 | BG26: 322000 | BH26: =BH$2/BF26 -> 0.0064516129 | BI26: - (53 - 73) | BJ26: - (30 - 70) | BL26: 58.2 | BM26: =BL26/BM$2 -> 5.7128038 | BO26: =R26+AA26+AJ26+AS26+BB26+BL26 -> 156.3 | BP26: Error due to rare ssp. (rossica) in Estonia
A27: H047-06-00 | B27: 3320 | C27: Lyrurus tetrix | D27: Eurasian Black Grouse | E27: 4 | G27: 3 | J27: x | K27: RE | L27: 0 | M27: 0 | N27: - | O27: - (100 - 100) | P27: - (100 - 100) | Q27: Declining | R27: 0 | S27: =R27/S$2 -> 0 | T27: NT | U27: 4000 | V27: 6000 | W27: =W$2/U27 -> 0.01 | X27: - (20 - 50) | Y27: - (50 - 70) | AA27: 0.3 | AB27: =AA27/AB$2 -> 0.29318201 | AC27: - | AD27: 600000 | AE27: 710000 | AF27: =AF$2/AD27 -> 0.0005 | AG27: + (52 - 68) | AH27: 0 | AI27: (Increasing) | AJ27: 84.1 | AK27: =AJ27/AK$2 -> 10.993006 | AL27: 3 | AM27: 5885 | AN27: 15200 | AO27: =AO$2/AM27 -> 0.010195412 | AP27: - (6 - 87) | AQ27: + ( - 204) | AS27: 0.6 | AT27: =AS27/AT$2 -> 0.41059735 | AU27: 3 ( R ) | AV27: 1500 | AW27: 3000 | AX27: =AX$2/AV27 -> 0.04 | AY27: - (10 - 25) | AZ27: - (51 - 66) | BB27: 0.2 | BC27: =BB27/BC$2 -> 0.13537556 | BD27: - | BE27: 4.5 | BF27: 129000 | BG27: 222000 | BH27: =BH$2/BF27 -> 0.0031007752 | BI27: + (4 - 38) | BJ27: - (48 - 65) | BL27: 11 | BM27: =BL27/BM$2 -> 1.0797395 | BO27: =R27+AA27+AJ27+AS27+BB27+BL27 -> 96.2
A28: H047-04-00 | B28: 3350 | C28: Tetrao urogallus | D28: Western Capercaillie | E28: 4 | J28: x | K28: - | L28: 0 | M28: 0 | N28: - | O28: - | P28: - | Q28: - | R28: 0 | S28: =R28/S$2 -> 0 | T28: VU | U28: 1100 | V28: 1200 | W28: =W$2/U28 -> 0.036363636 | X28: - (50 - 70) | Y28: - (50 - 70) | AA28: 0.1 | AB28: =AA28/AB$2 -> 0.097727337 | AC28: - | AD28: 290000 | AE28: 730000 | AF28: =AF$2/AD28 -> 0.0010344828 | AG28: - (5 - 22) | AH28: 0 | AI28: (Declining) | AJ28: 63.3 | AK28: =AJ28/AK$2 -> 8.2741652 | AL28: 3 | AM28: 1256 | AN28: 1256 | AO28: =AO$2/AM28 -> 0.047770701 | AP28: - (56 - 56) | AQ28: + (5 - 26) | AS28: 0.1 | AT28: =AS28/AT$2 -> 0.068432891 | AU28: 2 ( V ) | AV28: 300 | AW28: 400 | AX28: =AX$2/AV28 -> 0.2 | AY28: 0 | AZ28: 0 | BB28: 1.8 | BC28: =BB28/BC$2 -> 1.21838 | BD28: - | BE28: 4 | BF28: 244000 | BG28: 458000 | BH28: =BH$2/BF28 -> 0.0016393443 | BI28: 0 | BJ28: 0 | BL28: 34.6 | BM28: =BL28/BM$2 -> 3.3962717 | BO28: =R28+AA28+AJ28+AS28+BB28+BL28 -> 99.9
A29: H165-07-00 | B29: 4330 | C29: Grus grus | D29: Common Crane | E29: 14 | J29: x | K29: LC | L29: 142 | M29: 142 | N29: =N$2/L29 -> 0.28169014 | O29: + (100 - 1,000) | P29: + (1,000 - 10,000) | Q29: Increasing | R29: 0.1 | S29: =R29/S$2 -> 0.10388003 | T29: LC | U29: 7000 | V29: 8000 | W29: =W$2/U29 -> 0.0057142857 | X29: + (20 - 50) | Y29: + (50 - 70) | AA29: 7 | AB29: =AA29/AB$2 -> 6.8409136 | AC29: - | AD29: 23000 | AE29: 50000 | AF29: =AF$2/AD29 -> 0.013043478 | AG29: + (114 - 241) | AH29: + (242 - 456) | AJ29: 31.4 | AK29: =AJ29/AK$2 -> 4.1044042 | AL29: 3 | AM29: 1500 | AN29: 2300 | AO29: =AO$2/AM29 -> 0.04 | AP29: 0 | AQ29: + (100 - 1,200) | AS29: 1.7 | AT29: =AS29/AT$2 -> 1.1633591 | AU29: 5 (Rs ) | AV29: 5000 | AW29: 10500 | AX29: =AX$2/AV29 -> 0.012 | AY29: + (450 - 1000) | AZ29: + (2,400 - 4,900) | BB29: 6.7 | BC29: =BB29/BC$2 -> 4.5350812 | BD29: - | BE29: 4 | BF29: 21000 | BG29: 39000 | BH29: =BH$2/BF29 -> 0.019047619 | BI29: + (18 - 54) | BJ29: + (150 - 250) | BL29: 26.4 | BM29: =BL29/BM$2 -> 2.5913749 | BO29: =R29+AA29+AJ29+AS29+BB29+BL29 -> 73.3
A30: H216-03-00 | B30: 5530 | C30: Tringa ochropus | D30: Green Sandpiper | E30: <3.3 | K30: VU | L30: 30 | M30: 30 | N30: =(N$2/L30) -> 1.3333333 | O30: 0 | P30: - (20 - 33) | Q30: Depleted | R30: 0.01 | S30: =R30/S$2 -> 0.010388003 | T30: LC | U30: 15000 | V30: 25000 | W30: =W$2/U30 -> 0.0026666667 | X30: 0 | Y30: 0 | AA30: 6 | AB30: =AA30/AB$2 -> 5.8636402 | AC30: - | AD30: 160000 | AE30: 210000 | AF30: =AF$2/AD30 -> 0.001875 | AG30: 0 | AH30: + (50 - 115) | AI30: (Incresing) | AJ30: 57.1 | AK30: =AJ30/AK$2 -> 7.4637414 | AL30: - | AM30: 528961 | AN30: 885208 | AO30: =AO$2/AM30 -> 0.00011342991 | AP30: 0 | AQ30: + (32 - 579) | AS30: 15.2 | AT30: =AS30/AT$2 -> 10.401799 | AU30: - | AV30: 5000 | AW30: 7000 | AX30: =AX$2/AV30 -> 0.012 | AY30: 0 | AZ30: 0 | BB30: 1.8 | BC30: =BB30/BC$2 -> 1.21838 | BD30: - | BF30: 34000 | BG30: 64000 | BH30: =BH$2/BF30 -> 0.011764706 | BI30: + (26 - 56) | BJ30: 0 | BL30: 14.4 | BM30: =BL30/BM$2 -> 1.4134772 | BO30: =R30+AA30+AJ30+AS30+BB30+BL30 -> 94.51
A31: H053-05-00 | B31: 6680 | C31: Columba oenas | D31: Stock Dove | E31: <3.3 | K31: LC | L31: 950 | M31: 950 | N31: =N$2/L31 -> 0.042105263 | O31: 0 | P31: + (100 - 1,000) | Q31: Increasing | R31: 0.2 | S31: =R31/S$2 -> 0.20776006 | T31: NT | U31: 500 | V31: 1000 | W31: =W$2/U31 -> 0.08 | X31: 0 | Y31: 0 | AA31: 0.1 | AB31: =AA31/AB$2 -> 0.097727337 | AC31: - | AD31: 2900 | AE31: 6600 | AF31: =AF$2/AD31 -> 0.10344828 | AG31: 0 | AH31: - (8 - 52) | AI31: Depleted | AJ31: 0.6 | AK31: =AJ31/AK$2 -> 0.078428106 | AL31: 3 | AM31: 11500 | AN31: 53500 | AO31: =AO$2/AM31 -> 0.0052173913 | AP31: F | AQ31: + (74 - 326) | AS31: 4 | AT31: =AS31/AT$2 -> 2.7373156 | AU31: 3 ( R ) | AV31: 500 | AW31: 1000 | AX31: =AX$2/AV31 -> 0.12 | AY31: + (25 - 150) | AZ31: + (25 - 150) | BB31: 0.1 | BC31: =BB31/BC$2 -> 0.067687779 | BD31: - | BE31: 5 | BF31: 8500 | BG31: 16000 | BH31: =BH$2/BF31 -> 0.047058824 | BI31: + (4 - 61) | BJ31: - (52 - 70) | BL31: 1.6 | BM31: =BL31/BM$2 -> 0.15705303 | BO31: =R31+AA31+AJ31+AS31+BB31+BL31 -> 6.6
A32: H055-04-00 | B32: 6870 | C32: Streptopelia turtur | D32: European Turtle Dove | E32: <3.3 | F32: VU | G32: 1 | H32: VU | I32: NT | K32: NT | L32: 100 | M32: 100 | N32: =N$2/L32 -> 0.4 | O32: + (50 - ) | P32: - | Q32: Increasing | R32: 0.001 | S32: =R32/S$2 -> 0.0010388003 | T32: LC | U32: 1000 | V32: 3000 | W32: =W$2/U32 -> 0.04 | X32: - (20 - 50) | Y32: - (50 - 70) | AA32: 0.01 | AB32: =AA32/AB$2 -> 0.0097727337 | AC32: CR | AD32: 5 | AE32: 10 | AF32: =AF$2/AD32 -> 60 | AG32: - (27 - 61) | AH32: - (82 - 90) | AI32: Declining | AJ32: 0.001 | AK32: =AJ32/AK$2 -> 0.00013071351 | AL32: - | AM32: 10300 | AN32: 30430 | AO32: =AO$2/AM32 -> 0.0058252427 | AP32: 0 | AQ32: 0 | AS32: 0.6 | AT32: =AS32/AT$2 -> 0.41059735 | AU32: - | AV32: 4000 | AW32: 7000 | AX32: =AX$2/AV32 -> 0.015 | AY32: - (5 - 10) | AZ32: - (60 - 80) | BB32: 0.1 | BC32: =BB32/BC$2 -> 0.067687779 | BD32: - | BF32: 0 | BH32: =BH$2/BF32 -> #DIV/0! | BL32: 0 | BM32: =BL32/BM$2 -> 0 | BO32: =R32+AA32+AJ32+AS32+BB32+BL32 -> 0.712
A33: H275-01-00 | B33: 7440 | C33: Bubo bubo | D33: Eurasian Eagle Owl | E33: 9 | G33: 3 | J33: x | K33: NT | L33: 39 | M33: 70 | N33: =N$2/L33 -> 1.025641 | O33: + (100 - 1,000) | P33: + (1,000 - 10,000) | Q33: Increasing | R33: 0.3 | S33: =R33/S$2 -> 0.31164009 | T33: VU | U33: 50 | V33: 90 | W33: =W$2/U33 -> 0.8 | X33: - (20 - 50) | Y33: - (50 - 70) | AA33: 0.6 | AB33: =AA33/AB$2 -> 0.58636402 | AC33: VU | AD33: 1300 | AE33: 1400 | AF33: =AF$2/AD33 -> 0.23076923 | AG33: - (31 - 38) | AH33: - (42 - 49) | AI33: Declining | AJ33: 10.9 | AK33: =AJ33/AK$2 -> 1.4247773 | AL33: 1 | AM33: 30 | AN33: 50 | AO33: =AO$2/AM33 -> 2 | AP33: x | AQ33: + ( - 150) | AS33: 0.4 | AT33: =AS33/AT$2 -> 0.27373156 | AU33: 1 ( E ) | AV33: 20 | AW33: 30 | AX33: =AX$2/AV33 -> 3 | AY33: 0 | AZ33: 0 | BB33: 0.2 | BC33: =BB33/BC$2 -> 0.13537556 | BD33: VU | BE33: 1.4 | BF33: 390 | BG33: 560 | BH33: =BH$2/BF33 -> 1.025641 | BI33: - (20 - 50) | BJ33: + (120 - 150) | BL33: 3.8 | BM33: =BL33/BM$2 -> 0.37300093 | BO33: =R33+AA33+AJ33+AS33+BB33+BL33 -> 16.2
A34: H260-11-00 | B34: 7500 | C34: Surnia ulula | D34: Hawk Owl | E34: <3.3 | J34: x | K34: - | L34: 0 | M34: 0 | N34: - | O34: - | P34: - | Q34: - | R34: 0 | S34: =R34/S$2 -> 0 | T34: (NA) | U34: 0 | W34: =W$2/U34 -> #DIV/0! | AA34: 0 | AB34: =AA34/AB$2 -> 0 | AC34: - | AD34: 300 | AE34: 4900 | AF34: =AF$2/AD34 -> 1 | AG34: + (58 - 63) | AH34: F | AI34: (Fluctuating) | AJ34: 23.6 | AK34: =AJ34/AK$2 -> 3.0848388 | AL34: - | AM34: 0 | AN34: 0 | AO34: =AO$2/AM34 -> #DIV/0! | AP34: - | AQ34: - | AS34: 0 | AT34: =AS34/AT$2 -> 0 | AU34: - | AV34: 0 | AW34: 0 | AX34: =AX$2/AV34 -> #DIV/0! | BB34: 0 | BC34: =BB34/BC$2 -> 0 | BD34: - | BE34: 4 | BF34: 1100 | BG34: 14000 | BH34: =BH$2/BF34 -> 0.36363636 | BI34: 0 | BJ34: x | BL34: 76.4 | BM34: =BL34/BM$2 -> 7.499282 | BO34: =R34+AA34+AJ34+AS34+BB34+BL34 -> 100
A35: H260-12-00 | B35: 7510 | C35: Glaucidium passerinum | D35: Eurasian Pygmy Owl | E35: <3.3 | J35: x | K35: - | L35: 0 | M35: 0 | N35: - | O35: - | P35: - | Q35: - | R35: 0 | S35: =R35/S$2 -> 0 | T35: LC | U35: 800 | V35: 1500 | W35: =W$2/U35 -> 0.05 | X35: + (50 - 70) | Y35: + (50 - 70) | AA35: 2.3 | AB35: =AA35/AB$2 -> 2.2477288 | AC35: NT | AD35: 3000 | AE35: 9000 | AF35: =AF$2/AD35 -> 0.1 | AG35: F | AH35: F | AI35: Fluctating | AJ35: 11 | AK35: =AJ35/AK$2 -> 1.4378486 | AL35: 4 | AM35: 3750 | AN35: 3750 | AO35: =AO$2/AM35 -> 0.016 | AP35: - (53 - 53) | AQ35: x | AS35: 8.5 | AT35: =AS35/AT$2 -> 5.8167957 | AU35: 3 ( R ) | AV35: 900 | AW35: 1500 | AX35: =AX$2/AV35 -> 0.066666667 | AY35: + (1,700 - 2,900) | AZ35: + (500 - 1,000) | BB35: 2.4 | BC35: =BB35/BC$2 -> 1.6245067 | BD35: - | BE35: 4 | BF35: 9600 | BG35: 30000 | BH35: =BH$2/BF35 -> 0.041666667 | BI35: 0 | BJ35: + (10 - 40) | BL35: 35.9 | BM35: =BL35/BM$2 -> 3.5238773 | BO35: =R35+AA35+AJ35+AS35+BB35+BL35 -> 60.1
A36: H274-02-00 | B36: 7650 | C36: Strix uralensis | D36: Ural Owl | E36: 9 | J36: x | K36: - | L36: 0 | M36: 0 | N36: - | O36: - | P36: - | Q36: - | R36: 0 | S36: =R36/S$2 -> 0 | T36: LC | U36: 1000 | V36: 1500 | W36: =W$2/U36 -> 0.04 | X36: - (20 - 50) | Y36: 0 | AA36: 5.6 | AB36: =AA36/AB$2 -> 5.4727309 | AC36: - | AD36: 3300 | AE36: 3500 | AF36: =AF$2/AD36 -> 0.090909091 | AG36: + (18 - 25) | AH36: + (15 - 17) | AI36: Increasing | AJ36: 15.8 | AK36: =AJ36/AK$2 -> 2.0652735 | AL36: 3 | AM36: 1000 | AN36: 2000 | AO36: =AO$2/AM36 -> 0.06 | AP36: - (29 - 29) | AQ36: + ( - 300) | AS36: 6.4 | AT36: =AS36/AT$2 -> 4.379705 | AU36: 3 ( R ) | AV36: 40 | AW36: 80 | AX36: =AX$2/AV36 -> 1.5 | AY36: + (10 - 20) | AZ36: x | BB36: 0.2 | BC36: =BB36/BC$2 -> 0.13537556 | BD36: - | BF36: 2000 | BG36: 3400 | BH36: =BH$2/BF36 -> 0.2 | BI36: 0 | BJ36: + (10 - 40) | BL36: 11.9 | BM36: =BL36/BM$2 -> 1.1680819 | BO36: =R36+AA36+AJ36+AS36+BB36+BL36 -> 39.9
A37: H274-03-00 | B37: 7660 | C37: Strix nebulosa | D37: Great Grey Owl | E37: 5 | G37: 3 | J37: x | K37: - | L37: 0 | M37: 0 | N37: - | O37: - | P37: - | Q37: - | R37: 0 | S37: =R37/S$2 -> 0 | T37: RE | U37: 0 | V37: 3 | W37: =W$2/U37 -> #DIV/0! | X37: 0 | Y37: + (20 - 50) | AA37: 0 | AB37: =AA37/AB$2 -> 0 | AC37: - | AD37: 100 | AE37: 2100 | AF37: =AF$2/AD37 -> 3 | AG37: 0 | AH37: + (6 - 9) | AI37: (Stable) | AJ37: 55.2 | AK37: =AJ37/AK$2 -> 7.2153858 | AL37: - | AM37: 1 | AN37: 1 | AO37: =AO$2/AM37 -> 60 | AP37: 0 | AQ37: x | AS37: 0.2 | AT37: =AS37/AT$2 -> 0.13686578 | AU37: - | AV37: 1 | AW37: 3 | AX37: =AX$2/AV37 -> 60 | AY37: x | AZ37: x | BB37: 0.2 | BC37: =BB37/BC$2 -> 0.13537556 | BD37: NT | BE37: 2.4 | BF37: 100 | BG37: 2100 | BH37: =BH$2/BF37 -> 4 | BI37: 0 | BJ37: + (6 - 9) | BL37: 44.2 | BM37: =BL37/BM$2 -> 4.3385898 | BO37: =R37+AA37+AJ37+AS37+BB37+BL37 -> 99.8
A38: H264-04-00 | B38: 7700 | C38: Aegolius funereus | D38: Tengmalm's Owl | E38: <3.3 | J38: x | K38: (NA) | L38: 3 | M38: 3 | N38: =N$2/L38 -> 13.333333 | O38: + (100 - 1,000) | P38: + (100 - 1,000) | Q38: Increasing | R38: 0.001 | S38: =R38/S$2 -> 0.0010388003 | T38: VU | U38: 200 | V38: 400 | W38: =W$2/U38 -> 0.2 | X38: 0 | Y38: 0 | AA38: 0.4 | AB38: =AA38/AB$2 -> 0.39090935 | AC38: NT | AD38: 1400 | AE38: 8800 | AF38: =AF$2/AD38 -> 0.21428571 | AG38: F | AH38: - (42 - 49) | AI38: Depleted | AJ38: 5.6 | AK38: =AJ38/AK$2 -> 0.73199566 | AL38: 3 | AM38: 105 | AN38: 2700 | AO38: =AO$2/AM38 -> 0.57142857 | AP38: x | AQ38: 0 | AS38: 1.2 | AT38: =AS38/AT$2 -> 0.82119469 | AU38: 3 ( R ) | AV38: 500 | AW38: 700 | AX38: =AX$2/AV38 -> 0.12 | AY38: 0 | AZ38: + (10 - 30) | BB38: 1 | BC38: =BB38/BC$2 -> 0.67687779 | BD38: - | BE38: 4 | BF38: 17000 | BG38: 91000 | BH38: =BH$2/BF38 -> 0.023529412 | BI38: F | BJ38: - (10 - 40) | BL38: 62 | BM38: =BL38/BM$2 -> 6.0858047 | BO38: =R38+AA38+AJ38+AS38+BB38+BL38 -> 70.201
A39: H091-04-00 | B39: 7780 | C39: Caprimulgus europaeus | D39: European Nightjar | E39: 4 | G39: 3 | J39: x | K39: LC | L39: 500 | M39: 600 | N39: =N$2/L39 -> 0.08 | O39: 0 | P39: 0 | Q39: Stable | R39: 0.4 | S39: =R39/S$2 -> 0.41552012 | T39: LC | U39: 10000 | V39: 20000 | W39: =W$2/U39 -> 0.004 | X39: - (20 - 50) | Y39: - (20 - 50) | AA39: 8.3 | AB39: =AA39/AB$2 -> 8.111369 | AC39: - | AD39: 3000 | AE39: 5000 | AF39: =AF$2/AD39 -> 0.1 | AG39: + (43 - 75) | AH39: + (72 - 139) | AI39: Increasing | AJ39: 2.2 | AK39: =AJ39/AK$2 -> 0.28756972 | AL39: 4 | AM39: 16000 | AN39: 31000 | AO39: =AO$2/AM39 -> 0.00375 | AP39: x | AQ39: + (220 - 933) | AS39: 13 | AT39: =AS39/AT$2 -> 8.8962758 | AU39: - | AV39: 4000 | AW39: 6000 | AX39: =AX$2/AV39 -> 0.015 | AY39: 0 | AZ39: 0 | BB39: 2.8 | BC39: =BB39/BC$2 -> 1.8952578 | BD39: - | BE39: 4 | BF39: 6000 | BG39: 9000 | BH39: =BH$2/BF39 -> 0.066666667 | BI39: + (25 - 75) | BJ39: + (50 - 150) | BL39: 4.3 | BM39: =BL39/BM$2 -> 0.42208001 | BO39: =R39+AA39+AJ39+AS39+BB39+BL39 -> 31
A40: H104-11-00 | B40: 7950 | C40: Apus apus | D40: Common Swift | E40: 7 | G40: 3 | K40: LC | L40: 15000 | N40: =(N$2/L40) -> 0.0026666667 | O40: - (20 - 33) | P40: - (20 - 33) | Q40: Declining | R40: 0.1 | S40: =R40/S$2 -> 0.10388003 | T40: LC | U40: 70000 | V40: 150000 | W40: =W$2/U40 -> 0.00057142857 | X40: 0 | Y40: 0 | AA40: 0.5 | AB40: =AA40/AB$2 -> 0.48863669 | AC40: VU | AD40: 14000 | AE40: 26000 | AF40: =AF$2/AD40 -> 0.021428571 | AG40: 0 | AH40: - (38 - 62) | AJ40: 0.1 | AK40: =AJ40/AK$2 -> 0.013071351 | AL40: - | AM40: 79600 | AN40: 177400 | AO40: =AO$2/AM40 -> 0.00075376884 | AP40: F | AQ40: 0 | AS40: 0.6 | AT40: =AS40/AT$2 -> 0.41059735 | AU40: - | AV40: 50000 | AW40: 100000 | AX40: =AX$2/AV40 -> 0.0012 | AY40: 0 | AZ40: 0 | BB40: 0.4 | BC40: =BB40/BC$2 -> 0.27075112 | BD40: VU | BE40: 1.5 | BF40: 218000 | BG40: 408000 | BH40: =BH$2/BF40 -> 0.0018348624 | BI40: - (23 - 39) | BJ40: - (43 - 60) | BL40: 1.6 | BM40: =BL40/BM$2 -> 0.15705303 | BO40: =R40+AA40+AJ40+AS40+BB40+BL40 -> 3.3
A41: H339-05-00 | B41: 8310 | C41: Alcedo atthis | D41: Common Kingfisher | E41: <3.3 | G41: 3 | H41: VU | I41: VU | J41: x | K41: LC | L41: 300 | N41: =N$2/L41 -> 0.13333333 | O41: 0 | P41: + (100 - 1,000) | Q41: Increasing | R41: 0.4 | S41: =R41/S$2 -> 0.41552012 | T41: NT | U41: 50 | V41: 300 | W41: =W$2/U41 -> 0.8 | X41: - (20 - 50) | Y41: - (20 - 50) | AA41: 0.2 | AB41: =AA41/AB$2 -> 0.19545467 | AC41: CR | AD41: 1 | AE41: 5 | AF41: =AF$2/AD41 -> 300 | AG41: F | AH41: F | AJ41: 0 | AK41: =AJ41/AK$2 -> 0 | AL41: 3 | AM41: 616 | AN41: 1250 | AO41: =AO$2/AM41 -> 0.097402597 | AP41: x | AQ41: + (54 - 316) | AS41: 1 | AT41: =AS41/AT$2 -> 0.68432891 | AU41: 3 ( R ) | AV41: 500 | AW41: 1000 | AX41: =AX$2/AV41 -> 0.12 | AY41: - (10 - 30) | AZ41: - (10 - 30) | BB41: 0.8 | BC41: =BB41/BC$2 -> 0.54150224 | BD41: VU | BF41: 140 | BG41: 270 | BH41: =BH$2/BF41 -> 2.8571429 | BI41: - (25 - 75) | BJ41: F | BL41: 0.2 | BM41: =BL41/BM$2 -> 0.019631628 | BO41: =R41+AA41+AJ41+AS41+BB41+BL41 -> 2.6
A42: H333-10-00 | B42: 8410 | C42: Coracias garrulus | D42: European Roller | E42: 5 | G42: 2 | J42: x | K42: RE | L42: 0 | M42: 0 | N42: - | O42: - | P42: - | Q42: - | R42: 0 | S42: =R42/S$2 -> 0 | T42: CR | U42: 1 | V42: 3 | W42: =W$2/U42 -> 40 | X42: - (20 - 50) | Y42: - (50 - 70) | AA42: 0.001 | AB42: =AA42/AB$2 -> 0.00097727337 | AC42: - | AD42: 0 | AF42: =AF$2/AD42 -> #DIV/0! | AG42: - | AH42: - | AJ42: 0 | AK42: =AJ42/AK$2 -> 0 | AL42: 1 | AM42: 21 | AN42: 21 | AO42: =AO$2/AM42 -> 2.8571429 | AP42: - (16 - 58) | AQ42: - ( - 79) | AS42: 0.2 | AT42: =AS42/AT$2 -> 0.13686578 | AU42: 1 ( E ) | AV42: 10 | AW42: 15 | AX42: =AX$2/AV42 -> 6 | AY42: - (80 - 90) | AZ42: - (90 - 93) | BB42: 0.1 | BC42: =BB42/BC$2 -> 0.067687779 | BD42: RE | BF42: 0 | BH42: =BH$2/BF42 -> #DIV/0! | BL42: 0 | BM42: =BL42/BM$2 -> 0 | BO42: =R42+AA42+AJ42+AS42+BB42+BL42 -> 0.301
A43: H287-01-00 | B43: 8460 | C43: Upupa epops | D43: Common Hoopoe | E43: <3.3 | K43: RE | L43: 0 | M43: 0 | N43: - | O43: - | P43: - | Q43: - | R43: 0 | S43: =R43/S$2 -> 0 | T43: VU | U43: 5 | V43: 20 | W43: =W$2/U43 -> 8 | X43: + (20 - 50) | Y43: - (20 - 50) | AA43: 0.001 | AB43: =AA43/AB$2 -> 0.00097727337 | AC43: - | AD43: 0 | AF43: =AF$2/AD43 -> #DIV/0! | AG43: - | AH43: - | AJ43: 0 | AK43: =AJ43/AK$2 -> 0 | AL43: 2 | AM43: 160 | AN43: 250 | AO43: =AO$2/AM43 -> 0.375 | AP43: 0 | AQ43: 0 | AS43: 0.001 | AT43: =AS43/AT$2 -> 0.00068432891 | AU43: 3 ( R ) | AV43: 300 | AW43: 500 | AX43: =AX$2/AV43 -> 0.2 | AY43: + (5 - 10) | AZ43: + (5 - 10) | BB43: 0.01 | BC43: =BB43/BC$2 -> 0.0067687779 | BD43: RE | BE43: 1.5 | BF43: 0 | BG43: 1 | BH43: =BH$2/BF43 -> #DIV/0! | BI43: - (100 - 100) | BJ43: - (90 - 100) | BL43: 0 | BM43: =BL43/BM$2 -> 0 | BO43: =R43+AA43+AJ43+AS43+BB43+BL43 -> 0.012
A44: H295-02-00 | B44: 8480 | C44: Jynx torquilla | D44: Northern Wryneck | E44: <3.3 | G44: 3 | K44: EN | L44: 30 | M44: 48 | N44: =N$2/L44 -> 1.3333333 | O44: - (33 - ) | P44: - (50 - 100) | Q44: Declining | R44: 0.001 | S44: =R44/S$2 -> 0.0010388003 | T44: LC | U44: 5000 | V44: 10000 | W44: =W$2/U44 -> 0.008 | X44: 0 | Y44: - (20 - 50) | AA44: 1.6 | AB44: =AA44/AB$2 -> 1.5636374 | AC44: - | AD44: 9200 | AE44: 17000 | AF44: =AF$2/AD44 -> 0.032608696 | AG44: 0 | AH44: - (37 - 73) | AI44: Depleted | AJ44: 2.8 | AK44: =AJ44/AK$2 -> 0.36599783 | AL44: - | AM44: 43000 | AN44: 245000 | AO44: =AO$2/AM44 -> 0.0013953488 | AP44: + (150 - 400) | AQ44: + (100 - 500) | AS44: 23.2 | AT44: =AS44/AT$2 -> 15.876431 | AU44: - | AV44: 4000 | AW44: 10000 | AX44: =AX$2/AV44 -> 0.015 | AY44: 0 | AZ44: 0 | BB44: 1.4 | BC44: =BB44/BC$2 -> 0.94762891 | BD44: - | BE44: 5 | BF44: 11000 | BG44: 39000 | BH44: =BH$2/BF44 -> 0.036363636 | BI44: + (19 - 83) | BJ44: - (37 - 63) | BL44: 4.6 | BM44: =BL44/BM$2 -> 0.45152745 | BO44: =R44+AA44+AJ44+AS44+BB44+BL44 -> 33.601
A45: H302-05-00 | B45: 8550 | C45: Picus canus | D45: Grey-headed Woodpecker | E45: <3.3 | J45: x | K45: - | L45: 0 | M45: 0 | N45: - | O45: - | P45: - | Q45: - | R45: 0 | S45: =R45/S$2 -> 0 | T45: LC | U45: 3000 | V45: 5000 | W45: =W$2/U45 -> 0.013333333 | X45: 0 | Y45: + (20 - 50) | AA45: 3 | AB45: =AA45/AB$2 -> 2.9318201 | AC45: - | AD45: 3000 | AE45: 4000 | AF45: =AF$2/AD45 -> 0.1 | AG45: + (384 - 579) | AH45: + (698 - 1,227) | AI45: Increasing | AJ45: 2.8 | AK45: =AJ45/AK$2 -> 0.36599783 | AL45: - | AM45: 15000 | AN45: 85000 | AO45: =AO$2/AM45 -> 0.004 | AP45: F | AQ45: + (296 - 3,109) | AS45: 29.2 | AT45: =AS45/AT$2 -> 19.982404 | AU45: 3 ( R ) | AV45: 800 | AW45: 2000 | AX45: =AX$2/AV45 -> 0.075 | AY45: + (10 - 20) | AZ45: + (10 - 20) | BB45: 1 | BC45: =BB45/BC$2 -> 0.67687779 | BD45: - | BE45: 4 | BF45: 1300 | BG45: 2600 | BH45: =BH$2/BF45 -> 0.30769231 | BI45: 0 | BJ45: + (50 - 150) | BL45: 1.4 | BM45: =BL45/BM$2 -> 0.1374214 | BO45: =R45+AA45+AJ45+AS45+BB45+BL45 -> 37.4
A46: H302-07-00 | B46: 8560 | C46: Picus viridis | D46: Green Woodpecker | E46: <3.3 | K46: LC | L46: 320 | M46: 320 | N46: =N$2/L46 -> 0.125 | O46: - (50 - 100) | P46: - (50 - 100) | Q46: Declining | R46: 0.001 | S46: =R46/S$2 -> 0.0010388003 | T46: EN | U46: 20 | V46: 50 | W46: =W$2/U46 -> 2 | X46: - (50 - 70) | Y46: - (50 - 70) | AA46: 0.001 | AB46: =AA46/AB$2 -> 0.00097727337 | AC46: - | AD46: 0 | AE46: 0 | AF46: =AF$2/AD46 -> #DIV/0! | AG46: - | AH46: - | AI46: - | AJ46: 0 | AK46: =AJ46/AK$2 -> 0 | AL46: 2 | AM46: 0 | AN46: 20 | AO46: =AO$2/AM46 -> #DIV/0! | AP46: x | AQ46: - (98 - 100) | AS46: 0 | AT46: =AS46/AT$2 -> 0 | AU46: 3 ( R ) | AV46: 400 | AW46: 800 | AX46: =AX$2/AV46 -> 0.15 | AY46: 0 | AZ46: - (20 - 30) | BB46: 0.1 | BC46: =BB46/BC$2 -> 0.067687779 | BD46: NT | BE46: 2 | BF46: 10000 | BG46: 18000 | BH46: =BH$2/BF46 -> 0.04 | BI46: - (19 - 41) | BJ46: - (35 - 55) | BL46: 1.3 | BM46: =BL46/BM$2 -> 0.12760558 | BO46: =R46+AA46+AJ46+AS46+BB46+BL46 -> 1.402
A47: H303-08-00 | B47: 8630 | C47: Dryocopus martius | D47: Black Woodpecker | E47: <3.3 | J47: x | K47: LC | L47: 200 | M47: 250 | N47: =N$2/L47 -> 0.2 | O47: 0 | P47: + (100 - 1,000) | Q47: Increasing | R47: 0.1 | S47: =R47/S$2 -> 0.10388003 | T47: LC | U47: 6000 | V47: 9000 | W47: =W$2/U47 -> 0.0066666667 | X47: 0 | Y47: + (20 - 50) | AA47: 2.2 | AB47: =AA47/AB$2 -> 2.1500014 | AC47: - | AD47: 32000 | AE47: 53000 | AF47: =AF$2/AD47 -> 0.009375 | AG47: + (9 - 97) | AH47: + (80 - 212) | AI47: Increasing | AJ47: 12 | AK47: =AJ47/AK$2 -> 1.5685621 | AL47: - | AM47: 45000 | AN47: 145000 | AO47: =AO$2/AM47 -> 0.0013333333 | AP47: - (10 - 70) | AQ47: + (129 - 510) | AS47: 23.8 | AT47: =AS47/AT$2 -> 16.287028 | AU47: - | AV47: 5000 | AW47: 10000 | AX47: =AX$2/AV47 -> 0.012 | AY47: 0 | AZ47: 0 | BB47: 2 | BC47: =BB47/BC$2 -> 1.3537556 | BD47: NT | BE47: 2.4 | BF47: 18000 | BG47: 32000 | BH47: =BH$2/BF47 -> 0.022222222 | BI47: - (12 - 30) | BJ47: - (25 - 49) | BL47: 7 | BM47: =BL47/BM$2 -> 0.68710699 | BO47: =R47+AA47+AJ47+AS47+BB47+BL47 -> 47.1
A48: H315-05-00 | B48: 8830 | C48: Dendrocopos medius | D48: Middle Spotted Woodpecker | E48: <3.3 | J48: x | K48: RE | L48: 0 | M48: - | N48: - | O48: - | P48: - | Q48: - | R48: 0 | S48: =R48/S$2 -> 0 | T48: (NA) | U48: 100 | V48: 300 | W48: =W$2/U48 -> 0.4 | X48: + (50 - 70) | Y48: + (50 - 70) | AA48: 0.01 | AB48: =AA48/AB$2 -> 0.0097727337 | AC48: - | AD48: 0 | AE48: 0 | AF48: =AF$2/AD48 -> #DIV/0! | AG48: - | AH48: - | AI48: - | AJ48: 0 | AK48: =AJ48/AK$2 -> 0 | AL48: 3 | AM48: 2700 | AN48: 40000 | AO48: =AO$2/AM48 -> 0.022222222 | AP48: + (1 - 1,300) | AQ48: + ( - 876) | AS48: 4.7 | AT48: =AS48/AT$2 -> 3.2163459 | AU48: - | AV48: 1500 | AW48: 3000 | AX48: =AX$2/AV48 -> 0.04 | AY48: 0 | AZ48: 0 | BB48: 0.7 | BC48: =BB48/BC$2 -> 0.47381446 | BD48: RE | BE48: 1,4,5 | BF48: 0 | BG48: 0 | BH48: =BH$2/BF48 -> #DIV/0! | BL48: 0 | BM48: =BL48/BM$2 -> 0 | BO48: =R48+AA48+AJ48+AS48+BB48+BL48 -> 5.41
A49: H315-06-00 | B49: 8840 | C49: Dendrocopos leucotos | D49: White-backed Woodpecker | E49: <3.3 | J49: x | K49: - | L49: 0 | M49: 0 | N49: - | O49: - | P49: - | Q49: - | R49: 0 | S49: =R49/S$2 -> 0 | T49: LC | U49: 3000 | V49: 6000 | W49: =W$2/U49 -> 0.013333333 | X49: 0 | Y49: + (20 - 50) | Z49: Increasing | AA49: 11.4 | AB49: =AA49/AB$2 -> 11.140916 | AC49: VU | AD49: 190 | AE49: 190 | AF49: =AF$2/AD49 -> 1.5789474 | AG49: + (217 - 217) | AH49: + (533 - 533) | AI49: Increasing | AJ49: 0.6 | AK49: =AJ49/AK$2 -> 0.078428106 | AL49: 3 | AM49: 1500 | AN49: 14000 | AO49: =AO$2/AM49 -> 0.04 | AP49: - (1 - 80) | AQ49: + ( - 599) | AS49: 13.6 | AT49: =AS49/AT$2 -> 9.3068732 | AU49: 3 ( R ) | AV49: 1500 | AW49: 3000 | AX49: =AX$2/AV49 -> 0.04 | AY49: + (20 - 30) | AZ49: x | BB49: 5.7 | BC49: =BB49/BC$2 -> 3.8582034 | BD49: CR | BE49: 1,4,5 | BF49: 2 | BG49: 4 | BH49: =BH$2/BF49 -> 200 | BI49: - (25 - 75) | BJ49: - (95 - 95) | BK49: Declining | BL49: 0.001 | BM49: =BL49/BM$2 -> 9.8158141e-05 | BO49: =R49+AA49+AJ49+AS49+BB49+BL49 -> 31.301
A50: H314-02-00 | B50: 8870 | C50: Dendrocopos minor | D50: Lesser Spotted Woodpecker | E50: <3.3 | K50: NT | L50: 50 | M50: 50 | N50: =N$2/L50 -> 0.8 | O50: 0 | P50: + (50 - ) | Q50: Increasing | R50: 0.001 | S50: =R50/S$2 -> 0.0010388003 | T50: LC | U50: 4000 | V50: 7000 | W50: =W$2/U50 -> 0.01 | X50: - (20 - 50) | Y50: - (20 - 50) | AA50: 2.2 | AB50: =AA50/AB$2 -> 2.1500014 | AC50: - | AD50: 4000 | AE50: 7000 | AF50: =AF$2/AD50 -> 0.075 | AG50: 0 | AH50: + (18 - 56) | AI50: Increasing | AJ50: 2.2 | AK50: =AJ50/AK$2 -> 0.28756972 | AL50: - | AM50: 14000 | AN50: 50000 | AO50: =AO$2/AM50 -> 0.0042857143 | AP50: - (10 - 70) | AQ50: 0 | AS50: 11.4 | AT50: =AS50/AT$2 -> 7.8013496 | AU50: - | AV50: 7000 | AW50: 10000 | AX50: =AX$2/AV50 -> 0.0085714286 | AY50: 0 | AZ50: 0 | BB50: 3.6 | BC50: =BB50/BC$2 -> 2.4367601 | BD50: NT | BE50: 2 | BF50: 4700 | BG50: 9500 | BH50: =BH$2/BF50 -> 0.085106383 | BI50: 0 | BJ50: 0 | BL50: 2.8 | BM50: =BL50/BM$2 -> 0.27484279 | BO50: =R50+AA50+AJ50+AS50+BB50+BL50 -> 22.201
A51: H317-06-00 | B51: 8980 | C51: Picoides tridactylus | D51: Eurasian Three-toed Woddpecker | E51: <3.3 | J51: x | K51: - | L51: 0 | M51: 0 | N51: - | O51: - | P51: - | Q51: - | R51: 0 | S51: =R51/S$2 -> 0 | T51: LC | U51: 3000 | V51: 5000 | W51: =W$2/U51 -> 0.013333333 | X51: 0 | Y51: + (20 - 50) | AA51: 4.7 | AB51: =AA51/AB$2 -> 4.5931848 | AC51: - | AD51: 17000 | AE51: 65000 | AF51: =AF$2/AD51 -> 0.017647059 | AG51: 0 | AH51: + (9 - 394) | AI51: Increasing | AJ51: 34.4 | AK51: =AJ51/AK$2 -> 4.4965448 | AL51: 3 | AM51: 3100 | AN51: 13000 | AO51: =AO$2/AM51 -> 0.019354839 | AP51: x | AQ51: + (1 - 1,787) | AS51: 31.2 | AT51: =AS51/AT$2 -> 21.351062 | AU51: 2 ( V ) | AV51: 300 | AW51: 600 | AX51: =AX$2/AV51 -> 0.2 | AY51: 0 | AZ51: 0 | BB51: 0.5 | BC51: =BB51/BC$2 -> 0.3384389 | BD51: NT | BE51: 2.4 | BF51: 6200 | BG51: 13000 | BH51: =BH$2/BF51 -> 0.064516129 | BI51: - (4 - 56) | BJ51: - (10 - 40) | BL51: 10.3 | BM51: =BL51/BM$2 -> 1.0110288 | BO51: =R51+AA51+AJ51+AS51+BB51+BL51 -> 81.1
A52: M444-01-00 | B52: 9740 | C52: Lullula arborea | D52: Wood Lark | E52: <3.3 | G52: 2 | J52: x | K52: NT | L52: 300 | M52: 300 | N52: =N$2/L52 -> 0.13333333 | O52: 0 | P52: 0 | Q52: Stable | R52: 0.01 | S52: =R52/S$2 -> 0.010388003 | T52: LC | U52: 10000 | V52: 20000 | W52: =W$2/U52 -> 0.004 | X52: 0 | Y52: 0 | AA52: 0.6 | AB52: =AA52/AB$2 -> 0.58636402 | AC52: VU | AD52: 4000 | AE52: 7000 | AF52: =AF$2/AD52 -> 0.075 | AG52: + (58 - 149) | AH52: + (685 - 1,430) | AI52: Increasing | AJ52: 0.2 | AK52: =AJ52/AK$2 -> 0.026142702 | AL52: - | AM52: 30000 | AN52: 88000 | AO52: =AO$2/AM52 -> 0.002 | AP52: 0 | AQ52: + (169 - 5,297) | AS52: 2.3 | AT52: =AS52/AT$2 -> 1.5739565 | AU52: - | AV52: 10000 | AW52: 20000 | AX52: =AX$2/AV52 -> 0.006 | AY52: 0 | AZ52: 0 | BB52: 0.6 | BC52: =BB52/BC$2 -> 0.40612668 | BD52: - | BE52: 4 | BF52: 9000 | BG52: 20000 | BH52: =BH$2/BF52 -> 0.044444444 | BI52: 0 | BJ52: + (100 - 300) | BL52: 0.6 | BM52: =BL52/BM$2 -> 0.058894884 | BO52: =R52+AA52+AJ52+AS52+BB52+BL52 -> 4.31
A53: N309-02-00 | B53: 10090 | C53: Anthus trivialis | D53: Tree Pipit | E53: <3.3 | G53: 3 | K53: LC | L53: 1000 | M53: 10000 | N53: =N$2/L53 -> 0.04 | O53: 0 | P53: - (33 - 50) | Q53: Depleted | R53: 0.1 | S53: =R53/S$2 -> 0.10388003 | T53: LC | U53: 400000 | V53: 700000 | W53: =W$2/U53 -> 0.0001 | X53: - (20 - 50) | Y53: - (50 - 70) | AA53: 6.1 | AB53: =AA53/AB$2 -> 5.9613676 | AC53: - | AD53: 1800000 | AE53: 2100000 | AF53: =AF$2/AD53 -> 0.00016666667 | AG53: - (4 - 19) | AH53: - (37 - 45) | AJ53: 22.7 | AK53: =AJ53/AK$2 -> 2.9671967 | AL53: - | AM53: 362600 | AN53: 541500 | AO53: =AO$2/AM53 -> 0.00016547159 | AP53: - (4 - 41) | AQ53: - (20 - 200) | AS53: 5.1 | AT53: =AS53/AT$2 -> 3.4900774 | AU53: - | AV53: 200000 | AW53: 400000 | AX53: =AX$2/AV53 -> 0.0003 | AY53: 0 | AZ53: 0 | BB53: 3.2 | BC53: =BB53/BC$2 -> 2.1660089 | BD53: - | BF53: 1396000 | BG53: 3324000 | BH53: =BH$2/BF53 -> 0.00028653295 | BI53: 0 | BJ53: 0 | BL53: 25.2 | BM53: =BL53/BM$2 -> 2.4735851 | BO53: =R53+AA53+AJ53+AS53+BB53+BL53 -> 62.4
A54: N281-05-00 | B54: 10840 | C54: Prunella modularis | D54: Dunnock | E54: <3.3 | K54: LC | L54: 50000 | M54: 50000 | N54: =(N$2/L54) -> 0.0008 | O54: - (33 - 50) | P54: - (50 - 100) | Q54: Declining | R54: 0.5 | S54: =R54/S$2 -> 0.51940015 | T54: LC | U54: 250000 | V54: 300000 | W54: =W$2/U54 -> 0.00016 | X54: 0 | Y54: 0 | AA54: 2.8 | AB54: =AA54/AB$2 -> 2.7363654 | AC54: - | AD54: 480000 | AE54: 570000 | AF54: =AF$2/AD54 -> 0.000625 | AG54: + (4 - 41) | AH54: + (2 - 35) | AI54: Increasing | AJ54: 4.9 | AK54: =AJ54/AK$2 -> 0.6404962 | AL54: - | AM54: 93000 | AN54: 200000 | AO54: =AO$2/AM54 -> 0.00064516129 | AP54: 0 | AQ54: 0 | AS54: 1.2 | AT54: =AS54/AT$2 -> 0.82119469 | AU54: - | AV54: 100000 | AW54: 200000 | AX54: =AX$2/AV54 -> 0.0006 | AY54: 0 | AZ54: 0 | BB54: 1.3 | BC54: =BB54/BC$2 -> 0.87994113 | BD54: - | BE54: 5 | BF54: 379000 | BG54: 890000 | BH54: =BH$2/BF54 -> 0.001055409 | BI54: + (9 - 29) | BJ54: - (49 - 61) | BL54: 5.6 | BM54: =BL54/BM$2 -> 0.54968559 | BO54: =R54+AA54+AJ54+AS54+BB54+BL54 -> 16.3
A55: M600-02-00 | B55: 11030 | C55: Luscinia luscinia | D55: Thrush Nigthingale | E55: <3.3 | K55: LC | L55: 9000 | M55: 9000 | N55: =(N$2/L55) -> 0.0044444444 | O55: 0 | P55: - (33 - 50) | Q55: Depleted | R55: 1 | S55: =R55/S$2 -> 1.0388003 | T55: LC | U55: 130000 | V55: 200000 | W55: =W$2/U55 -> 0.00030769231 | X55: 0 | Y55: 0 | AA55: 18.2 | AB55: =AA55/AB$2 -> 17.786375 | AC55: - | AD55: 11000 | AE55: 23000 | AF55: =AF$2/AD55 -> 0.027272727 | AG55: + (34 - 72) | AH55: + (52 - 91) | AI55: Increasing | AJ55: 1.8 | AK55: =AJ55/AK$2 -> 0.23528432 | AL55: - | AM55: 224200 | AN55: 380300 | AO55: =AO$2/AM55 -> 0.0002676182 | AP55: F | AQ55: + (49 - 213) | AS55: 33 | AT55: =AS55/AT$2 -> 22.582854 | AU55: - | AV55: 40000 | AW55: 70000 | AX55: =AX$2/AV55 -> 0.0015 | AY55: 0 | AZ55: 0 | BB55: 6 | BC55: =BB55/BC$2 -> 4.0612668 | BD55: - | BE55: 5 | BF55: 27000 | BG55: 46000 | BH55: =BH$2/BF55 -> 0.014814815 | BI55: 0 | BJ55: - (30 - 70) | BL55: 4 | BM55: =BL55/BM$2 -> 0.39263256 | BO55: =R55+AA55+AJ55+AS55+BB55+BL55 -> 64
A56: M602-10-00 | B56: 11130 | C56: Tarsiger cyanurus | D56: Red-flanked Bluetail | E56: <3.3 | K56: - | L56: 0 | M56: 0 | N56: - | O56: - | P56: - | Q56: - | R56: 0 | S56: =R56/S$2 -> 0 | T56: (NA) | U56: 0 | V56: 0 | W56: =W$2/U56 -> #DIV/0! | AA56: 0 | AB56: =AA56/AB$2 -> 0 | AC56: NT | AD56: 150 | AE56: 6500 | AF56: =AF$2/AD56 -> 2 | AG56: + (190 - 7296) | AH56: + (58,000 - 65,000) | AI56: Increasing | AJ56: 99.2 | AK56: =AJ56/AK$2 -> 12.96678 | AL56: - | AM56: 0 | AN56: 0 | AO56: =AO$2/AM56 -> #DIV/0! | AP56: - | AQ56: - | AS56: 0 | AT56: =AS56/AT$2 -> 0 | AU56: - | AV56: 0 | AW56: 0 | AX56: =AX$2/AV56 -> #DIV/0! | BB56: 0 | BC56: =BB56/BC$2 -> 0 | BD56: EN | BE56: 1 | BF56: 2 | BG56: 20 | BH56: =BH$2/BF56 -> 200 | BI56: + (100 - 2,000) | BJ56: + (100 - 2,000) | BL56: 0.8 | BM56: =BL56/BM$2 -> 0.078526513 | BO56: =R56+AA56+AJ56+AS56+BB56+BL56 -> 100
A57: M608-02-00 | B57: 11370 | C57: Saxicola rubetra | D57: Whinchat | E57: <3.3 | G57: 2 | K57: LC | L57: 2,700 | N57: =(N$2/L57)/1000 -> 1.4814815e-05 | O57: - (33 - 50) | P57: - (50 - 100) | R57: 0.1 | S57: =R57/S$2 -> 0.10388003 | T57: LC | U57: 300000 | V57: 400000 | W57: =W$2/U57 -> 0.00013333333 | X57: - (20 - 50) | Y57: - (20 - 50) | AA57: 9.8 | AB57: =AA57/AB$2 -> 9.577279 | AC57: - | AD57: 170000 | AE57: 320000 | AF57: =AF$2/AD57 -> 0.0017647059 | AG57: - (25 - 53) | AH57: - (33 - 54) | AJ57: 6.6 | AK57: =AJ57/AK$2 -> 0.86270917 | AL57: - | AM57: 382000 | AN57: 698000 | AO57: =AO$2/AM57 -> 0.00015706806 | AP57: 0 | AQ57: + (1 - 40) | AS57: 14.5 | AT57: =AS57/AT$2 -> 9.9227692 | AU57: - | AV57: 250000 | AW57: 400000 | AX57: =AX$2/AV57 -> 0.00024 | AY57: + (20 - 40) | AZ57: + (20 - 40) | BB57: 8.8 | BC57: =BB57/BC$2 -> 5.9565246 | BD57: NT | BE57: 2 | BF57: 164000 | BG57: 332000 | BH57: =BH$2/BF57 -> 0.0024390244 | BI57: - (14 - 30) | BJ57: - (34 - 50) | BL57: 6.6 | BM57: =BL57/BM$2 -> 0.64784373 | BO57: =R57+AA57+AJ57+AS57+BB57+BL57 -> 46.4
A58: M621-10-00 | B58: 12010 | C58: Turdus iliacus | D58: Redwing | E58: <3.3 | F58: NT | G58: 1 | H58: NT | I58: VU | K58: (NA) | L58: 0 | M58: 0 | N58: - | O58: - | P58: - | Q58: - | R58: 0 | S58: =R58/S$2 -> 0 | T58: LC | U58: 100000 | V58: 150000 | W58: =W$2/U58 -> 0.0004 | X58: - (20 - 50) | Y58: - (50 - 70) | AA58: 4.8 | AB58: =AA58/AB$2 -> 4.6909122 | AC58: - | AD58: 1300000 | AE58: 1800000 | AF58: =AF$2/AD58 -> 0.00023076923 | AG58: - (5 - 22) | AH58: 0 | AI58: (Declining) | AJ58: 60.3 | AK58: =AJ58/AK$2 -> 7.8820247 | AL58: - | AM58: 45000 | AN58: 93000 | AO58: =AO$2/AM58 -> 0.0013333333 | AP58: 0 | AQ58: - ( - 60) | AS58: 2.6 | AT58: =AS58/AT$2 -> 1.7792552 | AU58: - | AV58: 25000 | AW58: 40000 | AX58: =AX$2/AV58 -> 0.0024 | AY58: 0 | AZ58: 0 | BB58: 1.2 | BC58: =BB58/BC$2 -> 0.81225335 | BD58: - | BF58: 510000 | BG58: 190000 | BH58: =BH$2/BF58 -> 0.00078431373 | BI58: - (42 - 50) | BJ58: 0 | BK58: Declining | BL58: 31.1 | BM58: =BL58/BM$2 -> 3.0527182 | BO58: =R58+AA58+AJ58+AS58+BB58+BL58 -> 100
A59: M501-04-00 | B59: 12930 | C59: Phylloscopus trochiloides | D59: Greenish Leaf Warbler | E59: <3.3 | K59: - | L59: 0 | M59: 1 | N59: =N$2/M59 -> 40 | O59: - | P59: - | Q59: - | R59: 0 | S59: =R59/S$2 -> 0 | T59: LC | U59: 10000 | V59: 15000 | W59: =W$2/U59 -> 0.004 | X59: + (20 - 50) | Y59: + (50 - 70) | AA59: 38.8 | AB59: =AA59/AB$2 -> 37.918207 | AC59: - | AD59: 3800 | AE59: 65000 | AF59: =AF$2/AD59 -> 0.078947368 | AG59: + (159 - 277) | AH59: + (161 - 266) | AI59: Increasing | AJ59: 49.2 | AK59: =AJ59/AK$2 -> 6.4311047 | AL59: - | AM59: 200 | AN59: 480 | AO59: =AO$2/AM59 -> 0.3 | AP59: x | AQ59: - (3 - 90) | AS59: 0.9 | AT59: =AS59/AT$2 -> 0.61589602 | AU59: - | AV59: 2500 | AW59: 5000 | AX59: =AX$2/AV59 -> 0.024 | AY59: 0 | AZ59: + (60 - 300) | BB59: 10.4 | BC59: =BB59/BC$2 -> 7.0395291 | BD59: NT | BE59: 2 | BF59: 60 | BG59: 360 | BH59: =BH$2/BF59 -> 6.6666667 | BI59: 0 | BJ59: F | BL59: 0.4 | BM59: =BL59/BM$2 -> 0.039263256 | BO59: =R59+AA59+AJ59+AS59+BB59+BL59 -> 99.7
A60: M501-06-00 | B60: 12950 | C60: Phylloscopus borealis | D60: Arctic Warbler | E60: <3.3 | K60: - | L60: 0 | M60: 0 | N60: - | O60: - | P60: - | Q60: - | R60: 0 | S60: =R60/S$2 -> 0 | T60: (NA) | U60: 0 | V60: 0 | W60: =W$2/U60 -> #DIV/0! | AA60: 0 | AB60: =AA60/AB$2 -> 0 | AC60: VU | AD60: 500 | AE60: 2000 | AF60: =AF$2/AD60 -> 0.6 | AG60: - (5 - 73) | AH60: 0 | AI60: (Declining) | AJ60: 91.6 | AK60: =AJ60/AK$2 -> 11.973358 | AL60: - | AM60: 0 | AN60: 0 | AO60: =AO$2/AM60 -> #DIV/0! | AP60: - | AQ60: - | AS60: 0 | AT60: =AS60/AT$2 -> 0 | AU60: - | AV60: 0 | AW60: 0 | AX60: =AX$2/AV60 -> #DIV/0! | BB60: 0 | BC60: =BB60/BC$2 -> 0 | BD60: EN | BF60: 60 | BG60: 130 | BH60: =BH$2/BF60 -> 6.6666667 | BI60: x | BJ60: x | BL60: 8.4 | BM60: =BL60/BM$2 -> 0.82452838 | BO60: =R60+AA60+AJ60+AS60+BB60+BL60 -> 100
A61: M498-05-00 | B61: 13120 | C61: Phylloscopus trochilus | D61: Willow Warbler | E61: <3.3 | G61: 3 | K61: LC | L61: 260000 | M61: 260000 | N61: =N$2/L61 -> 0.00015384615 | O61: - (33 - 50) | P61: - (50 - 100) | Q61: Declining | R61: 0.8 | S61: =R61/S$2 -> 0.83104024 | T61: LC | U61: 900000 | V61: 1300000 | W61: =W$2/U61 -> 4.4444444e-05 | X61: - (20 - 50) | Y61: 0 | AA61: 3.5 | AB61: =AA61/AB$2 -> 3.4204568 | AC61: - | AD61: 6300000 | AE61: 9600000 | AF61: =AF$2/AD61 -> 4.7619048e-05 | AG61: - (24 - 33) | AH61: - (24 - 33) | AI61: Decreasing | AJ61: 39.6 | AK61: =AJ61/AK$2 -> 5.176255 | AL61: - | AM61: 530000 | AN61: 885000 | AO61: =AO$2/AM61 -> 0.00011320755 | AP61: - (17 - 53) | AQ61: + ( - 80) | AS61: 2.2 | AT61: =AS61/AT$2 -> 1.5055236 | AU61: - | AV61: 100000 | AW61: 250000 | AX61: =AX$2/AV61 -> 0.0006 | AY61: 0 | AZ61: 0 | BB61: 0.5 | BC61: =BB61/BC$2 -> 0.3384389 | BD61: - | BF61: 79300 | BG61: 1846000 | BH61: =BH$2/BF61 -> 0.0050441362 | BI61: - (7 - 14) | BJ61: - (28 - 36) | BL61: 39.6 | BM61: =BL61/BM$2 -> 3.8870624 | BO61: =R61+AA61+AJ61+AS61+BB61+BL61 -> 86.2
A62: M549-01-00 | B62: 13140 | C62: Regulus regulus | D62: Goldcrest | E62: <3.3 | G62: 2 | I62: NT | K62: LC | L62: 29000 | M62: 29000 | N62: =(N$2/L62) -> 0.0013793103 | O62: - (33 - 50) | P62: - (33 - 50) | Q62: Declining | R62: 0.3 | S62: =R62/S$2 -> 0.31164009 | T62: LC | U62: 300000 | V62: 400000 | W62: =W$2/U62 -> 0.00013333333 | X62: - (20 - 50) | Y62: 0 | AA62: 3.2 | AB62: =AA62/AB$2 -> 3.1272748 | AC62: - | AD62: 770000 | AE62: 1700000 | AF62: =AF$2/AD62 -> 0.00038961039 | AG62: - (24 - 44) | AH62: - (27 - 44) | AI62: Decreasing | AJ62: 10.4 | AK62: =AJ62/AK$2 -> 1.3594205 | AL62: - | AM62: 218500 | AN62: 553300 | AO62: =AO$2/AN62 -> 0.00010844027 | AP62: 0 | AQ62: - (33 - 75) | AS62: 3.2 | AT62: =AS62/AT$2 -> 2.1898525 | AU62: - | AV62: 250000 | AW62: 500000 | AX62: =AX$2/AV62 -> 0.00024 | AY62: 0 | AZ62: 0 | BB62: 3.2 | BC62: =BB62/BC$2 -> 2.1660089 | BD62: VU | BE62: 1.5 | BF62: 1807000 | BG62: 4153000 | BH62: =BH$2/BF62 -> 0.00022136137 | BI62: - (30 - 40) | BJ62: - (44 - 58) | BL62: 25.2 | BM62: =BL62/BM$2 -> 2.4735851 | BO62: =R62+AA62+AJ62+AS62+BB62+BL62 -> 45.5
A63: M549-03-00 | B63: 13150 | C63: Regulus ignicapillus | D63: Eurasian Firecrest | E63: <3.3 | K63: NT | L63: 25 | N63: =N$2/L63 -> 1.6 | O63: - | P63: - | R63: 0 | S63: =R63/S$2 -> 0 | T63: (NA) | U63: 0 | V63: 0 | W63: =W$2/U63 -> #DIV/0! | AA63: 0 | AB63: =AA63/AB$2 -> 0 | AC63: - | AD63: 0 | AE63: 0 | AF63: =AF$2/AD63 -> #DIV/0! | AJ63: 0 | AK63: =AJ63/AK$2 -> 0 | AL63: - | AM63: 1 | AN63: 10 | AO63: =AO$2/AM63 -> 60 | AP63: x | AQ63: x | AS63: 0.001 | AT63: =AS63/AT$2 -> 0.00068432891 | AU63: - | AV63: 5 | AW63: 10 | AX63: =AX$2/AV63 -> 12 | AY63: x | AZ63: x | BB63: 0.001 | BC63: =BB63/BC$2 -> 0.00067687779 | BD63: VU | BE63: 1 | BF63: 60 | BG63: 140 | BH63: =BH$2/BF63 -> 6.6666667 | BI63: 0 | BJ63: + (2,000 - 10,000) | BL63: 0.01 | BM63: =BL63/BM$2 -> 0.00098158141 | BO63: =R63+AA63+AJ63+AS63+BB63+BL63 -> 0.012
A64: M587-01-00 | B64: 13350 | C64: Muscicapa striata | D64: Spotted Flycatcher | E64: <3.3 | G64: 2 | K64: LC | L64: 7000 | M64: 7000 | N64: =N$2/L64 -> 0.0057142857 | O64: - (50 - 100) | P64: - (33 - 50) | Q64: Declining | R64: 0.2 | S64: =R64/S$2 -> 0.20776006 | T64: LC | U64: 200000 | V64: 300000 | W64: =W$2/U64 -> 0.0002 | X64: 0 | Y64: 0 | AA64: 4.2 | AB64: =AA64/AB$2 -> 4.1045482 | AC64: - | AD64: 1700000 | AE64: 2100000 | AF64: =AF$2/AD64 -> 0.00017647059 | AG64: + (12 - 47) | AH64: + (1 - 28) | AI64: (increasing) | AJ64: 32.3 | AK64: =AJ64/AK$2 -> 4.2220464 | AL64: - | AM64: 76000 | AN64: 175000 | AO64: =AO$2/AM64 -> 0.00078947368 | AP64: 0 | AQ64: - ( - 68) | AS64: 2 | AT64: =AS64/AT$2 -> 1.3686578 | AU64: - | AV64: 100000 | AW64: 300000 | AX64: =AX$2/AV64 -> 0.0006 | AY64: 0 | AZ64: 0 | BB64: 3 | BC64: =BB64/BC$2 -> 2.0306334 | BD64: - | BF64: 938000 | BG64: 2174000 | BH64: =BH$2/BF64 -> 0.00042643923 | BI64: 0 | BJ64: 0 | BL64: 24.2 | BM64: =BL64/BM$2 -> 2.375427 | BO64: =R64+AA64+AJ64+AS64+BB64+BL64 -> 65.9
A65: M603-03-00 | B65: 13430 | C65: Ficedula parva | D65: Red-brested Flycatcher | E65: <3.3 | J65: x | K65: (NA) | L65: 0 | M65: 0 | N65: - | O65: - | P65: - | Q65: - | R65: 0 | S65: =R65/S$2 -> 0 | T65: LC | U65: 60000 | V65: 100000 | W65: =W$2/U65 -> 0.00066666667 | X65: + (50 - 70) | Y65: + (50 - 70) | AA65: 19.6 | AB65: =AA65/AB$2 -> 19.154558 | AC65: - | AD65: 5300 | AE65: 17000 | AF65: =AF$2/AD65 -> 0.056603774 | AG65: + (19 - 266) | AH65: + (703 - 1,053) | AI65: Increasing | AJ65: 2.4 | AK65: =AJ65/AK$2 -> 0.31371243 | AL65: - | AM65: 55000 | AN65: 129000 | AO65: =AO$2/AM65 -> 0.0010909091 | AP65: + (40 - 360) | AQ65: + ( - 183) | AS65: 21 | AT65: =AS65/AT$2 -> 14.370907 | AU65: - | AV65: 20000 | AW65: 30000 | AX65: =AX$2/AV65 -> 0.003 | AY65: 0 | AZ65: 0 | BB65: 6.2 | BC65: =BB65/BC$2 -> 4.1966423 | BD65: - | BE65: 4 | BF65: 750 | BG65: 1500 | BH65: =BH$2/BF65 -> 0.53333333 | BI65: 0 | BJ65: - (5 - 45) | BL65: 0.2 | BM65: =BL65/BM$2 -> 0.019631628 | BO65: =R65+AA65+AJ65+AS65+BB65+BL65 -> 49.4
A66: M603-08-00 | B66: 13480 | C66: Ficedula albicollis | D66: Collared Flycatcher | E66: <3.3 | J66: x | K66: - | L66: 0 | M66: 0 | N66: - | O66: - | P66: - | Q66: - | R66: 0 | S66: =R66/S$2 -> 0 | T66: (NA) | U66: 1 | V66: 5 | W66: =W$2/U66 -> 40 | X66: + (20 - 50) | Y66: + (20 - 50) | AA66: 0.001 | AB66: =AA66/AB$2 -> 0.00097727337 | AC66: - | AD66: 0 | AF66: =AF$2/AD66 -> #DIV/0! | AG66: - | AH66: - | AI66: - | AJ66: 0 | AK66: =AJ66/AK$2 -> 0 | AL66: - | AM66: 1 | AN66: 3 | AO66: =AO$2/AM66 -> 60 | AP66: 0 | AQ66: 0 | AS66: 0.001 | AT66: =AS66/AT$2 -> 0.00068432891 | AU66: - | AV66: 1 | AW66: 1 | AX66: =AX$2/AV66 -> 60 | AY66: x | AZ66: x | BB66: 0.001 | BC66: =BB66/BC$2 -> 0.00067687779 | BD66: - | BE66: 4 | BF66: 4600 | BG66: 7000 | BH66: =BH$2/BF66 -> 0.086956522 | BI66: + (5 - 25) | BJ66: + (10 - 40) | BL66: 0.5 | BM66: =BL66/BM$2 -> 0.04907907 | BO66: =R66+AA66+AJ66+AS66+BB66+BL66 -> 0.503
A67: M428-07-00 | B67: 14400 | C67: Poecile palustris | D67: Marsh Tit | E67: <3.3 | K67: LC | L67: 13000 | M67: 13000 | N67: =(N$2/L67) -> 0.0030769231 | O67: + (25 - 50) | P67: - (20 - 33) | Q67: Depleted | R67: 0.4 | S67: =R67/S$2 -> 0.41552012 | T67: LC | U67: 50000 | V67: 80000 | W67: =W$2/U67 -> 0.0008 | X67: - (20 - 50) | Y67: - (50 - 70) | AA67: 2.2 | AB67: =AA67/AB$2 -> 2.1500014 | AC67: - | AD67: 0 | AE67: 0 | AF67: =AF$2/AD67 -> #DIV/0! | AJ67: 0 | AK67: =AJ67/AK$2 -> 0 | AL67: - | AM67: 78500 | AN67: 169200 | AO67: =AO$2/AM67 -> 0.00076433121 | AP67: - (4 - 69) | AQ67: - ( - 74) | AS67: 4 | AT67: =AS67/AT$2 -> 2.7373156 | AU67: - | AV67: 40000 | AW67: 60000 | AX67: =AX$2/AV67 -> 0.0015 | AY67: 0 | AZ67: 0 | BB67: 1.7 | BC67: =BB67/BC$2 -> 1.1506923 | BD67: - | BE67: 5 | BF67: 83000 | BG67: 155000 | BH67: =BH$2/BF67 -> 0.0048192771 | BI67: 0 | BJ67: - (35 - 65) | BL67: 4 | BM67: =BL67/BM$2 -> 0.39263256 | BO67: =R67+AA67+AJ67+AS67+BB67+BL67 -> 12.3
A68: M429-03-00 | B68: 14420 | C68: Poecile montanus | D68: Willow Tit | E68: <3.3 | G68: 3 | I68: VU | K68: LC | L68: 500 | M68: 500 | N68: =N$2/L68 -> 0.08 | O68: + (100 - 1,000) | P68: + (50 - ) | Q68: Increasing | R68: 0.001 | S68: =R68/S$2 -> 0.0010388003 | T68: LC | U68: 60000 | V68: 100000 | W68: =W$2/U68 -> 0.00066666667 | X68: - (50 - 70) | Y68: - (50 - 70) | AA68: 2.5 | AB68: =AA68/AB$2 -> 2.4431834 | AC68: VU | AD68: 680000 | AE68: 980000 | AF68: =AF$2/AD68 -> 0.00044117647 | AG68: - (33 - 54) | AH68: - (21 - 41) | AJ68: 26.3 | AK68: =AJ68/AK$2 -> 3.4377653 | AL68: - | AM68: 100000 | AN68: 187000 | AO68: =AO$2/AM68 -> 0.0006 | AP68: 0 | AQ68: - ( - 73) | AS68: 4.4 | AT68: =AS68/AT$2 -> 3.0110472 | AU68: - | AV68: 50000 | AW68: 85000 | AX68: =AX$2/AV68 -> 0.0012 | AY68: 0 | AZ68: 0 | BB68: 2.1 | BC68: =BB68/BC$2 -> 1.4214434 | BD68: - | BE68: 5 | BF68: 526000 | BG68: 1067000 | BH68: =BH$2/BF68 -> 0.00076045627 | BI68: - ( - 20) | BJ68: - (25 - 75) | BL68: 24 | BM68: =BL68/BM$2 -> 2.3557954 | BO68: =R68+AA68+AJ68+AS68+BB68+BL68 -> 59.301
A69: M430-02-00 | B69: 14480 | C69: Poecile cinctus | D69: Siberian Tit | E69: <3.3 | G69: 3 | I69: VU | K69: - | L69: 0 | M69: 0 | N69: - | O69: - | P69: - | Q69: - | R69: 0 | S69: =R69/S$2 -> 0 | T69: (NA) | U69: 0 | V69: 0 | W69: =W$2/U69 -> #DIV/0! | AA69: 0 | AB69: =AA69/AB$2 -> 0 | AC69: - | AD69: 50000 | AE69: 100000 | AF69: =AF$2/AD69 -> 0.006 | AG69: 0 | AH69: 0 | AI69: Stable | AJ69: 70-4 | AK69: =AJ69/AK$2 -> #VALUE! | AL69: - | AM69: 0 | AN69: 0 | AO69: =AO$2/AM69 -> #DIV/0! | AP69: - | AQ69: - | AS69: 0 | AT69: =AS69/AT$2 -> 0 | AU69: - | AV69: 0 | AW69: 0 | AX69: =AX$2/AV69 -> #DIV/0! | BB69: 0 | BC69: =BB69/BC$2 -> 0 | BD69: VU | BE69: 1.5 | BF69: 20000 | BG69: 44000 | BH69: =BH$2/BF69 -> 0.02 | BI69: - (37 - 82) | BJ69: - (25 - 75) | BL69: 29.6 | BM69: =BL69/BM$2 -> 2.905481 | BO69: =R69+AA69+AJ69+AS69+BB69+BL69 -> #VALUE!
A70: M428-01-00 | B70: 14540 | C70: Lophophanes cristatus | D70: Crested Tit | E70: <3.3 | K70: LC | L70: 15000 | M70: 15000 | N70: =(N$2/L70) -> 0.0026666667 | O70: - (20 - 33) | P70: - (50 - 100) | Q70: Declining | R70: 0.4 | S70: =R70/S$2 -> 0.41552012 | T70: LC | U70: 80000 | V70: 120000 | W70: =W$2/U70 -> 0.0005 | X70: - (20 - 50) | Y70: 0 | AA70: 2.2 | AB70: =AA70/AB$2 -> 2.1500014 | AC70: VU | AD70: 310000 | AE70: 590000 | AF70: =AF$2/AD70 -> 0.00096774194 | AG70: - (42 - 62) | AH70: F | AI70: (Declining) | AJ70: 9.4 | AK70: =AJ70/AK$2 -> 1.228707 | AL70: - | AM70: 86500 | AN70: 185000 | AO70: =AO$2/AM70 -> 0.00069364162 | AP70: 0 | AQ70: - ( - 80) | AS70: 2.8 | AT70: =AS70/AT$2 -> 1.9161209 | AU70: - | AV70: 120000 | AW70: 250000 | AX70: =AX$2/AV70 -> 0.0005 | AY70: 0 | AZ70: 0 | BB70: 3.8 | BC70: =BB70/BC$2 -> 2.5721356 | BD70: - | BF70: 293000 | BG70: 499000 | BH70: =BH$2/BF70 -> 0.0013651877 | BI70: 0 | BJ70: 0 | BL70: 8.4 | BM70: =BL70/BM$2 -> 0.82452838 | BO70: =R70+AA70+AJ70+AS70+BB70+BL70 -> 27
A71: M426-07-00 | B71: 14610 | C71: Periparus ater | D71: Coal Tit | E71: <3.3 | K71: LC | L71: 90000 | M71: 90000 | N71: =(N$2/L71) -> 0.00044444444 | O71: 0 | P71: - (20 - 33) | Q71: Depleted | R71: 0.7 | S71: =R71/S$2 -> 0.72716021 | T71: LC | U71: 250000 | V71: 573000 | W71: =W$2/U71 -> 0.00016 | X71: 0 | Y71: - (54 - 70) | AA71: 2.9 | AB71: =AA71/AB$2 -> 2.8340928 | AC71: - | AD71: 48000 | AE71: 82000 | AF71: =AF$2/AD71 -> 0.00625 | AG71: 0 | AH71: F | AI71: (Stable) | AJ71: 0.5 | AK71: =AJ71/AK$2 -> 0.065356755 | AL71: - | AM71: 50600 | AN71: 110000 | AO71: =AO$2/AM71 -> 0.0011857708 | AP71: + ( - 99) | AQ71: - ( - 70) | AS71: 0.6 | AT71: =AS71/AT$2 -> 0.41059735 | AU71: - | AV71: 50000 | AW71: 100000 | AX71: =AX$2/AV71 -> 0.0012 | AY71: 0 | AZ71: 0 | BB71: 0.6 | BC71: =BB71/BC$2 -> 0.40612668 | BD71: - | BE71: 5 | BF71: 250000 | BG71: 573000 | BH71: =BH$2/BF71 -> 0.0016 | BI71: 0 | BJ71: - (54 - 70) | BL71: 2.9 | BM71: =BL71/BM$2 -> 0.28465861 | BO71: =R71+AA71+AJ71+AS71+BB71+BL71 -> 8.2
A72: M552-03-00 | B72: 14790 | C72: Sitta europaea | D72: Eurasian Nuthatch | E72: <3.3 | K72: LC | L72: 26000 | M72: 26000 | N72: =(N$2/L72) -> 0.0015384615 | O72: + (25 - 50) | P72: + (50 - 100) | Q72: Increasing | R72: 0.4 | S72: =R72/S$2 -> 0.41552012 | T72: LC | U72: 60000 | V72: 100000 | W72: =W$2/U72 -> 0.00066666667 | X72: - (20 - 50) | Y72: 0 | AA72: 1 | AB72: =AA72/AB$2 -> 0.97727337 | AC72: VU | AD72: 1 | AE72: 20 | AF72: =AF$2/AD72 -> 300 | AG72: x | AH72: F | AI72: (Fluctuating) | AJ72: 0 | AK72: =AJ72/AK$2 -> 0 | AL72: - | AM72: 96000 | AN72: 176300 | AO72: =AO$2/AM72 -> 0.000625 | AP72: 0 | AQ72: + ( - 302) | AS72: 1.8 | AT72: =AS72/AT$2 -> 1.231792 | AU72: - | AV72: 30000 | AW72: 50000 | AX72: =AX$2/AV72 -> 0.002 | AY72: 0 | AZ72: 0 | BB72: 0.6 | BC72: =BB72/BC$2 -> 0.40612668 | BD72: - | BF72: 125000 | BG72: 252000 | BH72: =BH$2/BF72 -> 0.0032 | BI72: + (19 - 57) | BJ72: + (25 - 75) | BL72: 2.5 | BM72: =BL72/BM$2 -> 0.24539535 | BO72: =R72+AA72+AJ72+AS72+BB72+BL72 -> 6.3
A73: M204-03-00 | B73: 15080 | C73: Oriolus oriolus | D73: Eurasian Golden Oriole | E73: <3.3 | K73: CR | L73: 8 | M73: 11 | N73: =N$2/L73 -> 5 | O73: 0 | P73: - (50 - 100) | Q73: Depleted | R73: 0 | S73: =R73/S$2 -> 0 | T73: LC | U73: 30000 | V73: 50000 | W73: =W$2/U73 -> 0.0013333333 | X73: 0 | Y73: - (20 - 50) | AA73: 1.4 | AB73: =AA73/AB$2 -> 1.3681827 | AC73: EN | AD73: 2000 | AE73: 3000 | AF73: =AF$2/AD73 -> 0.15 | AG73: - (73 - 99) | AH73: - (61 - 94) | AI73: Declining | AJ73: 0.1 | AK73: =AJ73/AK$2 -> 0.013071351 | AL73: - | AM73: 103000 | AN73: 237600 | AO73: =AO$2/AM73 -> 0.00058252427 | AP73: + (8 - 222) | AQ73: + (19 - 250) | AS73: 6.1 | AT73: =AS73/AT$2 -> 4.1744064 | AU73: - | AV73: 15000 | AW73: 25000 | AX73: =AX$2/AV73 -> 0.004 | AY73: 0 | AZ73: 0 | BB73: 0.6 | BC73: =BB73/BC$2 -> 0.40612668 | BD73: VU | BE73: 1 | BF73: 100 | BG73: 200 | BH73: =BH$2/BF73 -> 4 | BI73: + (10 - 40) | BJ73: 0 | BL73: 0.001 | BM73: =BL73/BM$2 -> 9.8158141e-05 | BO73: =R73+AA73+AJ73+AS73+BB73+BL73 -> 8.201
A74: M226-09-00 | B74: 15150 | C74: Lanius collurio | D74: Red-backed Shrike | E74: <3.3 | G74: 2 | J74: x | K74: LC | L74: 1500 | N74: =(N$2/L74) -> 0.026666667 | O74: 0 | P74: - (50 - 100) | Q74: Depleted | R74: 0.001 | S74: =R74/S$2 -> 0.0010388003 | T74: LC | U74: 40000 | V74: 60000 | W74: =W$2/U74 -> 0.001 | X74: - (20 - 50) | Y74: - (20 - 50) | AA74: 1 | AB74: =AA74/AB$2 -> 0.97727337 | AC74: - | AD74: 36000 | AE74: 84000 | AF74: =AF$2/AD74 -> 0.0083333333 | AG74: 0 | AH74: 0 | AJ74: 1.1 | AK74: =AJ74/AK$2 -> 0.14378486 | AL74: - | AM74: 68200 | AN74: 246250 | AO74: =AO$2/AM74 -> 0.0008797654 | AP74: 0 | AQ74: + (10 - 70) | AS74: 2.8 | AT74: =AS74/AT$2 -> 1.9161209 | AU74: - | AV74: 40000 | AW74: 60000 | AX74: =AX$2/AV74 -> 0.0015 | AY74: + (5 - 10) | AZ74: + (10 - 20) | BB74: 1 | BC74: =BB74/BC$2 -> 0.67687779 | BD74: - | BE74: 4 | BF74: 29000 | BG74: 58000 | BH74: =BH$2/BF74 -> 0.013793103 | BI74: 0 | BJ74: - (25 - 55) | BL74: 0.8 | BM74: =BL74/BM$2 -> 0.078526513 | BO74: =R74+AA74+AJ74+AS74+BB74+BL74 -> 6.701
A75: M232-01-00 | B75: 15430 | C75: Perisoreus infaustus | D75: Siberian Jay | E75: 4 | K75: - | L75: 0 | M75: 0 | N75: - | O75: - | P75: - | Q75: - | R75: 0 | S75: =R75/S$2 -> 0 | T75: (NA) | U75: 0 | V75: 0 | W75: =W$2/U75 -> #DIV/0! | X75: - | Y75: - | AA75: 0 | AB75: =AA75/AB$2 -> 0 | AC75: NT | AD75: 40000 | AE75: 80000 | AF75: =AF$2/AD75 -> 0.0075 | AG75: 0 | AH75: 0 | AI75: Stable | AJ75: 52.4 | AK75: =AJ75/AK$2 -> 6.8493879 | AL75: 0 | AM75: 0 | AO75: =AO$2/AM75 -> #DIV/0! | AP75: - | AQ75: - | AS75: 0 | AT75: =AS75/AT$2 -> 0 | AU75: - | AV75: 0 | AW75: 0 | AX75: =AX$2/AV75 -> #DIV/0! | AY75: - | AZ75: - | BA75: - | BB75: 0 | BC75: =BB75/BC$2 -> 0 | BD75: - | BF75: 37000 | BG75: 71000 | BH75: =BH$2/BF75 -> 0.010810811 | BI75: 0 | BJ75: - (10 - 40) | BL75: 47.6 | BM75: =BL75/BM$2 -> 4.6723275 | BO75: =R75+AA75+AJ75+AS75+BB75+BL75 -> 100
A76: M234-04-00 | B76: 15570 | C76: Nucifraga caryocatactes | D76: Eurasian Nutcrakcer | E76: 5 | K76: RE | L76: 1 | M76: 2 | N76: =N$2/L76 -> 40 | O76: - | P76: - | Q76: - | R76: 0 | S76: =R76/S$2 -> 0 | T76: LC | U76: 5000 | V76: 9000 | W76: =W$2/U76 -> 0.008 | X76: 0 | Y76: + (50 - 70) | AA76: 3.9 | AB76: =AA76/AB$2 -> 3.8113661 | AC76: - | AD76: 2000 | AE76: 3500 | AF76: =AF$2/AD76 -> 0.15 | AG76: 0 | AH76: + (38 - 234) | AI76: (Increasing) | AJ76: 1.5 | AK76: =AJ76/AK$2 -> 0.19607027 | AL76: - | AM76: 2680 | AN76: 33700 | AO76: =AO$2/AM76 -> 0.02238806 | AP76: F | AQ76: - ( - 89) | AS76: 7.4 | AT76: =AS76/AT$2 -> 5.0640339 | AU76: - | AV76: 3000 | AW76: 8000 | AX76: =AX$2/AV76 -> 0.02 | AY76: - (10 - 40) | AZ76: - (20 - 70) | BB76: 2.8 | BC76: =BB76/BC$2 -> 1.8952578 | BD76: NT | BE76: 2.5 | BF76: 7200 | BG76: 14000 | BH76: =BH$2/BF76 -> 0.055555556 | BI76: - ( - 68) | BJ76: - (39 - 83) | BL76: 5.6 | BM76: =BL76/BM$2 -> 0.54968559 | BO76: =R76+AA76+AJ76+AS76+BB76+BL76 -> 21.2
A77: M573-08-00 | B77: 15820 | C77: Sturnus vulgaris | D77: Common Starling | E77: <3.3 | G77: 3 | K77: LC | L77: 270000 | M77: 270000 | N77: =(N$2/L77) -> 0.00014814815 | O77: - (33 - 50) | P77: - (33 - 50) | Q77: Declining | R77: 1.2 | S77: =R77/S$2 -> 1.2465604 | T77: LC | U77: 150000 | V77: 250000 | W77: =W$2/U77 -> 0.00026666667 | X77: 0 | Y77: 0 | AA77: 0.8 | AB77: =AA77/AB$2 -> 0.7818187 | AC77: - | AD77: 52000 | AE77: 67000 | AF77: =AF$2/AD77 -> 0.0057692308 | AG77: 0 | AH77: - (45 - 65) | AJ77: 0.2 | AK77: =AJ77/AK$2 -> 0.026142702 | AL77: - | AM77: 442000 | AN77: 626000 | AO77: =AO$2/AM77 -> 0.00013574661 | AP77: + (22 - 146) | AQ77: + (21 - 192) | AS77: 2.4 | AT77: =AS77/AT$2 -> 1.6423894 | AU77: - | AV77: 300000 | AW77: 500000 | AX77: =AX$2/AV77 -> 0.0002 | AY77: 0 | AZ77: 0 | BB77: 1.7 | BC77: =BB77/BC$2 -> 1.1506923 | BD77: VU | BE77: 1 | BF77: 306000 | BG77: 714000 | BH77: =BH$2/BF77 -> 0.0013071895 | BI77: - (22 - 38) | BJ77: - (39 - 53) | BL77: 2 | BM77: =BL77/BM$2 -> 0.19631628 | BO77: =R77+AA77+AJ77+AS77+BB77+BL77 -> 8.3
A78: N316-02-00 | B78: 16380 | C78: Fringilla montifringilla | D78: Brambling | E78: <3.3 | G78: 3 | I78: VU | K78: (NA) | L78: 0 | M78: 0 | N78: - | O78: - | P78: - | Q78: - | R78: 0 | S78: =R78/S$2 -> 0 | T78: VU | U78: 1 | V78: 10 | W78: =W$2/U78 -> 40 | X78: 0 | Y78: - (50 - 70) | AA78: 0 | AB78: =AA78/AB$2 -> 0 | AC78: - | AD78: 1400000 | AE78: 2000000 | AF78: =AF$2/AD78 -> 0.00021428571 | AG78: - (12 - 38) | AH78: - (30 - 46) | AI78: Declining | AJ78: 46.3 | AK78: =AJ78/AK$2 -> 6.0520355 | AL78: - | AM78: 0 | AN78: 0 | AO78: =AO$2/AM78 -> #DIV/0! | AP78: - | AQ78: - | AS78: 0 | AT78: =AS78/AT$2 -> 0 | AU78: - | AV78: 0 | AW78: 0 | AX78: =AX$2/AV78 -> #DIV/0! | AY78: - | AZ78: - | BB78: 0 | BC78: =BB78/BC$2 -> 0 | BD78: - | BF78: 1254000 | BG78: 3007000 | BH78: =BH$2/BF78 -> 0.00031897927 | BI78: - (18 - 32) | BJ78: 0 | BL78: 53.6 | BM78: =BL78/BM$2 -> 5.2612763 | BO78: =R78+AA78+AJ78+AS78+BB78+BL78 -> 99.9
A79: N334-01-00 | B79: 16400 | C79: Serinus serinus | D79: European Serin | E79: <3.3 | G79: 2 | K79: VU | L79: 20 | N79: =N$2/L79 -> 2 | O79: - | P79: - | Q79: - | R79: 0 | S79: =R79/S$2 -> 0 | T79: NT | U79: 100 | V79: 300 | W79: =W$2/U79 -> 0.4 | X79: 0 | Y79: + (20 - 50) | AA79: 0.001 | AB79: =AA79/AB$2 -> 0.00097727337 | AC79: (NA) | AD79: 1 | AE79: 3 | AF79: =AF$2/AD79 -> 300 | AG79: x | AH79: F | AJ79: 0 | AK79: =AJ79/AK$2 -> 0 | AL79: - | AM79: 129 | AN79: 308 | AO79: =AO$2/AM79 -> 0.46511628 | AP79: x | AQ79: + (- 516) | AS79: 0 | AT79: =AS79/AT$2 -> 0 | AU79: - | AV79: 15000 | AW79: 25000 | AX79: =AX$2/AV79 -> 0.004 | AY79: + (650 - 1,150) | AZ79: + (2,900 - 4,900) | BC79: =BB79/BC$2 -> 0 | BD79: VU | BE79: 1 | BF79: 30 | BG79: 60 | BH79: =BH$2/BF79 -> 13.333333 | BI79: 0 | BJ79: 0 | BL79: 0 | BM79: =BL79/BM$2 -> 0 | BO79: =R79+AA79+AJ79+AS79+BB79+BL79 -> 0.001
A80: N328-06-00 | B80: 16490 | C80: Carduelis chloris | D80: European Greenfinch | E80: <3.3 | K80: LC | L80: 50000 | M80: 50000 | N80: =(N$2/L80) -> 0.0008 | O80: 0 | P80: + (50 - 100) | Q80: Increasing | R80: 2.5 | S80: =R80/S$2 -> 2.5970007 | T80: LC | U80: 80000 | V80: 120000 | W80: =W$2/U80 -> 0.0005 | X80: + (20 - 50) | Y80: + (50 - 70) | AA80: 0.5 | AB80: =AA80/AB$2 -> 0.48863669 | AC80: VU | AD80: 170000 | AE80: 400000 | AF80: =AF$2/AD80 -> 0.0017647059 | AG80: - (41 - 57) | AH80: + (349 - 570) | AI80: F | AJ80: 1.4 | AK80: =AJ80/AK$2 -> 0.18299891 | AL80: - | AM80: 113600 | AN80: 194200 | AO80: =AO$2/AM80 -> 0.00052816901 | AP80: + (6 - 216) | AQ80: + (5 - 297) | AS80: 0.8 | AT80: =AS80/AT$2 -> 0.54746313 | AU80: - | AV80: 120000 | AW80: 150000 | AX80: =AX$2/AV80 -> 0.0005 | AY80: 0 | AZ80: 0 | BB80: 0.8 | BC80: =BB80/BC$2 -> 0.54150224 | BD80: - | BF80: 241000 | BG80: 572000 | BH80: =BH$2/BF80 -> 0.001659751 | BI80: - (37 - 48) | BJ80: 0 | BL80: 1.9 | BM80: =BL80/BM$2 -> 0.18650047 | BO80: =R80+AA80+AJ80+AS80+BB80+BL80 -> 7.9
A81: N332-08-00 | B81: 16660 | C81: Loxia curvirostra | D81: Red Crossbill | E81: <3.3 | K81: LC | L81: 850 | M81: 850 | N81: =N$2/L81 -> 0.047058824 | O81: 0 | P81: 0 | Q81: Stable | R81: 0.001 | S81: =R81/S$2 -> 0.0010388003 | T81: LC | U81: 5000 | V81: 75000 | W81: =W$2/U81 -> 0.008 | X81: F | Y81: F | AA81: 1.8 | AB81: =AA81/AB$2 -> 1.7590921 | AC81: - | AD81: 150000 | AE81: 520000 | AF81: =AF$2/AD81 -> 0.002 | AG81: F | AH81: - (37 - 61) | AJ81: 19.2 | AK81: =AJ81/AK$2 -> 2.5096994 | AL81: - | AM81: 10250 | AN81: 64600 | AO81: =AO$2/AM81 -> 0.0058536585 | AP81: - (56 - 99) | AQ81: F | AS81: 1.9 | AT81: =AS81/AT$2 -> 1.3002249 | AU81: - | AV81: 10000 | AW81: 20000 | AX81: =AX$2/AV81 -> 0.006 | AY81: 0 | AZ81: 0 | BB81: 0.4 | BC81: =BB81/BC$2 -> 0.27075112 | BD81: - | BE81: 5 | BF81: 58000 | BG81: 584000 | BH81: =BH$2/BF81 -> 0.0068965517 | BI81: 0 | BJ81: - (60 - 80) | BL81: 15.3 | BM81: =BL81/BM$2 -> 1.5018196 | BO81: =R81+AA81+AJ81+AS81+BB81+BL81 -> 38.601
A82: N323-01-00 | B82: 16790 | C82: Carpodacus erythrinus | D82: Common Rosefinch | E82: <3.3 | G82: 3 | I82: VU | K82: VU | L82: 50 | M82: 50 | N82: =N$2/L82 -> 0.8 | O82: - (50 - 100) | P82: F | Q82: Fluctuating | R82: 0.001 | S82: =R82/S$2 -> 0.0010388003 | T82: LC | U82: 100000 | V82: 200000 | W82: =W$2/U82 -> 0.0004 | X82: - (20 - 50) | Y82: 0 | AA82: 26.8 | AB82: =AA82/AB$2 -> 26.190926 | AC82: NT | AD82: 110000 | AE82: 130000 | AF82: =AF$2/AD82 -> 0.0027272727 | AG82: - (17 - 40) | AH82: - (38 - 52) | AJ82: 23.7 | AK82: =AJ82/AK$2 -> 3.0979102 | AL82: - | AM82: 88000 | AN82: 306000 | AO82: =AO$2/AM82 -> 0.00068181818 | AP82: - (20 - 60) | AQ82: - (15 - 55) | AS82: 31.8 | AT82: =AS82/AT$2 -> 21.761659 | AU82: - | AV82: 3000 | AW82: 70000 | AX82: =AX$2/AV82 -> 0.02 | AY82: 0 | AZ82: 0 | BB82: 8.7 | BC82: =BB82/BC$2 -> 5.8888368 | BD82: VU | BE82: 1.5 | BF82: 10000 | BG82: 24000 | BH82: =BH$2/BF82 -> 0.04 | BI82: - ( - 44) | BJ82: - (52 - 76) | BL82: 3 | BM82: =BL82/BM$2 -> 0.29447442 | BO82: =R82+AA82+AJ82+AS82+BB82+BL82 -> 94.001
A83: N325-10-00 | B83: 17100 | C83: Pyrrhula pyrrhula | D83: Eurasian Bullfinch | E83: <3.3 | K83: LC | L83: 15000 | M83: 15000 | N83: =(N$2/L83) -> 0.0026666667 | O83: - (33 - 50) | P83: + (25 - 50) | Q83: Fluctuating | R83: 0.7 | S83: =R83/S$2 -> 0.72716021 | T83: LC | U83: 100000 | V83: 200000 | W83: =W$2/U83 -> 0.0004 | X83: - (20 - 50) | Y83: 0 | AA83: 6.2 | AB83: =AA83/AB$2 -> 6.0590949 | AC83: VU | AD83: 190000 | AE83: 260000 | AF83: =AF$2/AD83 -> 0.0015789474 | AG83: - (53 - 69) | AH83: 0 | AJ83: 9.8 | AK83: =AJ83/AK$2 -> 1.2809924 | AL83: - | AM83: 123000 | AN83: 289000 | AO83: =AO$2/AM83 -> 0.00048780488 | AP83: F | AQ83: + ( - 273) | AS83: 8.4 | AT83: =AS83/AT$2 -> 5.7483628 | AU83: - | AV83: 60000 | AW83: 120000 | AX83: =AX$2/AV83 -> 0.001 | AY83: 0 | AZ83: 0 | BB83: 3.7 | BC83: =BB83/BC$2 -> 2.5044478 | BD83: - | BF83: 226000 | BG83: 523000 | BH83: =BH$2/BF83 -> 0.0017699115 | BI83: 0 | BJ83: - (25 - 53) | BL83: 15.2 | BM83: =BL83/BM$2 -> 1.4920037 | BO83: =R83+AA83+AJ83+AS83+BB83+BL83 -> 44
A84: N355-11-00 | B84: 18570 | C84: Emberiza citrinella | D84: Yellowhammer | E84: <3.3 | G84: 2 | K84: LC | L84: 310000 | N84: =(N$2/L84) -> 0.00012903226 | O84: - (20 - 33) | P84: - (50 - 100) | Q84: Declining | R84: 2.3 | S84: =R84/S$2 -> 2.3892407 | T84: LC | U84: 150000 | V84: 200000 | W84: =W$2/U84 -> 0.00026666667 | X84: 0 | Y84: - (20 - 50) | AA84: 1.2 | AB84: =AA84/AB$2 -> 1.172728 | AC84: - | AD84: 840000 | AE84: 1100000 | AF84: =AF$2/AD84 -> 0.00035714286 | AG84: 0 | AH84: 0 | AJ84: 7.1 | AK84: =AJ84/AK$2 -> 0.92806592 | AL84: - | AM84: 211000 | AN84: 365000 | AO84: =AO$2/AM84 -> 0.00028436019 | AP84: 0 | AQ84: 0 | AS84: 2 | AT84: =AS84/AT$2 -> 1.3686578 | AU84: - | AV84: 200000 | AW84: 400000 | AX84: =AX$2/AV84 -> 0.0003 | AY84: 0 | AZ84: 0 | BB84: 2.1 | BC84: =BB84/BC$2 -> 1.4214434 | BD84: VU | BE84: 1.5 | BF84: 278000 | BG84: 882000 | BH84: =BH$2/BF84 -> 0.0014388489 | BI84: - (26 - 35) | BJ84: - (56 - 62) | BL84: 4.4 | BM84: =BL84/BM$2 -> 0.43189582 | BO84: =R84+AA84+AJ84+AS84+BB84+BL84 -> 19.1
A85: N355-08-00 | B85: 18660 | C85: Emberiza hortulana | D85: Ortolan Bunting | E85: <3.3 | G85: 2 | J85: x | K85: - | L85: 0 | M85: 0 | N85: - | O85: - | P85: - | Q85: - | R85: 0 | S85: =R85/S$2 -> 0 | T85: VU | U85: 300 | V85: 500 | W85: =W$2/U85 -> 0.13333333 | X85: - (20 - 50) | Y85: - (50 - 70) | AA85: 0.001 | AB85: =AA85/AB$2 -> 0.00097727337 | AC85: EN | AD85: 9400 | AE85: 25000 | AF85: =AF$2/AD85 -> 0.031914894 | AG85: - (36 - 90) | AH85: - (98 - 99) | AJ85: 1.5 | AK85: =AJ85/AK$2 -> 0.19607027 | AL85: - | AM85: 144 | AN85: 7740 | AO85: =AO$2/AM85 -> 0.41666667 | AP85: x | AQ85: - ( - 82) | AS85: 0.2 | AT85: =AS85/AT$2 -> 0.13686578 | AU85: 4 ( I ) | AV85: 60 | AW85: 100 | AX85: =AX$2/AV85 -> 1 | AY85: - (50 - 70) | AZ85: - (60 - 80) | BB85: 0.001 | BC85: =BB85/BC$2 -> 0.00067687779 | BD85: VU | BE85: 1,4,5 | BF85: 2600 | BG85: 5000 | BH85: =BH$2/BF85 -> 0.15384615 | BI85: - (8 - 68) | BJ85: - (75 - 91) | BL85: 0.4 | BM85: =BL85/BM$2 -> 0.039263256 | BO85: =R85+AA85+AJ85+AS85+BB85+BL85 -> 2.102
A86: N357-03-00 | B86: 18730 | C86: Emberiza rustica | D86: Rustic Bunting | E86: <3.3 | F86: VU | G86: 1 | H86: VU | I86: VU | K86: - | L86: 0 | M86: 0 | N86: - | O86: - | P86: - | Q86: - | R86: 0 | S86: =R86/S$2 -> 0 | T86: (NA) | U86: 0 | V86: 0 | W86: =W$2/U86 -> #DIV/0! | X86: - | Y86: - | AA86: 0 | AB86: =AA86/AB$2 -> 0 | AC86: NT | AD86: 170000 | AE86: 310000 | AF86: =AF$2/AD86 -> 0.0017647059 | AG86: 0 | AH86: - (69 - 89) | AJ86: 93.8 | AK86: =AJ86/AK$2 -> 12.260927 | AL86: - | AM86: 0 | AN86: 0 | AO86: =AO$2/AM86 -> #DIV/0! | AP86: - | AQ86: - | AS86: 0 | AT86: =AS86/AT$2 -> 0 | AU86: - | AV86: 0 | AW86: 0 | AX86: =AX$2/AV86 -> #DIV/0! | AY86: - | AZ86: - | BB86: 0 | BC86: =BB86/BC$2 -> 0 | BD86: VU | BE86: 1.5 | BF86: 11000 | BG86: 21000 | BH86: =BH$2/BF86 -> 0.036363636 | BI86: - (51 - 79) | BJ86: - (85 - 95) | BL86: 6.2 | BM86: =BL86/BM$2 -> 0.60858047 | BO86: =R86+AA86+AJ86+AS86+BB86+BL86 -> 100
A87: N356-08-00 | B87: 18770 | C87: Emberiza schoeniclus | D87: Reed Bunting | E87: <3.3 | K87: LC | L87: 36000 | N87: =(N$2/L87) -> 0.0011111111 | O87: 0 | P87: 0 | Q87: Stable | R87: 1.7 | S87: =R87/S$2 -> 1.7659605 | T87: LC | U87: 60000 | V87: 120000 | W87: =W$2/U87 -> 0.00066666667 | X87: 0 | Y87: + (20 - 50) | AA87: 3.8 | AB87: =AA87/AB$2 -> 3.7136388 | AC87: VU | AD87: 210000 | AE87: 330000 | AF87: =AF$2/AD87 -> 0.0014285714 | AG87: - (15 - 43) | AH87: - (22 - 38) | AJ87: 11.8 | AK87: =AJ87/AK$2 -> 1.5424194 | AL87: - | AM87: 10600 | AN87: 37000 | AO87: =AO$2/AM87 -> 0.0056603774 | AP87: F | AQ87: + (2 - 168) | AS87: 1 | AT87: =AS87/AT$2 -> 0.68432891 | AU87: - | AV87: 40000 | AW87: 100000 | AX87: =AX$2/AV87 -> 0.0015 | AY87: 0 | AZ87: 0 | BB87: 3 | BC87: =BB87/BC$2 -> 2.0306334 | BD87: VU | BE87: 1 | BF87: 192000 | BG87: 448000 | BH87: =BH$2/BF87 -> 0.0020833333 | BI87: - (18 - 35) | BJ87: - (36 - 52) | BL87: 13.4 | BM87: =BL87/BM$2 -> 1.3153191 | BO87: =R87+AA87+AJ87+AS87+BB87+BL87 -> 34.7
A88: Total no. | C88: =COUNTIF(C3:C87,">A") -> 85 | F88: =COUNTIF(F3:F87,">A") -> 5 | G88: =COUNTIF(G3:G87,">0") -> 33 | H88: =COUNTIF(H3:H87,">A") -> 7 | I88: =COUNTIF(I3:I87,">A") -> 12 | J88: =COUNTIF(J3:J87,">A") -> 38 | K88: =(COUNTIF(K3:K87,">A"))-(COUNTIF(K3:K87,"=LC")) -> 23 | T88: =(COUNTIF(T3:T87,">A"))-(COUNTIF(T3:T87,"=LC")) -> 26 | AC88: =COUNTIF(AC3:AC87,">A") -> 31 | AL88: =COUNTIF(AL3:AL87,"<6") -> 32 | AU88: =COUNTIF(AU3:AU87,">0 (") -> 32 | BD88: =COUNTIF(BD3:BD87,">A") -> 38 | BE88: =C88-(COUNTIF(BE3:BE87,"=")) -> 62
M89: =COUNTIF(M3:M87,"=0") -> 33 | Z89: *) ssp. rossica
M90: =C88-M89 -> 52
A91: Index and taxonomy based on Fjeldså et al (2016) and should thereby reflect 'the new' DNA-based taxonomy. Though 'N' should be read as 'M' in the Index (introduced to ensure correct order if sorting by Index).
A93: BLI-SPEC:
A94: SPEC 1 | B94: European species of global conservation concern, i.e. classified as Critically Endangered, Endangered, Vulnerable or Near Threatened at global level (BirdLife International 2016).
A96: SPEC 2 | B96: Species whose global population is concentrated in Europe, and which is classified as Regionally Extinct, Critically Endangered, Endangered, Vulnerable, Near Threatened, Declining (1), Depleted (2)or Rare at European level (BirdLife International 2015).
A98: SPEC 3 | B98: Species whose global population is not concentrated in Europe, but which is classified as Regionally Extinct, Critically Endangered, Endangered, Vulnerable, Near Threatened, Declining (1), Depleted (2) or Rare at European level (BirdLife International 2015).
A99: (1) Declining here means: European population has declined by >20 % since the 1970s (when the Birds in Europe series began), and has continued to decline since 2001.
A100: (2) Depleted here means: European population has declined by >20 % since the 1970s (when the Birds in Europe series began), but has not declined further since 2001.
A102: IUCN-red list categories:
A103: RE - Regionally Extinct
A104: CR - Critically Endangered
...

Sheet Supplements
A1: Species adopted to the Long-list due to the fact that they are fulfilling the requirements for classification according to the Swedish Appendix 4 in other countries and/or the SPEC-criteria as for population trends (se table belov for reasons for each of the 23 species).
E2: Genertion | F2: Global/Europe/EU-27 | K2: Denmark | M2: Estimated population | O2: Rareness | P2: Trend, % | R2: Trend | S2: Estonia | T2: Estimated population | V2: Rareness | W2: Trend, % | Y2: Trend | Z2: Finland | AA2: Estimated population | AC2: Rareness | AD2: Trend, % | AF2: Trend | AG2: Latvia | AH2: Estimated population | AJ2: Rareness | AK2: Trend, % | AM2: Trend | AN2: Lithuania | AO2: Estimated population | AQ2: Rareness | AR2: Trend, % | AT2: Trend | AU2: Sweden | AW2: Estimated population | AY2: Rareness | AZ2: Trend, % | BB2: Trend
A3: Index | B3: Euring | C3: Scientific name | D3: English name | E3: Length, y. | F3: IUCN, W | G3: BLI-SPEC | H3: Europe | I3: EU-27 | J3: Annex I | K3: DK-red | L3: DOF, crit. | M3: Low | N3: High | O3: 40 | P3: Short Term | Q3: Long Term | R3: (BLI-crit.) | S3: EE-red | T3: Low | U3: High | V3: 40 | W3: Short Term | X3: Long Term | Y3: (BLI-crit.) | Z3: FI-red | AA3: Low | AB3: High | AC3: 300 | AD3: Short Term | AE3: Long Term | AF3: (BLI-crit.) | AG3: LV-red | AH3: Low | AI3: High | AJ3: 60 | AK3: Short Term | AL3: Long Term | AM3: (BLI-crit.) | AN3: LT-red | AO3: Low | AP3: High | AQ3: 60 | AR3: Short Term | AS3: Long Term | AT3: (BLI-crit.) | AU3: SE-red | AV3: SV App.4 | AW3: Low | AX3: High | AY3: 400 | AZ3: Short Term | BA3: Long Term | BB3: (BLI-crit.)
A4: H012-01-00 | B4: 2180 | C4: Bucephala clangula | D4: Common Goldeneye | E4: 4 | K4: NT | M4: 100 | N4: 100 | O4: =O$3/M4 -> 0.4 | P4: + (50 - 100) | Q4: + (10000 - 100000)
A5: H238-08-00 | B5: 2560 | C5: Circaetus gallicus | D5: Short-toed Eagle | E5: 13 | J5: x | K5: RE | M5: 0 | N5: 0 | O5: - | P5: - | Q5: - | R5: - | S5: CR | AG5: 1 | AN5: 0 ( Ex )
A6: H255-01-00 | B6: 2870 | C6: Buteo buteo | D6: Eurasian Buzzard | E6: 8 | M6: 5000 | N6: 5000 | O6: =O$3/M6 -> 0.008 | P6: 0 | Q6: + (50 - 100) | R6: Increasing | Z6: VU | AA6: 4000 | AB6: 4200 | AC6: =AC3/AA6 -> 0.075 | AD6: - (21 - 25) | AE6: - (30 - 36) | AF6: Declining
A7: H241-08-00 | B7: 2920 | C7: Clanga pomarina | D7: Lesser Spotted Eagle | E7: 11 | J7: x | K7: - | M7: 0 | N7: 0 | O7: - | P7: - | Q7: - | R7: - | S7: NT | AG7: 3 | AN7: 3 ( R ) | AO7: 1931 | AP7: 2869 | AQ7: =AQ3/AO7 -> 0.031071983 | AR7: 0 | AS7: - (17 - 24) | AT7: Depleted | AU7: -
A8: H241-10-00 | B8: 2930 | C8: Clanga clanga | D8: Greater Spotted Eagle | E8: 11 | F8: VU | G8: 1 | H8: EN | J8: x | K8: - | M8: 0 | N8: 0 | O8: - | P8: - | Q8: - | R8: - | S8: CR | T8: 5 | U8: 10 | V8: =V3/T8 -> 8 | W8: - (50 - 70) | X8: - (50 - 70) | Y8: Declining | Z8: CR | AG8: 1 | AN8: 1 ( E ) | AU8: -
A9: H349-10-00 | B9: 3040 | C9: Falco tinnunculus | D9: Common Kestrel | E9: <3.3 | G9: 3 | M9: 1500 | N9: 1500 | O9: =O$3/M9 -> 0.026666667 | P9: - (33 - 50) | Q9: + (25 - 50) | R9: Fluctuating | AG9: 1 | AN9: 2 ( V )
A10: H351-07-00 | B10: 3100 | C10: Falco subbuteo | D10: Eurasian Hobby | E10: 5 | K10: EN | L10: x | M10: 13 | N10: 21 | O10: =O$3/M10 -> 3.0769231 | P10: + (50 - 100) | Q10: + (100 - 1000) | R10: Increasing | AN10: 3 ( R )
A11: H216-03-00 | B11: 5530 | C11: Tringa ochropus | D11: Green Sandpiper | E11: <3.3 | K11: VU | M11: 30 | N11: 30 | O11: =O$3/M11 -> 1.3333333 | P11: 0 | Q11: - (20 - 33) | R11: Depleted
A12: H055-04-00 | B12: 6870 | C12: Streptopelia turtur | D12: European Turtle Dove | E12: <3.3 | F12: VU | G12: 1 | H12: VU | I12: NT | K12: NT | M12: 100 | N12: 100 | O12: =O$3/M12 -> 0.4 | P12: + (50 - ) | Q12: 0 | R12: Increasing | Z12: CR
A13: H274-02-00 | B13: 7650 | C13: Strix uralensis | D13: Ural Owl | E13: 9 | J13: x | M13: 0 | N13: 0 | O13: - | P13: - | Q13: - | R13: - | AG13: 3 | AN13: 3 ( R )
A14: H339-05-00 | B14: 8310 | C14: Alcedo atthis | D14: Common Kingfisher | E14: <3.3 | G14: 3 | H14: VU | I14: VU | J14: x | M14: 300 | O14: =O$3/M14 -> 0.13333333 | S14: NT | Y14: 50-300 | Z14: CR | AG14: 3 | AN14: 3 ( R ) | AU14: VU
A15: H333-10-00 | B15: 8410 | C15: Coracias garrulus | D15: European Roller | E15: 5 | G15: 2 | J15: x | K15: RE | M15: 0 | N15: 0 | O15: - | P15: - | Q15: - | R15: - | S15: CR | AG15: 1 | AN15: 1 ( E ) | AU15: RE
A16: N309-02-00 | B16: 10090 | C16: Anthus trivialis | D16: Tree Pipit | E16: <3.3 | G16: 3 | M16: 1000 | N16: 10000 | O16: =O$3/M16 -> 0.04 | P16: 0 | Q16: - (33 - 50) | R16: Depleted
A17: M621-10-00 | B17: 12010 | C17: Turdus iliacus | D17: Redwing | E17: <3.3 | F17: NT | G17: 1 | H17: NT | I17: VU | K17: (NA) | M17: 0 | N17: 0 | O17: - | P17: - | Q17: - | R17: - | AW17: 510000 | AX17: 190000 | AY17: =AY3/AW17 -> 0.00078431373 | AZ17: - (42 - 50) | BA17: 0 | BB17: Declining
A18: M501-06-00 | B18: 12950 | C18: Phylloscopus borealis | D18: Arctic Warbler | E18: <3.3 | M18: 0 | N18: 0 | O18: - | P18: - | Q18: - | R18: - | Z18: VU | AU18: EN
A19: M498-05-00 | B19: 13120 | C19: Phylloscopus trochilus | D19: Willow Warbler | E19: <3.3 | G19: 3 | M19: 260000 | N19: 260000 | O19: =O$3/M19 -> 0.00015384615 | P19: - (33 - 50) | Q19: - (50 - 100) | R19: Declining
A20: M587-01-00 | B20: 13350 | C20: Muscicapa striata | D20: Spotted Flycatcher | E20: <3.3 | G20: 2 | M20: 7000 | N20: 7000 | O20: =O$3/M20 -> 0.0057142857 | P20: - (50 - 100) | Q20: - (33 - 50) | R20: Declining
A21: M428-01-00 | B21: 14540 | C21: Lophophanes cristatus | D21: Crested Tit | E21: <3.3 | M21: 15000 | N21: 15000 | O21: =O$3/M21 -> 0.0026666667 | P21: - (20 - 33) | Q21: - (50 - 100) | R21: Declining | Z21: VU
A22: M552-03-00 | B22: 14790 | C22: Sitta europaea | D22: Eurasian Nuthatch | E22: <3.3 | M22: 26000 | N22: 26000 | O22: =O$3/M22 -> 0.0015384615 | P22: + (25 - 50) | Q22: + (50 - 100) | R22: Increasing | Z22: VU
A23: M232-01-00 | B23: 15430 | C23: Perisoreus infaustus | D23: Siberian Jay | E23: 4 | M23: 0 | N23: 0 | O23: - | P23: - | Q23: - | R23: - | Z23: NT
A24: N316-02-00 | B24: 16380 | C24: Fringilla montifringilla | D24: Brambling | E24: <3.3 | G24: 3 | I24: VU | K24: (NA) | M24: 0 | N24: 0 | O24: - | P24: - | Q24: - | R24: - | S24: VU
A25: N328-06-00 | B25: 16490 | C25: Carduelis chloris | D25: European Greenfinch | E25: <3.3 | M25: 500000 | N25: 500000 | O25: =O$3/M25 -> 8e-05 | P25: 0 | Q25: + (50 - 100) | Z25: VU
A26: N325-10-00 | B26: 17100 | C26: Pyrrhula pyrrhula | D26: Eurasian Bullfinch | E26: <3.3 | M26: 15000 | N26: 15000 | O26: =O$3/M26 -> 0.0026666667 | P26: - (33 - 50) | Q26: + (25 - 50) | R26: Fluctuating | Z26: VU
A27: Total no. | C27: =COUNTIF(C4:C26,">A") -> 23 | F27: =COUNTIF(F4:F26,">a") -> 3 | G27: =COUNTIF(G4:G26,">0") -> 10 | H27: =COUNTIF(H4:H26,">A") -> 4 | I27: =COUNTIF(I4:I26,">A") -> 4 | J27: =COUNTIF(J4:J26,">A") -> 6 | K27: =COUNTIF(K4:K26,">A") -> 6 | L27: =COUNTIF(L4:L26,">A") -> 1 | Q27: =$C27-(COUNTIF(Q4:Q26,"=")) -> 22 | S27: =COUNTIF(S4:S26,">0 (1") -> 6 | U27: =COUNTIF(U4:U26,">A") -> 0
A28: No. not breeding | L28: =COUNTIF(L4:L26,"=0") -> 0 | N28: =COUNTIF(N4:N26,"=0") -> 9 | P28: =COUNTIF(P4:P26,"=0") -> 4 | R28: =COUNTIF(R4:R26,"=0") -> 0 | T28: =COUNTIF(T4:T26,"=0") -> 0 | V28: =COUNTIF(V4:V26,"=0") -> 0
A29: Breeding | L29: =$C27-L28 -> 23 | N29: =$C27-N28 -> 14 | P29: =$C27-P28 -> 19 | R29: =$C27-R28 -> 23 | T29: =$C27-T28 -> 23 | V29: =$C27-V28 -> 23
E31: Reason(s) for adoption
A32: Index | B32: Euring | C32: Scientific name | D32: English name | E32: Internationally | H32: Nationally
A33: H012-01-00 | B33: 2180 | C33: Bucephala clangula | D33: Common Goldeneye | E33: None | H33: Red Listed in DK (VU)
A34: H238-08-00 | B34: 2560 | C34: Circaetus gallicus | D34: Short-Toed Eagle | E34: Annex I | H34: Red Listed in DK (RE), EE (CR), LV (1), LT ( 0 (Ex))
A35: H255-01-00 | B35: 2870 | C35: Buteo buteo | D35: Eurasian Buzzard | E35: None | H35: Red Listed in FI (VU)
A36: H241-08-00 | B36: 2920 | C36: Clanga pomarina | D36: Lesser Spotted Eagle | E36: Annex I | H36: Red Listed in EE (NT), LV (3), LT (3 ( R ))
A37: H241-10-00 | B37: 2930 | C37: Clanga clanga | D37: Greater Spotted Eagle | E37: IUCN-W (VU), Eur (EN), Annex I, SPEC 1 | H37: Red Listed in EE (CR), FI (CR), LV (3), LT (1 ( E ))
A38: H349-10-00 | B38: 3040 | C38: Falco tinnunculus | D38: Common Kestrel | E38: SPEC 3 | H38: Red Listed in LV (1) LT (1 ( E ))
A39: H351-07-00 | B39: 3100 | C39: Falco subbuteo | D39: Eurasian Hobby | E39: None | H39: Red Listed in DK (EN), LT (3 ( R ))
A40: H216-03-00 | B40: 5530 | C40: Tringa ochropus | D40: Green Sandpiper | E40: None | H40: Red Listed i DK (VU)
A41: H055-04-00 | B41: 6870 | C41: Streptopelia turtur | D41: European Turtle Dove | E41: IUCN-W (VU), Eur (VU), EU-27 (VU), SPEC 1 | H41: Red Listed in DK (NT), FI (CR)
A42: H274-02-00 | B42: 7650 | C42: Strix uralensis | D42: Ural Owl | E42: Annex I | H42: Red Listed in LV (3), LT (3 ( R ))
A43: H339-05-00 | B43: 8310 | C43: Alcedo atthis | D43: Common Kingfisher* | E43: EUR (VU), Annex I, SPEC 3 | H43: Red Listed in EE (NT), FI (CR), LV (3), LT (3 ( R )), SE (VU)
A44: H333-10-00 | B44: 8410 | C44: Coracias garrulus | D44: European Roller | E44: Annex I, SPEC 2 | H44: Red Listed in DK (RE), EE (CR), LV (1), LT (1 ( E )), SE (RE)
... A55: N325-10-00 | B55: 17100 | C55: Pyrrhula pyrrhula | D55: Eurasian Bullfinch | E55: None | H55: Red Listed in FI (VU)
A56: *) Common Kingfisher could be seen nesting in roots of fallen trees, even in a distance from freshwater as long as there is a small 'pond' below the nest (in the hole left from the root) and as such it could be adopted as a 'forest-bird'.
C58: =COUNTIF(C33:C55,">A") -> 23

Sheet Candidates
A1: Candidates - species which in one or more countries are declining > 20 % (in short or long term)
B2: FI | H2: SE | N2: EE | T2: LV | Z2: LT | AF2: DK
A3: Species (alphabetic) | B3: Breeding Population | H3: Breeding Population | N3: Breeding Population | T3: Breeding Population | Z3: Breeding Population | AF3: Breeding Population
B4: Population | D4: Trend | H4: Population | J4: Trend | N4: Population | P4: Trend | T4: Population | V4: Trend | Z4: Population | AB4: Trend | AF4: Population | AH4: Trend
B5: Size&Unit | C5: % MS | D5: Period | E5: ST Trend | F5: Period | G5: LT Trend | H5: Size&Unit | I5: % MS | J5: Period | K5: ST Trend | L5: Period | M5: LT Trend | N5: Size&Unit | O5: % MS | P5: Period | Q5: ST Trend | R5: Period | S5: LT Trend | T5: Size&Unit | U5: % MS | V5: Period | W5: ST Trend | X5: Period | Y5: LT Trend | Z5: Size&Unit | AA5: % MS | AB5: Period | AC5: ST Trend | AD5: Period | AE5: LT Trend | AF5: Size&Unit | AG5: % MS | AH5: Period | AI5: ST Trend | AJ5: Period | AK5: LT Trend
A6: Accipiter nisus nisus | B6: 9300 - 9400 p | C6: 3.8 | D6: 1998-2012 | E6: 0 | F6: 1986-2012 | G6: 0 | H6: 22000 - 66000 p | I6: 15.9 | J6: 2001-2012 | K6: + (10 - 40) | L6: 1980-2012 | M6: + (50 - 100) | N6: 2000 - 3000 p | O6: 1 | P6: 2001-2012 | Q6: 0 | R6: 1980-2012 | S6: 0 | T6: 2524 - 31766 p | U6: 5.6 | V6: 2005-2012 | W6: - (60 - 100) | X6: 1994-2010 | Y6: + ( - 632) | Z6: 4000 - 6000 p | AA6: 2 | AB6: 2001-2012 | AC6: 0 | AD6: 1980-2012 | AE6: 0 | AF6: 2100 - 2100 p | AG6: 0.9 | AH6: 1999-2011 | AI6: - (33 - 50) | AJ6: 1980-2011 | AK6: 0
A7: Carduelis carduelis | B7: 7700 - 15000 p | D7: 2001-2012 | E7: + (30 - 148) | F7: 1983-2012 | G7: + (603 - 1342) | H7: 21000 - 49000 p | I7: 0.2 | J7: 2001-2012 | K7: + (70 - 260) | L7: 1980-2012 | M7: + (590 - 3300) | N7: 40000 - 60000 p | O7: 0.2 | P7: 2001-2012 | Q7: 0 | R7: 1980-2012 | S7: 0 | T7: 48861 - 139543 p | U7: 0.4 | V7: 2001-2012 | W7: 0 | X7: 1995-2012 | Y7: 0 | Z7: 50000 - 100000 p | AA7: 0.2 | AB7: 2001-2012 | AC7: 0 | AD7: 1980-2012 | AE7: 0 | AF7: 23000 - 23000 p | AG7: 0.1 | AH7: 1999-2011 | AI7: - (20 - 33) | AJ7: 1980-2011 | AK7: + (100 - 1000)
A8: Coccothraustes coccothraustes | B8: 1000 - 1500 p | C8: 0.1 | D8: 2000-2011 | E8: + (3 - 57) | F8: 1980-2011 | G8: + (333 - 526) | H8: 10000 - 24000 p | I8: 0.7 | J8: 2001-2012 | K8: 0 | L8: 1980-2012 | M8: + (25 - 75) | N8: 20000 - 40000 p | O8: 1.4 | P8: 2001-2012 | Q8: 0 | R8: 1980-2012 | S8: 0 | T8: 50301 - 95434 p | U8: 3.2 | V8: 2005-2012 | W8: + (249 - 249) | X8: 1994-2012 | Y8: + (403 - 3081) | Z8: 30000 - 60000 p | AA8: 2 | AB8: 2001-2012 | AC8: 0 | AD8: 1980-2012 | AE8: 0 | AF8: 9500 - 9500 p | AG8: 0.4 | AH8: 1999-2011 | AI8: - (33 - 50) | AJ8: 1980-2011 | AK8: + (25 - 50)
A9: Corvus corax | B9: 22000 - 30000 p | C9: 7.6 | D9: 2001-2012 | E9: + (1 - 95) | F9: 1983-2012 | G9: + (17 - 112) | H9: 23000 - 42000 p | I9: 9 | J9: 2001-2012 | K9: 0 | L9: 1980-2012 | M9: + (23 - 91) | N9: 3000 - 4000 p | O9: 1 | P9: 2001-2012 | Q9: - (20 - 50) | R9: 1980-2012 | S9: 0 | V9: 2005-2012 | W9: + (10 - 10) | Y9: x | Z9: 5000 - 10000 p | AA9: 2 | AB9: 2001-2012 | AC9: + (5 - 10) | AD9: 1980-2012 | AE9: + (5 - 10) | AF9: 1000 - 1000 p | AG9: 0.3 | AH9: 1999-2011 | AI9: + (100 - 1000) | AJ9: 1980-2011 | AK9: + (1000 - 10000)
A10: Fringilla coelebs all others | B10: 7200000 - 8500000 p | C10: 8.4 | D10: 2001-2012 | E10: 0 | F10: 1983-2012 | G10: 0 | H10: 5720000 - 10860000 p | I10: 8.4 | J10: 2001-2012 | K10: 0 | L10: 1980-2012 | M10: 0 | N10: 1700000 - 2200000 p | O10: 2 | P10: 2001-2012 | Q10: 0 | R10: 1980-2012 | S10: 0 | T10: 2623780 - 3219441 p | U10: 3.1 | V10: 2005-2012 | W10: + (24 - 68) | X10: 1994-2010 | Y10: 0 | Z10: 1500000 - 2500000 p | AA10: 2.1 | AB10: 2001-2012 | AC10: 0 | AD10: 1980-2012 | AE10: 0 | AF10: 1300000 - 1300000 p | AG10: 1.4 | AH10: 1999-2011 | AI10: 0 | AJ10: 1980-2011 | AK10: 0
A11: Garrulus glandarius | B11: 93000 - 140000 p | C11: 2 | D11: 2001-2012 | E11: - (21 - 57) | F11: 1983-2012 | G11: 0 | H11: 178000 - 407000 p | I11: 4.9 | J11: 2001-2012 | K11: 0 | L11: 1980-2012 | M11: 0 | N11: 30000 - 50000 p | O11: 0.7 | P11: 2001-2012 | Q11: 0 | R11: 1980-2012 | S11: + (20 - 50) | T11: 175648 - 269070 p | U11: 4 | V11: 2005-2012 | W11: + ( - 50) | X11: 1994-2010 | Y11: + (290 - 1469) | Z11: 50000 - 80000 p | AA11: 1.2 | AB11: 2001-2012 | AC11: + (5 - 10) | AD11: 1980-2012 | AE11: + (5 - 10) | AF11: 32000 - 32000 p | AG11: 0.6 | AH11: 1999-2011 | AI11: 0 | AJ11: 1980-2011 | AK11: 0
A12: Parus caeruleus | B12: 480000 - 670000 p | C12: 1.8 | D12: 2001-2012 | E12: 0 | F12: 1983-2012 | G12: + (425 - 708) | H12: 420000 - 973000 p | I12: 2.2 | J12: 2001-2012 | K12: + (14 - 36) | L12: 1980-2012 | M12: + (24 - 50) | N12: 100000 - 150000 p | O12: 0.4 | P12: 2001-2012 | Q12: - (20 - 50) | R12: 1980-2012 | S12: 0 | T12: 160716 - 171474 p | U12: 0.6 | V12: 2005-2012 | W12: + (2 - 380) | X12: 1994-2012 | Y12: + (7 - 150) | Z12: 50000 - 80000 p | AA12: 0.2 | AB12: 2001-2012 | AC12: 0 | AD12: 1980-2012 | AE12: 0 | AF12: 235000 - 235000 p | AG12: 0.8 | AH12: 1999-2011 | AI12: 0 | AJ12: 1980-2011 | AK12: + (25 - 50)
A13: Phylloscopus collybita | B13: 240000 - 350000 p | C13: 1.2 | D13: 2001-2012 | E13: + (23 - 68) | F13: 1983-2012 | G13: - (9 - 33) | H13: 166000 - 351000 p | I13: 1 | J13: 2001-2012 | K13: + (66 - 108) | L13: 1980-2012 | M13: + (25 - 75) | N13: 500000 - 650000 p | O13: 2.5 | P13: 2001-2012 | Q13: 0 | R13: 1980-2012 | S13: 0 | T13: 581838 - 927414 p | U13: 3.2 | V13: 2005-2012 | W13: 0 | X13: 1994-2012 | Y13: + ( - 86) | Z13: 500000 - 1000000 p | AA13: 3.1 | AB13: 2001-2012 | AC13: 0 | AD13: 1980-2012 | AE13: 0 | AF13: 300000 - 300000 p | AG13: 1.4 | AH13: 1999-2011 | AI13: + (50 - 100) | AJ13: 1980-2011 | AK13: + (100 - 1000)
A14: Scolopax rusticola | B14: 150000 - 220000 p | C14: 30.2 | D14: 2006-2012 | E14: 0 | F14: 1983-2012 | G14: + (17 - 156) | H14: 396000 - 774000 cmales | I14: 45.6 | J14: 2001-2012 | K14: 0 | L14: 1980-2012 | M14: 0 | N14: 30000 - 60000 cmales | O14: 3.5 | P14: 2001-2012 | Q14: 0 | R14: 1980-2012 | S14: 0 | T14: 10925 - 104363 cmales | U14: 3.7 | V14: 2005-2012 | W14: - (2 - 99) | X14: 1994-2012 | Y14: + ( - 150) | Z14: 10000 - 20000 cmales | AA14: 1.2 | AB14: 2001-2012 | AC14: 0 | AD14: 1980-2012 | AE14: 0 | AF14: 2000 cmales | AG14: 0.2 | AH14: 1999-2011 | AI14: 0 | AJ14: 1980-2011 | AK14: + (50 - 100)
A15: Troglodytes troglodytes all others | B15: 80000 - 140000 p | C15: 0.4 | D15: 2001-2012 | E15: 0 | F15: 1983-2012 | G15: + (98 - 250) | H15: 302000 - 689000 p | I15: 1.5 | J15: 2001-2012 | K15: 0 | L15: 1980-2012 | M15: + (170 - 250) | N15: 250000 - 300000 p | O15: 0.9 | P15: 2001-2012 | Q15: + (20 - 50) | R15: 1980-2012 | S15: + (20 - 50) | T15: 319617 - 463008 p | U15: 1.2 | V15: 2005-2012 | W15: + (11 - 57) | X15: 1994-2010 | Y15: + (42 - 293) | Z15: 80000 - 150000 p | AA15: 0.4 | AB15: 2001-2012 | AC15: 0 | AD15: 1980-2012 | AE15: 0 | AF15: 130000 - 130000 p | AG15: 0.4 | AH15: 1999-2011 | AI15: - (50 - 100) | AJ15: 1980-2011 | AK15: + (25 - 50)
A16: Turdus merula | B16: 470000 - 590000 p | C16: 1 | D16: 2001-2012 | E16: + (38 - 72) | F16: 1983-2012 | G16: + (210 - 301) | H16: 1196000 - 2411000 p | I16: 3.3 | J16: 2001-2012 | K16: 0 | L16: 1980-2012 | M16: + (28 - 45) | N16: 300000 - 400000 p | O16: 0.6 | P16: 2001-2012 | Q16: - (20 - 50) | R16: 1980-2012 | S16: 0 | T16: 503112 - 643128 p | U16: 1 | V16: 2005-2012 | W16: + (2 - 51) | X16: 1994-2012 | Y16: + (150 - 433) | Z16: 250000 - 350000 p | AA16: 0.6 | AB16: 2001-2012 | AC16: 0 | AD16: 1980-2012 | AE16: 0 | AF16: 1700000 - 1700000 p | AG16: 3.3 | AH16: 1999-2011 | AI16: 0 | AJ16: 1980-2011 | AK16: + (25 - 50)
A17: Turdus viscivorus | B17: 140000 - 230000 p | C17: 5.7 | D17: 2001-2012 | E17: + (9 - 91) | F17: 1984-2012 | G17: + (177 - 388) | H17: 248000 - 578000 p | I17: 12.1 | J17: 2001-2012 | K17: + (40 - 75) | L17: 1980-2012 | M17: + (70 - 180) | N17: 25000 - 35000 p | O17: 1 | P17: 2001-2012 | Q17: 0 | R17: 1980-2012 | S17: 0 | T17: 27618 - 77143 p | U17: 1.5 | V17: 2005-2012 | W17: 0 | X17: 1980-2012 | Y17: 0 | Z17: 15000 - 25000 p | AA17: 0.6 | AB17: 2001-2012 | AC17: 0 | AD17: 1980-2012 | AE17: 0 | AF17: 15000 - 15000 p | AG17: 0.5 | AH17: 1999-2011 | AI17: - (20 - 33) | AJ17: 1980-2011 | AK17: 0

Sheet Protection
E1: Nest tree | K1: Surroundings | Q1: No of SPA's | W1: Area of SPA's | AC1: % of forest
A2: ='Data base'!A2 -> Index | B2: ='Data base'!B2 -> Euring | C2: ='Data base'!C2 -> Scientific name | D2: ='Data base'!D2 -> English name | E2: DK | F2: EE | G2: FI | H2: LV | I2: LT | J2: SE | K2: DK | L2: EE | M2: FI | N2: LV | O2: LT | P2: SE | Q2: DK | R2: EE | S2: FI | T2: LV | U2: LT | V2: SE | W2: DK | X2: EE | Y2: FI | Z2: LV | AA2: LT | AB2: SE | AC2: DK | AD2: EE | AE2: FI | AF2: LV | AG2: LT | AH2: SE
A3: ='Data base'!A3 -> H169-13-00 | B3: ='Data base'!B3 -> 20 | C3: ='Data base'!C3 -> Gavia stellata | D3: ='Data base'!D3 -> Red-throated Diver | E3: - | F3: 0 | G3: 0 | J3: Yes | K3: - | L3: 0 | M3: none | P3: 100-200 | Q3: - | S3: 63 | W3: 0 | Y3: 14224.971 | AE3: 1.7
A4: ='Data base'!A4 -> H182-10-00 | B4: ='Data base'!B4 -> 1310 | C4: ='Data base'!C4 -> Ciconia nigra | D4: ='Data base'!D4 -> Black Stork | E4: All year | F4: All year | G4: 0 | H4: All year (if micro-res.) | J4: Yes | K4: none | L4: 250 m, microreserve* | M4: - | N4: Microreserve | P4: 500* | Q4: 1 | S4: 0 | W4: 73.8 | Y4: 0 | AC4: 0.2 | AE4: 0
A5: ='Data base'!A5 -> H009-06-00 | B5: ='Data base'!B5 -> 1540 | C5: ='Data base'!C5 -> Cygnus cygnus | D5: ='Data base'!D5 -> Whooper Swan | E5: - | F5: 0 | G5: 0 | J5: Yes | K5: - | L5: 0 | M5: none | P5: 100-200 | Q5: 0 | S5: 223 | W5: 0 | Y5: 23584.016 | AE5: 3.7
A6: ='Data base'!A6 -> H010-09-00 | B6: ='Data base'!B6 -> 1570 | C6: ='Data base'!C6 -> Anser fabalis | D6: ='Data base'!D6 -> Bean Goose | E6: - | F6: 0 | G6: 0 | J6: Yes | K6: - | L6: 0 | M6: none | P6: 500
A7: ='Data base'!A7 -> H012-01-00 | B7: ='Data base'!B7 -> 2180 | C7: ='Data base'!C7 -> Bucephala clangula | D7: ='Data base'!D7 -> Common Goldeneye | E7: [01.11-31.08] | J7: ? | K7: none | L7: ? | P7: ?
A8: ='Data base'!A8 -> H012-03-00 | B8: ='Data base'!B8 -> 2200 | C8: ='Data base'!C8 -> Mergellus albellus | D8: ='Data base'!D8 -> Smew | E8: - | F8: 0 | G8: 0 | J8: Yes | K8: - | L8: 0 | M8: none | P8: 100 | Q8: 0 | S8: 89 | W8: 0 | Y8: 18268.997 | AE8: 3.1
A9: ='Data base'!A9 -> H235-06-00 | B9: ='Data base'!B9 -> 2310 | C9: ='Data base'!C9 -> Pernis apivorus | D9: ='Data base'!D9 -> European Honey Buzzard | E9: Breeding | F9: *** all nests of wild birds) | G9: 0 | J9: Yes | K9: none | L9: 0 | M9: none | P9: 300 | Q9: 15 | S9: 65 | W9: 505.2 | Y9: 5237.9768 | AC9: 5.4 | AE9: 0.5
A10: ='Data base'!A10 -> H250-02-00 | B10: ='Data base'!B10 -> 2380 | C10: ='Data base'!C10 -> Milvus migrans | D10: ='Data base'!D10 -> Black Kite | E10: - | F10: 0 | G10: 0 | H10: All year (if micro-res.) | J10: Yes | K10: - | L10: 0 | M10: x | N10: Microreserve | P10: 300 | Q10: - | S10: 3 | W10: 0 | Y10: 104.49509 | AE10: <0,1
A11: ='Data base'!A11 -> H250-01-00 | B11: ='Data base'!B11 -> 2390 | C11: ='Data base'!C11 -> Milvus milvus | D11: ='Data base'!D11 -> Red Kite | E11: All year | F11: 0 | G11: 0 | H11: All year (if micro-res.) | J11: Yes | K11: none | L11: 0 | M11: - | N11: Microreserve | P11: 300 | Q11: 6 | S11: 0 | W11: 193.4 | Y11: 0 | AC11: 2.1 | AE11: 0
A12: ='Data base'!A12 -> H249-08-00 | B12: ='Data base'!B12 -> 2430 | C12: ='Data base'!C12 -> Haliaeetus albicilla | D12: ='Data base'!D12 -> White-tailed Sea Eagle | E12: All year | F12: All year | G12: All year | H12: All year (if micro-res.) | J12: Yes | K12: none | L12: 200 m, microreserve* | M12: x | N12: Microreserve | P12: 500 | Q12: 23 | S12: information not public | W12: 680.1 | Y12: 0 | AC12: 1.7 | AE12: 0
A13: ='Data base'!A13 -> H238-08-00 | B13: ='Data base'!B13 -> 2560 | C13: ='Data base'!C13 -> Circaetus gallicus | D13: ='Data base'!D13 -> Short-toed Eagle | E13: - | F13: All year | G13: 0 | H13: All year (if micro-res.) | J13: - | K13: - | L13: 200 m, microreserve* | M13: - | N13: Microreserve | P13: -
A14: ='Data base'!A14 -> H248-06-00 | B14: ='Data base'!B14 -> 2670 | C14: ='Data base'!C14 -> Accipiter gentilis | D14: ='Data base'!D14 -> Nothern Gooshawk | E14: Breeding | F14: 0 | G14: 0 | H14: All year (if micro-res.) | J14: Yes | K14: none | L14: Microreserves possible; 59 established | M14: none | N14: Microreserve | P14: 300
A15: ='Data base'!A15 -> H255-01-00 | B15: ='Data base'!B15 -> 2870 | C15: ='Data base'!C15 -> Buteo buteo | D15: ='Data base'!D15 -> Eurasian Buzzard | E15: Breeding | G15: ? | J15: ? | K15: none | L15: 0 | M15: ?? | P15: ?
A16: ='Data base'!A16 -> H254-09-00 | B16: ='Data base'!B16 -> 2900 | C16: ='Data base'!C16 -> Buteo lagopus | D16: ='Data base'!D16 -> Rough-legged Buzzard | E16: - | F16: 0 | G16: - | J16: Yes | K16: - | L16: 0 | M16: none | P16: 300
A17: ='Data base'!A17 -> H241-08-00 | B17: ='Data base'!B17 -> 2920 | C17: ='Data base'!C17 -> Clanga pomarina | D17: ='Data base'!D17 -> Lesser Spotted Eagle | E17: - | F17: All year | G17: 0 | H17: All year (if micro-res.) | J17: - | K17: - | L17: 100 m, microreserve* | M17: - | N17: Microreserve | P17: - | Q17: - | S17: 0 | W17: 0 | Y17: 0 | AE17: 0
A18: ='Data base'!A18 -> H241-10-00 | B18: ='Data base'!B18 -> 2930 | C18: ='Data base'!C18 -> Clanga clanga | D18: ='Data base'!D18 -> Greater Spotted Eagle | E18: - | F18: All year | G18: All year | H18: All year (if micro-res.) | J18: - | K18: - | L18: 250 m, microreserve* | M18: x | N18: Microreserve | P18: - | Q18: - | S18: information not public | W18: 0
A19: ='Data base'!A19 -> H242-04-00 | B19: ='Data base'!B19 -> 2960 | C19: ='Data base'!C19 -> Aquila chrysaetos | D19: ='Data base'!D19 -> Golden Eagle | E19: All year | F19: All year | G19: All year | H19: All year (if micro-res.) | J19: Yes | K19: none | L19: 500 m, microreserve* | M19: x | N19: Microreserve | P19: 500 | Q19: 2 | S19: information not public | W19: 130.1 | AC19: 0.2
A20: ='Data base'!A20 -> H234-02-00 | B20: ='Data base'!B20 -> 3010 | C20: ='Data base'!C20 -> Pandion haliaetus | D20: ='Data base'!D20 -> Osprey | E20: All year | F20: All year | G20: All year | H20: All year (if micro-res.) | J20: Yes | K20: none | L20: 200 m, microreserve* | M20: none | N20: Microreserve | P20: 500 | Q20: 6 | S20: information not public | W20: 171.3 | AC20: 1
A21: ='Data base'!A21 -> H349-10-00 | B21: ='Data base'!B21 -> 3040 | C21: ='Data base'!C21 -> Falco tinnunculus | D21: ='Data base'!D21 -> Common Kestrel | E21: Breeding | F21: 0 | G21: 0 | K21: none | L21: 0 | M21: none
A22: ='Data base'!A22 -> H351-03-00 | B22: ='Data base'!B22 -> 3090 | C22: ='Data base'!C22 -> Falco columbarius | D22: ='Data base'!D22 -> Merlin | E22: - | F22: 0 | G22: 0 | J22: Yes | K22: - | L22: Protected areas** | M22: none | P22: 200 | Q22: - | S22: 88 | W22: 0 | Y22: 21025.997 | AE22: 3.5
A23: ='Data base'!A23 -> H351-07-00 | B23: ='Data base'!B23 -> 3100 | C23: ='Data base'!C23 -> Falco subbuteo | D23: ='Data base'!D23 -> Eurasian Hobby | E23: Breeding | F23: 0 | G23: 0 | K23: none | L23: 0 | M23: none
A24: ='Data base'!A24 -> H352-08-00 | B24: ='Data base'!B24 -> 3200 | C24: ='Data base'!C24 -> Falco peregrinus | D24: ='Data base'!D24 -> Peregrine Falcon | E24: Breeding | F24: 0 | G24: 0 | H24: All year (if micro-res.) | J24: Yes | K24: none | L24: Protected areas** | M24: x | N24: Microreserve | P24: 300 | Q24: 3 | S24: information not public | W24: 65 | AC24: 0.3
A25: ='Data base'!A25 -> H045-02-00 | B25: ='Data base'!B25 -> 3260 | C25: ='Data base'!C25 -> Bonasa bonasia | D25: ='Data base'!D25 -> Nothern Hazel-Grouse | E25: - | F25: 0 | G25: 0 | K25: - | L25: 0 | M25: none | Q25: - | S25: 186 | W25: 0 | Y25: 18020.672 | AE25: 3.4
A26: ='Data base'!A26 -> H045-04-00 | B26: ='Data base'!B26 -> 3290 | C26: ='Data base'!C26 -> Lagopus lagopus | D26: ='Data base'!D26 -> Willow Grouse | E26: - | F26: 0 | G26: 0 | K26: - | L26: Protected areas** | M26: none | P26: -
A27: ='Data base'!A27 -> H047-06-00 | B27: ='Data base'!B27 -> 3320 | C27: ='Data base'!C27 -> Lyrurus tetrix | D27: ='Data base'!D27 -> Eurasian Black Grouse | E27: - | F27: 0 | G27: 0 | J27: Yes | K27: - | L27: 0 | M27: none | P27: 300** | Q27: - | S27: 65 | W27: 0 | Y27: 4985.609 | AE27: 0.7
A28: ='Data base'!A28 -> H047-04-00 | B28: ='Data base'!B28 -> 3350 | C28: ='Data base'!C28 -> Tetrao urogallus | D28: ='Data base'!D28 -> Western Capercaillie | E28: - | F28: 0 | G28: 0 | H28: All year (if micro-res.) | J28: Yes | K28: - | L28: Microreserves possible; 148 established | M28: none | N28: Microreserve | P28: 200** | Q28: - | S28: 161 | W28: 0 | Y28: 23019.739 | AE28: 3.9
A29: ='Data base'!A29 -> H165-07-00 | B29: ='Data base'!B29 -> 4330 | C29: ='Data base'!C29 -> Grus grus | D29: ='Data base'!D29 -> Common Crane | E29: none - except deliberate destruction of, or damage to, their nests and eggs or removal of their nests | F29: 0 | G29: 0 | J29: Yes | K29: none | L29: 0 | M29: none | P29: 200 | Q29: 20 | S29: 312 | W29: 550.8 | Y29: 24545.465 | AC29: 2.1 | AE29: 3.9
A30: ='Data base'!A30 -> H216-03-00 | B30: ='Data base'!B30 -> 5530 | C30: ='Data base'!C30 -> Tringa ochropus | D30: ='Data base'!D30 -> Green Sandpiper | E30: none - except deliberate destruction of, or damage to, their nests and eggs or removal of their nests | F30: ? | G30: ? | H30: ? | I30: ? | J30: ? | L30: 0 | P30: ?
A31: ='Data base'!A31 -> H053-05-00 | B31: ='Data base'!B31 -> 6680 | C31: ='Data base'!C31 -> Columba oenas | D31: ='Data base'!D31 -> Stock Dove | E31: [01.11-31.08] | F31: 0 | G31: 0 | H31: All year (if micro-res.) | J31: Yes | K31: none | L31: 0 | M31: none | N31: Microreserve | P31: 100
A32: ='Data base'!A32 -> H055-04-00 | B32: ='Data base'!B32 -> 6870 | C32: ='Data base'!C32 -> Streptopelia turtur | D32: ='Data base'!D32 -> European Turtle Dove | E32: none - except deliberate destruction of, or damage to, their nests and eggs or removal of their nests | F32: 0 | G32: 0 | K32: none | L32: 0 | M32: none | P32: -
A33: ='Data base'!A33 -> H275-01-00 | B33: ='Data base'!B33 -> 7440 | C33: ='Data base'!C33 -> Bubo bubo | D33: ='Data base'!D33 -> Eurasian Eagle Owl | E33: Breeding | F33: 0 | G33: 0 | J33: Yes | K33: none | L33: Protected areas or...**; 10 microreserves established | M33: none | P33: 300 | Q33: 6 | S33: 63 | W33: 245.1 | Y33: 13007.14 | AC33: 2.1 | AE33: 2.6
A34: ='Data base'!A34 -> H260-11-00 | B34: ='Data base'!B34 -> 7500 | C34: ='Data base'!C34 -> Surnia ulula | D34: ='Data base'!D34 -> Hawk Owl | E34: - | F34: 0 | G34: 0 | J34: Yes | K34: - | L34: 0 | M34: none | P34: 100 | Q34: - | S34: 58 | W34: 0 | Y34: 20394.657 | AE34: 3.4
A35: ='Data base'!A35 -> H260-12-00 | B35: ='Data base'!B35 -> 7510 | C35: ='Data base'!C35 -> Glaucidium passerinum | D35: ='Data base'!D35 -> Eurasian Pygmy Owl | E35: - | F35: 0 | G35: 0 | H35: All year (if micro-res.) | J35: Yes | K35: - | L35: 0 | M35: none | N35: Microreserve | P35: 100 | Q35: - | S35: 68 | W35: 0 | Y35: 10157.587 | AE35: 2.1
A36: ='Data base'!A36 -> H274-02-00 | B36: ='Data base'!B36 -> 7650 | C36: ='Data base'!C36 -> Strix uralensis | D36: ='Data base'!D36 -> Ural Owl | E36: - | F36: 0 | G36: 0 | J36: Yes | K36: - | L36: 0 | M36: none | P36: 200 | Q36: - | S36: 46 | W36: 0 | Y36: 1069.9656 | AE36: 0.2
A37: ='Data base'!A37 -> H274-03-00 | B37: ='Data base'!B37 -> 7660 | C37: ='Data base'!C37 -> Strix nebulosa | D37: ='Data base'!D37 -> Great Grey Owl | E37: - | F37: 0 | G37: 0 | J37: Yes | K37: - | L37: Protected areas or...** | M37: none | P37: 100 | Q37: - | S37: 31 | W37: 0 | Y37: 14428.38 | AE37: 2.7
A38: ='Data base'!A38 -> H264-04-00 | B38: ='Data base'!B38 -> 7700 | C38: ='Data base'!C38 -> Aegolius funereus | D38: ='Data base'!D38 -> Tengmalm's Owl | E38: Breeding | F38: 0 | G38: 0 | H38: All year (if micro-res.) | J38: Yes | K38: none | L38: 0 | M38: none | N38: Microreserve | P38: 100 | Q38: 1 | S38: 98 | W38: 60.9 | Y38: 12855.327 | AC38: 0.9 | AE38: 2.5
A39: ='Data base'!A39 -> H091-04-00 | B39: ='Data base'!B39 -> 7780 | C39: ='Data base'!C39 -> Caprimulgus europaeus | D39: ='Data base'!D39 -> European Nightjar | E39: none - except deliberate destruction of, or damage to, their nests and eggs or removal of their nests | F39: 0 | G39: 0 | K39: none | L39: 0 | M39: none | P39: - | Q39: 9 | S39: 20 | W39: 425.1 | Y39: 2966.1163 | AC39: 1.3 | AE39: 0.2
A40: ='Data base'!A40 -> H104-11-00 | B40: ='Data base'!B40 -> 7950 | C40: ='Data base'!C40 -> Apus apus | D40: ='Data base'!D40 -> Common Swift | E40: [01.11-31.08] | F40: 0 | G40: 0 | K40: none | L40: 0 | M40: none | P40: -
A41: ='Data base'!A41 -> H339-05-00 | B41: ='Data base'!B41 -> 8310 | C41: ='Data base'!C41 -> Alcedo atthis | D41: ='Data base'!D41 -> Common Kingfisher | E41: none - except deliberate destruction of, or damage to, their nests and eggs or removal of their nests | F41: 0 | G41: 0 | K41: none | L41: ? | P41: - | Q41: 13 | W41: 354.4 | AC41: 3.1
A42: ='Data base'!A42 -> H333-10-00 | B42: ='Data base'!B42 -> 8410 | C42: ='Data base'!C42 -> Coracias garrulus | D42: ='Data base'!D42 -> European Roller | E42: - | F42: 0 | G42: 0 | H42: All year (if micro-res.) | K42: - | L42: Protected areas or...** | M42: - | N42: Microreserve | P42: - | Q42: - | S42: 0 | W42: 0 | Y42: 0 | AE42: 0
A43: ='Data base'!A43 -> H287-01-00 | B43: ='Data base'!B43 -> 8460 | C43: ='Data base'!C43 -> Upupa epops | D43: ='Data base'!D43 -> Common Hoopoe | E43: [01.11-31.08] | F43: 0 | G43: 0 | K43: none | L43: 0 | M43: - | P43: -
A44: ='Data base'!A44 -> H295-02-00 | B44: ='Data base'!B44 -> 8480 | C44: ='Data base'!C44 -> Jynx torquilla | D44: ='Data base'!D44 -> Northern Wryneck | E44: [01.11-31.08] | F44: 0 | G44: 0 | J44: Yes | K44: none | L44: 0 | M44: none | P44: 100
A45: ='Data base'!A45 -> H302-05-00 | B45: ='Data base'!B45 -> 8550 | C45: ='Data base'!C45 -> Picus canus | D45: ='Data base'!D45 -> Grey-headed Woodpecker | E45: - | F45: 0 | G45: 0 | J45: Yes | K45: - | L45: 0 | M45: none | P45: 100 | Q45: - | S45: 39 | W45: 0 | Y45: 3160.4669 | AE45: 0.2
A46: ='Data base'!A46 -> H302-07-00 | B46: ='Data base'!B46 -> 8560 | C46: ='Data base'!C46 -> Picus viridis | D46: ='Data base'!D46 -> Green Woodpecker | E46: [01.11-31.08] | F46: 0 | G46: 0 | H46: All year (if micro-res.) | J46: Yes | K46: none | L46: 0 | M46: - | N46: Microreserve | P46: 100
A47: ='Data base'!A47 -> H303-08-00 | B47: ='Data base'!B47 -> 8630 | C47: ='Data base'!C47 -> Dryocopus martius | D47: ='Data base'!D47 -> Black Woodpecker | E47: [01.11-31.08] | F47: 0 | G47: 0 | J47: Yes | K47: none | L47: 0 | M47: none | P47: 100 | Q47: 9 | S47: 199 | W47: 361.3 | Y47: 20176.519 | AC47: 3.8 | AE47: 3.6
A48: ='Data base'!A48 -> H315-05-00 | B48: ='Data base'!B48 -> 8830 | C48: ='Data base'!C48 -> Dendrocopos medius | D48: ='Data base'!D48 -> Middle Spotted Woodpecker | E48: [01.11-31.08] | F48: 0 | G48: 0 | H48: All year (if micro-res.) | K48: none | L48: 0 | M48: - | N48: Microreserve | P48: - | Q48: 0 | S48: 0 | W48: 0 | Y48: 0 | AE48: 0
A49: ='Data base'!A49 -> H315-06-00 | B49: ='Data base'!B49 -> 8840 | C49: ='Data base'!C49 -> Dendrocopos leucotos | D49: ='Data base'!D49 -> White-backed Woodpecker | E49: - | F49: 0 | G49: 0 | H49: All year (if micro-res.) | K49: - | L49: 0 | M49: x | N49: Microreserve | P49: Territory | Q49: - | S49: information not public | W49: 0
A50: ='Data base'!A50 -> H314-02-00 | B50: ='Data base'!B50 -> 8870 | C50: ='Data base'!C50 -> Dendrocopos minor | D50: ='Data base'!D50 -> Lesser Spotted Woodpecker | E50: [01.11-31.08] | F50: 0 | G50: 0 | K50: none | L50: 0 | M50: none | P50: Territory
A51: ='Data base'!A51 -> H317-06-00 | B51: ='Data base'!B51 -> 8980 | C51: ='Data base'!C51 -> Picoides tridactylus | D51: ='Data base'!D51 -> Eurasian Three-toed Woddpecker | E51: - | F51: 0 | G51: 0 | H51: All year (if micro-res.) | K51: - | L51: 0 | M51: none | N51: Microreserve | P51: Territory | Q51: - | S51: 113 | W51: 0 | Y51: 20328.765 | AE51: 0.6
A52: ='Data base'!A52 -> M444-01-00 | B52: ='Data base'!B52 -> 9740 | C52: ='Data base'!C52 -> Lullula arborea | D52: ='Data base'!D52 -> Wood Lark | E52: none - except deliberate destruction of, or damage to, their nests and eggs or removal of their nests | F52: 0 | G52: 0 | K52: none | L52: 0 | M52: none | P52: - | Q52: 9 | S52: 8 | W52: 396.6 | Y52: 964.21173 | AC52: 2.3 | AE52: 0.1
A53: ='Data base'!A53 -> N309-02-00 | B53: ='Data base'!B53 -> 10090 | C53: ='Data base'!C53 -> Anthus trivialis | D53: ='Data base'!D53 -> Tree Pipit | E53: none - except deliberate destruction of, or damage to, their nests and eggs or removal of their nests | F53: ? | G53: ? | H53: ? | I53: ? | K53: none | L53: 0 | P53: ?
A54: ='Data base'!A54 -> N281-05-00 | B54: ='Data base'!B54 -> 10840 | C54: ='Data base'!C54 -> Prunella modularis | D54: ='Data base'!D54 -> Dunnock | E54: none - except deliberate destruction of, or damage to, their nests and eggs or removal of their nests | F54: 0 | G54: 0 | K54: none | L54: 0 | M54: none | P54: -
A55: ='Data base'!A55 -> M600-02-00 | B55: ='Data base'!B55 -> 11030 | C55: ='Data base'!C55 -> Luscinia luscinia | D55: ='Data base'!D55 -> Thrush Nigthingale | E55: none - except deliberate destruction of, or damage to, their nests and eggs or removal of their nests | F55: 0 | G55: 0 | K55: none | L55: 0 | M55: none | P55: -
A56: ='Data base'!A56 -> M602-10-00 | B56: ='Data base'!B56 -> 11130 | C56: ='Data base'!C56 -> Tarsiger cyanurus | D56: ='Data base'!D56 -> Red-flanked Bluetail | E56: - | F56: 0 | G56: 0 | K56: - | L56: 0 | M56: none | P56: No forrestry
A57: ='Data base'!A57 -> M608-02-00 | B57: ='Data base'!B57 -> 11370 | C57: ='Data base'!C57 -> Saxicola rubetra | D57: ='Data base'!D57 -> Whinchat | E57: none - except deliberate destruction of, or damage to, their nests and eggs or removal of their nests | F57: 0 | G57: 0 | K57: none | L57: 0 | M57: none
A58: ='Data base'!A58 -> M621-10-00 | B58: ='Data base'!B58 -> 12010 | C58: ='Data base'!C58 -> Turdus iliacus | D58: ='Data base'!D58 -> Redwing | E58: - | F58: 0 | G58: 0 | K58: - | L58: 0 | M58: none | P58: -
A59: ='Data base'!A59 -> M501-04-00 | B59: ='Data base'!B59 -> 12930 | C59: ='Data base'!C59 -> Phylloscopus trochiloides | D59: ='Data base'!D59 -> Greenish Leaf Warbler | E59: none - except deliberate destruction of, or damage to, their nests and eggs or removal of their nests | F59: 0 | G59: 0 | J59: Yes | K59: none | L59: 0 | M59: none | P59: 100
A60: ='Data base'!A60 -> M501-06-00 | B60: ='Data base'!B60 -> 12950 | C60: ='Data base'!C60 -> Phylloscopus borealis | D60: ='Data base'!D60 -> Arctic Warbler | E60: - | K60: - | L60: - | P60: ?
A61: ='Data base'!A61 -> M498-05-00 | B61: ='Data base'!B61 -> 13120 | C61: ='Data base'!C61 -> Phylloscopus trochilus | D61: ='Data base'!D61 -> Willow Warbler | E61: none - except deliberate destruction of, or damage to, their nests and eggs or removal of their nests | F61: ? | G61: ? | H61: ? | I61: ? | K61: none | P61: ?
A62: ='Data base'!A62 -> M549-01-00 | B62: ='Data base'!B62 -> 13140 | C62: ='Data base'!C62 -> Regulus regulus | D62: ='Data base'!D62 -> Goldcrest | E62: none - except deliberate destruction of, or damage to, their nests and eggs or removal of their nests | F62: 0 | G62: 0 | K62: none | L62: 0 | M62: none | P62: -
A63: ='Data base'!A63 -> M549-03-00 | B63: ='Data base'!B63 -> 13150 | C63: ='Data base'!C63 -> Regulus ignicapillus | D63: ='Data base'!D63 -> Eurasian Firecrest | E63: none - except deliberate destruction of, or damage to, their nests and eggs or removal of their nests | F63: 0 | G63: 0 | K63: none | L63: 0 | M63: - | P63: -
A64: ='Data base'!A64 -> M587-01-00 | B64: ='Data base'!B64 -> 13350 | C64: ='Data base'!C64 -> Muscicapa striata | D64: ='Data base'!D64 -> Spotted Flycatcher | E64: none - except deliberate destruction of, or damage to, their nests and eggs or removal of their nests | F64: ? | K64: none | P64: ?
A65: ='Data base'!A65 -> M603-03-00 | B65: ='Data base'!B65 -> 13430 | C65: ='Data base'!C65 -> Ficedula parva | D65: ='Data base'!D65 -> Red-brested Flycatcher | E65: - | F65: 0 | G65: 0 | J65: Yes | K65: - | L65: 0 | M65: none | P65: 100 | Q65: - | S65: 51 | W65: 0 | Y65: 3451.5536 | AE65: 0.4
A66: ='Data base'!A66 -> M603-08-00 | B66: ='Data base'!B66 -> 13480 | C66: ='Data base'!C66 -> Ficedula albicollis | D66: ='Data base'!D66 -> Collared Flycatcher | E66: - | F66: 0 | G66: 0 | K66: - | L66: 0 | M66: - | P66: Territory | Q66: - | S66: 0 | W66: 0 | Y66: 0 | AE66: 0
A67: ='Data base'!A67 -> M428-07-00 | B67: ='Data base'!B67 -> 14400 | C67: ='Data base'!C67 -> Poecile palustris | D67: ='Data base'!D67 -> Marsh Tit | E67: [01.11-31.08] | F67: 0 | G67: 0 | K67: none | L67: 0 | M67: - | P67: -
A68: ='Data base'!A68 -> M429-03-00 | B68: ='Data base'!B68 -> 14420 | C68: ='Data base'!C68 -> Poecile montanus | D68: ='Data base'!D68 -> Willow Tit | E68: [01.11-31.08] | F68: 0 | G68: 0 | K68: none | L68: 0 | M68: none | P68: -
A69: ='Data base'!A69 -> M430-02-00 | B69: ='Data base'!B69 -> 14480 | C69: ='Data base'!C69 -> Poecile cinctus | D69: ='Data base'!D69 -> Siberian Tit | E69: - | F69: 0 | G69: 0 | K69: - | L69: 0 | M69: none | P69: -
A70: ='Data base'!A70 -> M428-01-00 | B70: ='Data base'!B70 -> 14540 | C70: ='Data base'!C70 -> Lophophanes cristatus | D70: ='Data base'!D70 -> Crested Tit | E70: [01.11-31.08] | F70: 0 | G70: 0 | K70: none | L70: 0 | M70: none | P70: -
A71: ='Data base'!A71 -> M426-07-00 | B71: ='Data base'!B71 -> 14610 | C71: ='Data base'!C71 -> Periparus ater | D71: ='Data base'!D71 -> Coal Tit | E71: [01.11-31.08] | F71: 0 | G71: 0 | K71: none | L71: 0 | M71: none | P71: -
A72: ='Data base'!A72 -> M552-03-00 | B72: ='Data base'!B72 -> 14790 | C72: ='Data base'!C72 -> Sitta europaea | D72: ='Data base'!D72 -> Eurasian Nuthatch | E72: [01.11-31.08] | F72: 0 | G72: 0 | K72: none | L72: 0 | M72: none | P72: -
A73: ='Data base'!A73 -> M204-03-00 | B73: ='Data base'!B73 -> 15080 | C73: ='Data base'!C73 -> Oriolus oriolus | D73: ='Data base'!D73 -> Eurasian Golden Oriole | E73: none - except deliberate destruction of, or damage to, their nests and eggs or removal of their nests | F73: 0 | G73: 0 | K73: none | L73: 0 | M73: none | P73: Territory
A74: ='Data base'!A74 -> M226-09-00 | B74: ='Data base'!B74 -> 15150 | C74: ='Data base'!C74 -> Lanius collurio | D74: ='Data base'!D74 -> Red-backed Shrike | E74: none - except deliberate destruction of, or damage to, their nests and eggs or removal of their nests | F74: 0 | G74: 0 | K74: none | L74: 0 | M74: none | P74: - | Q74: 17 | S74: 120 | W74: 625.5 | Y74: 8005.8709 | AC74: 4.5 | AE74: 0.5
A75: ='Data base'!A75 -> M232-01-00 | B75: ='Data base'!B75 -> 15430 | C75: ='Data base'!C75 -> Perisoreus infaustus | D75: ='Data base'!D75 -> Siberian Jay | E75: - | F75: 0 | G75: 0 | K75: - | L75: 0 | M75: none | P75: Territory
A76: ='Data base'!A76 -> M234-04-00 | B76: ='Data base'!B76 -> 15570 | C76: ='Data base'!C76 -> Nucifraga caryocatactes | D76: ='Data base'!D76 -> Eurasian Nutcrakcer | E76: none - except deliberate destruction of, or damage to, their nests and eggs or removal of their nests | F76: 0 | G76: 0 | K76: none | L76: 0 | M76: none | P76: Territory
A77: ='Data base'!A77 -> M573-08-00 | B77: ='Data base'!B77 -> 15820 | C77: ='Data base'!C77 -> Sturnus vulgaris | D77: ='Data base'!D77 -> Common Starling | E77: [01.11-31.08] | F77: 0 | G77: 0 | J77: Yes | K77: none | L77: 0 | M77: none | P77: 100
A78: ='Data base'!A78 -> N316-02-00 | B78: ='Data base'!B78 -> 16380 | C78: ='Data base'!C78 -> Fringilla montifringilla | D78: ='Data base'!D78 -> Brambling | E78: - | F78: 0 | G78: 0 | K78: - | L78: 0 | M78: none | P78: -
A79: ='Data base'!A79 -> N334-01-00 | B79: ='Data base'!B79 -> 16400 | C79: ='Data base'!C79 -> Serinus serinus | D79: ='Data base'!D79 -> European Serin | E79: none - except deliberate destruction of, or damage to, their nests and eggs or removal of their nests | F79: 0 | G79: 0 | K79: none | L79: 0 | M79: none | P79: Territory
A80: ='Data base'!A80 -> N328-06-00 | B80: ='Data base'!B80 -> 16490 | C80: ='Data base'!C80 -> Carduelis chloris | D80: ='Data base'!D80 -> European Greenfinch | E80: none - except deliberate destruction of, or damage to, their nests and eggs or removal of their nests | F80: 0 | G80: 0 | K80: none | L80: 0 | M80: none | P80: -
A81: ='Data base'!A81 -> N332-08-00 | B81: ='Data base'!B81 -> 16660 | C81: ='Data base'!C81 -> Loxia curvirostra | D81: ='Data base'!D81 -> Red Crossbill | E81: none - except deliberate destruction of, or damage to, their nests and eggs or removal of their nests | F81: 0 | G81: 0 | K81: none | L81: 0 | M81: none | P81: -
A82: ='Data base'!A82 -> N323-01-00 | B82: ='Data base'!B82 -> 16790 | C82: ='Data base'!C82 -> Carpodacus erythrinus | D82: ='Data base'!D82 -> Common Rosefinch | E82: none - except deliberate destruction of, or damage to, their nests and eggs or removal of their nests | F82: 0 | G82: 0 | K82: none | L82: 0 | M82: none | P82: -
A83: ='Data base'!A83 -> N325-10-00 | B83: ='Data base'!B83 -> 17100 | C83: ='Data base'!C83 -> Pyrrhula pyrrhula | D83: ='Data base'!D83 -> Eurasian Bullfinch | E83: none - except deliberate destruction of, or damage to, their nests and eggs or removal of their nests | F83: 0 | G83: 0 | K83: none | L83: 0 | M83: none | P83: -
A84: ='Data base'!A84 -> N355-11-00 | B84: ='Data base'!B84 -> 18570 | C84: ='Data base'!C84 -> Emberiza citrinella | D84: ='Data base'!D84 -> Yellowhammer | E84: none - except deliberate destruction of, or damage to, their nests and eggs or removal of their nests | F84: 0 | G84: 0 | K84: none | L84: 0 | M84: none | P84: -
A85: ='Data base'!A85 -> N355-08-00 | B85: ='Data base'!B85 -> 18660 | C85: ='Data base'!C85 -> Emberiza hortulana | D85: ='Data base'!D85 -> Ortolan Bunting | E85: - | F85: 0 | G85: 0 | K85: - | L85: 0 | M85: none | P85: - | Q85: - | S85: 35 | W85: 0 | Y85: 1672.7518 | AE85: 0.1
A86: ='Data base'!A86 -> N357-03-00 | B86: ='Data base'!B86 -> 18730 | C86: ='Data base'!C86 -> Emberiza rustica | D86: ='Data base'!D86 -> Rustic Bunting | E86: - | F86: 0 | G86: 0 | K86: - | L86: 0 | M86: none | P86: -
A87: ='Data base'!A87 -> N356-08-00 | B87: ='Data base'!B87 -> 18770 | C87: ='Data base'!C87 -> Emberiza schoeniclus | D87: ='Data base'!D87 -> Reed Bunting | E87: none - except deliberate destruction of, or damage to, their nests and eggs or removal of their nests | F87: 0 | G87: 0 | K87: none | L87: 0 | M87: none | P87: -

Sheet No of species
A2: Country | B2: Number of breeding forest species of conservation concern | C2: Of these red listed | D2: Pct
A3: Denmark | B3: ='Data base'!M90 -> 52 | C3: ='Data base'!K88 -> 23 | D3: =C3/B3*100 -> 44.230769
A4: Estonia | B4: 72 | C4: ='Data base'!T88 -> 26 | D4: =C4/B4*100 -> 36.111111
A5: Finland | B5: 74 | C5: ='Data base'!AC88 -> 31 | D5: =C5/B5*100 -> 41.891892
A6: Latvia | B6: 73 | C6: ='Data base'!AL88 -> 32 | D6: =C6/B6*100 -> 43.835616
A7: Lithuania | B7: 71 | C7: ='Data base'!AU88 -> 32 | D7: =C7/B7*100 -> 45.070423
A8: Sweden | B8: 77 | C8: ='Data base'!BD88 -> 38 | D8: =C8/B8*100 -> 49.350649
D18: =D16/D14*1000 -> #DIV/0!

Sheet Countries
A1: Land | B1: Indbyggere pr. 1. januar 2017 | C1: Areal (km²) | D1: Indbyggere pr. km² | E1: % af areal | F1: (incl Kroatien)
A2: EU-27/28 | B2: 511805088 | C2: =SUM(C3:C30) -> 4420012 | D2: 114 | E2: =C2/C$2*100 -> 100 | F2: 100
A3: Belgien | B3: 11365834 | C3: 30528 | D3: 372 | E3: =C3/C$2*100 -> 0.69067686 | F3: 0.68194521
A4: Tyskland | B4: 82800000 | C4: 357022 | D4: 232 | E4: =C4/C$2*100 -> 8.0773989 | F4: 7.9752831
A5: Estland | B5: 1315635 | C5: 45228 | D5: 29 | E5: =C5/C$2*100 -> 1.0232551 | F5: 1.010319
A6: Irland | B6: 4774833 | C6: 70273 | D6: 68 | E6: =C6/C$2*100 -> 1.5898826 | F6: 1.569783
A7: Grækenland | B7: 10757293 | C7: 131957 | D7: 82 | E7: =C7/C$2*100 -> 2.9854444 | F7: 2.9477019
A8: Spanien | B8: 46528966 | C8: 505370 | D8: 92 | E8: =C8/C$2*100 -> 11.433679 | F8: 11.289133
A9: Frankrig* | B9: 67024459 | C9: 643801 | D9: 104 | E9: =C9/C$2*100 -> 14.565594 | F9: 14.381453
A10: Italien | B10: 60589445 | C10: 301340 | D10: 201 | E10: =C10/C$2*100 -> 6.8176285 | F10: 6.731439
A11: Cypern | B11: 854802 | C11: 5896 | D11: 145 | E11: =C11/C$2*100 -> 0.1333933 | F11: 0.13170692
A12: Letland | B12: 1950116 | C12: 64589 | D12: 30 | E12: =C12/C$2*100 -> 1.4612856 | F12: 1.4428118
A13: Litauen | B13: 2847904 | C13: 65300 | D13: 44 | E13: =C13/C$2*100 -> 1.4773716 | F13: 1.4586944
A14: Luxembourg | B14: 590667 | C14: 2586 | D14: 228 | E14: =C14/C$2*100 -> 0.058506628 | F14: 0.057766978
... A29: Rumænien | B29: 19638309 | C29: 238391 | D29: 82 | E29: =C29/C$2*100 -> 5.3934469 | F29: 5.325262
A30: Kroatien | B30: 4154213 | D30: 73 | E30: =C30/C$2*100 -> 0 | F30: 1.2642167
A31: * inklusive fire oversøiske regioner
A33: Kroatien | C33: 56594

Sheet Ark1
A1: Sitta europaea | B1: Eurasian Nuthatch | C1: Sweeden
A2: Awareness: | D2: Very high | E2: High | F2: Basic+ | G2: Basic
A3: SPEC | C3: 0 | D3: 1 | E3: 2 | F3: 3 | G3: Non-SPEC
A4: Annex I (if Long Term-trend is:) | C4: 0 | D4: Declining | E4: Depleted | F4: Stable/Incr. | G4: Not Annex I
A5: Relative abundance, EU27 | C5: 0.24539535 | D5: >2 | E5: <2->1 | F5: <1->0.4 | G5: <0.4
A6: Red-list (National) | B6: DK, EE, FI, SE/LV, LT | C6: - | D6: RE, CR/ 0, 1 | E6: EN, VU/ 2, 3 | F6: NT/ 4 | G6: LC/ 5
A7: Trend (population) | B7: Long Term | C7: + (25 - 75) | D7: Declining | E7: Depleted | F7: Stable | G7: Increasing
B8: Short Term | C8: + (19 - 57) | E8: Declining | F8: Stable | G8: Increasing
A9: Rare-ness | C9: 0.0032 | D9: >1 | E9: <1 - >0.1 | F9: <0.1 - >0.01 | G9: <0.01
A10: Generations length, year | C10: <3.3 | D10: >10 | E10: <10 - >5 | F10: <5 - >3.3 | G10: <3.3
A11: Actual size of population (low assess) | C11: 125000
A12: Actual protection, nest tree | C12: 0
A13: Actual protection, surrondings | C13: -
A14: Number of apointed SPA's | C14: 0
A17: Sitta europaea | B17: Eurasian Nuthatch | C17: Finland
A18: Awareness: | D18: Very high | E18: High | F18: Basic+ | G18: Basic
A19: SPEC | C19: 0 | D19: 1 | E19: 2 | F19: 3 | G19: Non-SPEC
A20: Annex I (if Long Term-trend is:) | C20: 0 | D20: Declining | E20: Depleted | F20: Stable/Incr. | G20: Not Annex I
A21: Relative abundance, EU27 | C21: 0 | D21: >2 | E21: <2->1 | F21: <1->0.4 | G21: <0.4
A22: Red-list (National) | B22: DK, EE, FI, SE/LV, LT | C22: VU | D22: RE, CR/ 0, 1 | E22: EN, VU/ 2, 3 | F22: NT/ 4 | G22: LC/ 5
A23: Trend (population) | B23: Long Term | C23: F | D23: Declining | E23: Depleted | F23: Stable | G23: Increasing
B24: Short Term | C24: x | E24: Declining | F24: Stable | G24: Increasing
A25: Rare-ness | C25: 300 | D25: >1 | E25: <1 - >0.1 | F25: <0.1 - >0.01 | G25: <0.01
A26: Generations length, year | C26: <3.3 | D26: >10 | E26: <10 - >5 | F26: <5 - >3.3 | G26: <3.3
A27: Actual size of population (low assess) | C27: 1
A28: Actual protection, nest tree | C28: 0
A29: Actual protection, surrondings | C29: none
A30: Number of apointed SPA's | C30: 0
A32: Clanga clanga | B32: Greater Spotted Eagle | C32: Estonia
A33: Awareness: | D33: Very high | E33: High | F33: Basic+ | G33: Basic
A34: SPEC | C34: 1 | D34: 1 | E34: 2 | F34: 3 | G34: Non-SPEC
A35: Annex I (if Long Term-trend is:) | C35: x | D35: Declining | E35: Depleted | F35: Stable/Incr. | G35: Not Annex I
A36: Relative abundance, EU27 | C36: 0 | D36: >2 | E36: <2->1 | F36: <1->0.4 | G36: <0.4
A37: Red-list (National) | C37: CR | D37: RE, CR/ 0, 1 | E37: EN, VU/ 2, 3 | F37: NT/ 4 | G37: LC/ 5
A38: Trend (population) | C38: - (50 - 70) | D38: Declining | E38: Depleted | F38: Stable | G38: Increasing
C39: - (50 - 70) | E39: Declining | F39: Stable | G39: Increasing
A40: Rare-ness | C40: 8 | D40: >1 | E40: <1 - >0.1 | F40: <0.1 - >0.01 | G40: <0.01
A41: Generations length, year | C41: 11 | D41: >10 | E41: <10 - >5 | F41: <5 - >3.3 | G41: <3.3
A42: Actual size of population (low assess) | C42: 5
A43: Actual protection, nest tree
A44: Actual protection, surrondings
A45: Number of apointed SPA's
A48: Ciconia nigra | B48: Black Stork | C48: Latvia
A49: Awareness: | D49: Very high | E49: High | F49: Basic+ | G49: Basic
A50: SPEC | C50: 0 | D50: 1 | E50: 2 | F50: 3 | G50: Non-SPEC
A51: Annex I (if Long Term-trend is:) | C51: x | D51: Declining | E51: Depleted | F51: Stable/Incr. | G51: Not Annex I
A52: Relative abundance, EU27 | C52: 2.3951512 | D52: >2 | E52: <2->1 | F52: <1->0.4 | G52: <0.4
A53: Red-list (National) | B53: DK, EE, FI, SE/LV, LT | C53: 3 | D53: RE, CR/ 0, 1 | E53: EN, VU/ 2, 3 | F53: NT/ 4 | G53: LC/ 5
A54: Trend (population) | B54: Long Term | C54: - (52 - 52) | D54: Declining | E54: Depleted | F54: Stable | G54: Increasing
B55: Short Term | C55: - (39 - 39) | E55: Declining | F55: Stable | G55: Increasing
A56: Rare-ness | C56: 0.33333333 | D56: >1 | E56: <1 - >0.1 | F56: <0.1 - >0.01 | G56: <0.01
A57: Generations length, year | C57: 8 | D57: >10 | E57: <10 - >5 | F57: <5 - >3.3 | G57: <3.3
A58: Actual size of population (low assess) | C58: 180
A61: Poecile montanus | B61: Willow Tit | C61: Finland
A62: Awareness: | D62: Very high | E62: High | F62: Basic+ | G62: Basic
A63: SPEC | C63: 3 | D63: 1 | E63: 2 | F63: 3 | G63: Non-SPEC
A64: Annex I (if Long Term-trend is:) | C64: 0 | D64: Declining | E64: Depleted | F64: Stable/Incr. | G64: Not Annex I
A65: Relative abundance, EU27 | C65: 3.4377653 | D65: >2 | E65: <2->1 | F65: <1->0.4 | G65: <0.4
A66: Red-list (National) | B66: DK, EE, FI, SE/LV, LT | C66: VU | D66: RE, CR/ 0, 1 | E66: EN, VU/ 2, 3 | F66: NT/ 4 | G66: LC/ 5
A67: Trend (population) | B67: Long Term | C67: - (21 - 41) | D67: Declining | E67: Depleted | F67: Stable | G67: Increasing
B68: Short Term | C68: - (33 - 54) | E68: Declining | F68: Stable | G68: Increasing
A69: Rare-ness | C69: 0.00044117647 | D69: >1 | E69: <1 - >0.1 | F69: <0.1 - >0.01 | G69: <0.01
A70: Generations length, year | C70: <3.3 | D70: >10 | E70: <10 - >5 | F70: <5 - >3.3 | G70: <3.3
A71: Actual size of population (low assess) | C71: 680000
A76: Awareness: | C76: Very high | D76: High | E76: Basic+ | F76: Basic
A77: SPEC | C77: 1 | D77: 2 | E77: 3 | F77: Non-SPEC
A78: Annex I (if Long Term-trend is:) | C78: Declining | D78: Depleted | E78: Stable/Incr. | F78: Not Annex I
A79: Relative abundance, EU27 | C79: >2 | D79: <2->1 | E79: <1->0.4 | F79: <0.4
A80: Red-list (National) | B80: DK, EE, FI, SE/LV, LT | C80: RE, CR/ 0, 1 | D80: EN, VU/ 2, 3 | E80: NT/ 4 | F80: LC/ 5
A81: Trend (population) | B81: Long Term | C81: Declining | D81: Depleted | E81: Stable | F81: Increasing
B82: Short Term | D82: Declining | E82: Stable | F82: Increasing
A83: Rare-ness | C83: >1 | D83: <1 - >0.1 | E83: <0.1 - >0.01 | F83: <0.01
A84: Generations length, year | C84: >10 | D84: <10 - >5 | E84: <5 - >3.3 | F84: <3.3
A85: Actual size of population (low assess)
A86: Actual protection, nest tree
A87: Actual protection, surrondings
A88: Number of apointed SPA's

Sheet Ark2
A4: Candidates - species which in one or more countries are declining > 20 % (in short or long term)
B5: DK
A6: Species (alphabetic) | B6: Breeding Population
B7: Population | D7: Trend
B8: Size&Unit | C8: % MS | D8: Period | E8: ST Trend | F8: Period | G8: LT Trend
A9: Accipiter nisus nisus | B9: 2,100 - 2,100 p | C9: 0.9 | D9: 1999-2011 | E9: - (33 - 50) | F9: 1980-2011 | G9: 0
A10: Carduelis carduelis | B10: 23,000 - 23,000 p | C10: 0.1 | D10: 1999-2011 | E10: - (20 - 33) | F10: 1980-2011 | G10: + (100 - 1,000)
A11: Coccothraustes coccothraustes | B11: 9,500 - 9,500 p | C11: 0.4 | D11: 1999-2011 | E11: - (33 - 50) | F11: 1980-2011 | G11: + (25 - 50)
A12: Corvus corax | B12: 1,000 - 1,000 p | C12: 0.3 | D12: 1999-2011 | E12: + (100 - 1,000) | F12: 1980-2011 | G12: + (1,000 - 10,000)
A13: Fringilla coelebs all others | B13: 1,300,000 - 1,300,000 p | C13: 1.4 | D13: 1999-2011 | E13: 0 | F13: 1980-2011 | G13: 0
A14: Garrulus glandarius | B14: 32,000 - 32,000 p | C14: 0.6 | D14: 1999-2011 | E14: 0 | F14: 1980-2011 | G14: 0
A15: Parus caeruleus | B15: 235,000 - 235,000 p | C15: 0.8 | D15: 1999-2011 | E15: 0 | F15: 1980-2011 | G15: + (25 - 50)
A16: Phylloscopus collybita | B16: 300,000 - 300,000 p | C16: 1.4 | D16: 1999-2011 | E16: + (50 - 100) | F16: 1980-2011 | G16: + (100 - 1,000)
A17: Scolopax rusticola | B17: 2,000 cmales | C17: 0.2 | D17: 1999-2011 | E17: 0 | F17: 1980-2011 | G17: + (50 - 100)
A18: Troglodytes troglodytes all others | B18: 130,000 - 130,000 p | C18: 0.4 | D18: 1999-2011 | E18: - (50 - 100) | F18: 1980-2011 | G18: + (25 - 50)
A19: Turdus merula | B19: 1,700,000 - 1,700,000 p | C19: 3.3 | D19: 1999-2011 | E19: 0 | F19: 1980-2011 | G19: + (25 - 50)
