Workbook

Sheet Introduction
A1: Introduction - please see as well the introduction ppt explayning more details! Background: These awareness indicators for forest birds are – by initiative from FSC-Sweden - developed by BirdLife-partners in six countries around the Baltic Sea with BirdLife-Estonia and DOF/BirdLife-Denmark as leads. They should help FSC-Standard-developers in pointing out the most important species to be addressed by soft and hard measures in the standard revisions to come. WHICH specific measures are still to be developed.
A14: When is a species of concerrvation concern? According to the Birds Directive all birds should be taken care of - also in forrestry. For instance deliberate destruction of, or damage to, their nests and eggs or removal of their nests are not allowed. On top of this a broad register of species do need more awareness to avoid negative trends in their population nationally as well as internationally. The Sweedish authorities have for instance pointed out some 62 forrest species to be particulare aware of in forestry – the so called priority species. Takes into consideration as well the international responsibility (IUCN-redlist, Annex I) as the local (national red list and trends in population). In using the same criterion in all six countries a total list of 85 species turns out. The following issues should be taken into consideration when managing forrest where those species occur: The red list status internationally for each of the species (since birds don’t know borders (!)) The Annex I-status at the Birds Directive (since species adopted here always should be taken care of according to legislation – especialy if declining) The relative abundance of each species in each country (if higher abundance than average then higher responsibility) The red list status nationally The trends in population (in short and long term) The rareness (depending on the size of actual population compared to the relative part of territorry in each country) The generation length defined as the awarage age in which the particular species reproduces its self (since species with long generation length turns out to be more vulnerable than others) As awareness indicator for international Red List-status is used the BLI SPEC-classification (reflecting Red List-status worldwide and for Europe the actual population trends as well). Anex I-status is taken from the Birds Directive and it is related to the national Long Term trend in population since countries should be more aware of Annex-I-species in decline than species which population are stabe ore increasing. Relative abundance is simply calculated by dividing the specific country's share of EU-27 territorry into its share of the total EU-27 population of each species. (Sweeden for instance holds 10.19 % of the total territory and 60.1 % of the tottal EU-27-polupaltion of Osprey giving a relative abundance of 60.1/10.19 = 5.96 which means the Osprey is close to 6 times more abundant in Sweeden compared to the average of EU-27)
A34: The Red List-status is taken from the national Red List's respectively. DK, EE, FI and SE uses the IUCN-Red List categories while LV & LT are using their own. Population estimates are from EEA's Eionet database as reported by Memberstates (where 'Long Term' is approximately 1980-2011 and 'Short Term' is app. 1999-2011). Are to be updated in 2018/2019. Rare-ness indicator is simply calculated by dividing the actual population into the amount of pairs which indicates rareness for that particular country (which for DK and EE would be 40 pairs, for LV and LT 60 pairs, for FI 300 pairs and for SE 400 pairs). Average generation length is taken from BirdLife International 2004. For each of the indicators it is indicated whether the awareness needed should be 'Very high', 'High', 'Basic+' or 'Basic' where 'Basic' means at least full filling the requiremnents of the Birds Directive while 'Very high' could be for instance protection (by law) of as well the nest(tree) as its surroundings in a distance of eventually several hundred meters (but where the meassures nedded should be adopted to every each of the species). Se below the ranking of the indicators. See all refrences at the Tab 'Data base' and see Tab 'Index' for instructions to how to navigate in the tool.
A81: Ranking of the awareness indicators
A82: Awareness: | D82: Very high | E82: High | F82: Basic+ | G82: Basic
A83: SPEC | D83: 1 | E83: 2 | F83: 3 | G83: Non-SPEC
A84: Annex I (if Long Term-trend is:) | D84: Declining | E84: Depleted | F84: Stable/Incr. | G84: Not Annex I
A85: Relative abundance, EU27 | D85: >2 | E85: <2 - >1 | F85: <1 - ≥0.5 | G85: <0.5
A86: Red-list (National) | B86: DK, EE, FI, SE/LV, LT | D86: RE, CR/ 0, 1 | E86: EN, VU/ 2, 3 | F86: NT/ 4 | G86: LC/ 5
A87: Trend (population) | B87: Long Term | D87: Declining | E87: Depleted | F87: Stable | G87: Increasing
B88: Short Term | E88: Declining | F88: Stable | G88: Increasing
A89: Rare-ness | D89: >1 | E89: <1 - >0.1 | F89: <0.1 - >0.01 | G89: <0.01
A90: Generations length, year | D90: >10 | E90: <10 - >5 | F90: <5 - >3.3 | G90: <3.3
A92: Please be aware that in this tool a short term decline would not qualify for 'Very high awareness' on its own.

Sheet Index
A1: In the following tabs you will find:
A2: Awareness indicators: | C2: Awareness indicators for the 85 forrest species (listed below) in six countries.
A3: Data Base: | C3: The total data base from where the Indicator-tab selects its data and where you could find more information on each species
A4: Supplements: | C4: The list of 23 species supplementing the original Swedish list of 'Priority species' (and reasons for supplementing)
A5: Candidates: | C5: The list of 12 species which are candidating to be 'Priority species' due to trends in population.
A6: Protection: | C6: The database on protection of nests and surroundings for each species and each country (to be completed)
A7: Countries: | C7: Data on area etc. of EU-27countries.
A9: How to navigate:
A10: Below you find a total list of the 85 species analysed organised systematically by Euring-number and to the right you find the the number of the lines in which the particular species are reported in the Awareness Indicator as well as in the databases (on species and protection)
A13: By using the provided sorting operations you could sort the list for instance alphabetically by name (English or Scientific) or by Index-no., resulting in a list in the new systematic order (Fjelsaa et. al).
A16: For some species new scientific names are used. Find the old ones in collumn 'Alternative Scientific name'.
F18: Line number
A19: Index | B19: Euring | C19: Scientific name | D19: (Alternative) Scientific name | E19: English name | F19: Awareness indicator | G19: Data-base
A20: H169-13-00 | B20: 20 | C20: Gavia stellata | E20: Red-throated Diver | F20: 2 | G20: 3
A21: H182-10-00 | B21: 1310 | C21: Ciconia nigra | E21: Black Stork | F21: 15 | G21: 4
A22: H009-06-00 | B22: 1540 | C22: Cygnus cygnus | E22: Whooper Swan | F22: 28 | G22: 5
A23: H010-09-00 | B23: 1570 | C23: Anser fabalis | E23: Bean Goose | F23: 41 | G23: 6
A24: H012-01-00 | B24: 2180 | C24: Bucephala clangula | E24: Common Goldeneye | F24: 54 | G24: 7
A25: H012-03-00 | B25: 2200 | C25: Mergellus albellus | E25: Smew | F25: 67 | G25: 8
A26: H235-06-00 | B26: 2310 | C26: Pernis apivorus | E26: European Honey Buzzard | F26: 81 | G26: 9
A27: H250-02-00 | B27: 2380 | C27: Milvus migrans | E27: Black Kite | F27: 94 | G27: 10
A28: H250-01-00 | B28: 2390 | C28: Milvus milvus | E28: Red Kite | F28: 107 | G28: 11
A29: H249-08-00 | B29: 2430 | C29: Haliaeetus albicilla | E29: White-tailed Sea Eagle | F29: 120 | G29: 12
A30: H238-08-00 | B30: 2560 | C30: Circaetus gallicus | E30: Short-toed Eagle | F30: 133 | G30: 13
A31: H248-06-00 | B31: 2670 | C31: Accipiter gentilis | E31: Nothern Gooshawk | F31: 146 | G31: 14
... A33: H254-09-00 | B33: 2900 | C33: Buteo lagopus | E33: Rough-legged Buzzard | F33: 172 | G33: 16
A34: H241-08-00 | B34: 2920 | C34: Clanga pomarina | D34: Aquila pomarina | E34: Lesser Spotted Eagle | F34: 185 | G34: 17
A35: H241-10-00 | B35: 2930 | C35: Clanga clanga | D35: Aquila clanga | E35: Greater Spotted Eagle | F35: 198 | G35: 18
A36: H242-04-00 | B36: 2960 | C36: Aquila chrysaetos | E36: Golden Eagle | F36: 211 | G36: 19
A37: H234-02-00 | B37: 3010 | C37: Pandion haliaetus | E37: Osprey | F37: 224 | G37: 20
A38: H349-10-00 | B38: 3040 | C38: Falco tinnunculus | E38: Common Kestrel | F38: 237 | G38: 21
A39: H351-03-00 | B39: 3090 | C39: Falco columbarius | E39: Merlin | F39: 250 | G39: 22
A40: H351-07-00 | B40: 3100 | C40: Falco subbuteo | E40: Eurasian Hobby | F40: 263 | G40: 23
A41: H352-08-00 | B41: 3200 | C41: Falco peregrinus | E41: Peregrine Falcon | F41: 276 | G41: 24
A42: H045-02-00 | B42: 3260 | C42: Bonasa bonasia | E42: Nothern Hazel-Grouse | F42: 289 | G42: 25
A43: H045-04-00 | B43: 3290 | C43: Lagopus lagopus | E43: Willow Grouse | F43: 302 | G43: 26
A44: H047-06-00 | B44: 3320 | C44: Lyrurus tetrix | D44: Tetrao tetrix | E44: Eurasian Black Grouse | F44: 315 | G44: 27
A45: H047-04-00 | B45: 3350 | C45: Tetrao urogallus | E45: Western Capercaillie | F45: 328 | G45: 28
A46: H165-07-00 | B46: 4330 | C46: Grus grus | E46: Common Crane | F46: 341 | G46: 29
A47: H216-03-00 | B47: 5530 | C47: Tringa ochropus | E47: Green Sandpiper | F47: 354 | G47: 30
...

Sheet Awareness indicators
A1: Line | B1: Scientific name | C1: English name | D1: Awareness Indicators | F1: General | G1: Denmark | M1: Estonia | S1: Finland | Y1: Latvia | AE1: Lithuania | AK1: Sweeden
A2: 3 | B2: ='Data base'!C$3 -> Gavia stellata | C2: ='Data base'!D3 -> Red-throated Diver | D2: Awareness: | G2: Not breed. | H2: Very high | I2: High | J2: Basic+ | K2: Basic | M2: Not breed. | N2: Very high | O2: High | P2: Basic+ | Q2: Basic | T2: Very high | U2: High | V2: Basic+ | W2: Basic | Y2: Not breed. | Z2: Very high | AA2: High | AB2: Basic+ | AC2: Basic | AE2: Not breed. | AF2: Very high | AG2: High | AH2: Basic+ | AI2: Basic | AL2: Very high | AM2: High | AN2: Basic+ | AO2: Basic
D3: SPEC | F3: ='Data base'!G$3 -> 3 | G3: =$F3 -> 3 | H3: 1 | I3: 2 | J3: 3 | K3: Non-SPEC | M3: =$F3 -> 3 | N3: 1 | O3: 2 | P3: 3 | Q3: Non-SPEC | S3: =$F3 -> 3 | T3: 1 | U3: 2 | V3: 3 | W3: Non-SPEC | Y3: =$F3 -> 3 | Z3: 1 | AA3: 2 | AB3: 3 | AC3: Non-SPEC | AE3: =$F3 -> 3 | AF3: 1 | AG3: 2 | AH3: 3 | AI3: Non-SPEC | AK3: =$F3 -> 3 | AL3: 1 | AM3: 2 | AN3: 3 | AO3: Non-SPEC
D4: Annex I (if Long Term-trend is:) | F4: ='Data base'!J$3 -> x | G4: =$F4 -> x | H4: Declining | I4: Depleted | J4: Stable/Incr. | K4: Not Annex I | M4: =$F4 -> x | N4: Declining | O4: Depleted | P4: Stable/Incr. | Q4: Not Annex I | S4: =$F4 -> x | T4: Declining | U4: Depleted | V4: Stable/Incr. | W4: Not Annex I | Y4: =$F4 -> x | Z4: Declining | AA4: Depleted | AB4: Stable/Incr. | AC4: Not Annex I | AE4: =$F4 -> x | AF4: Declining | AG4: Depleted | AH4: Stable/Incr. | AI4: Not Annex I | AK4: =$F4 -> x | AL4: Declining | AM4: Depleted | AN4: Stable/Incr. | AO4: Not Annex I
D5: Relative abundance, EU27 | G5: ='Data base'!S3 -> 0 | H5: >2 | I5: <2 - >1 | J5: <1 - ≥0.5 | K5: <0.5 | M5: ='Data base'!AB3 -> 0 | N5: >2 | O5: <2 - >1 | P5: <1 - ≥0.5 | Q5: <0.5 | S5: ='Data base'!AK3 -> 3.5554075 | T5: >2 | U5: <2 - >1 | V5: <1 - ≥0.5 | W5: <0.5 | Y5: ='Data base'!AT3 -> 0 | Z5: >2 | AA5: <2 - >1 | AB5: <1 - ≥0.5 | AC5: <0.5 | AE5: ='Data base'!BC3 -> 0 | AF5: >2 | AG5: <2 - >1 | AH5: <1 - ≥0.5 | AI5: <0.5 | AK5: ='Data base'!BM3 -> 3.9459573 | AL5: >2 | AM5: <2 - >1 | AN5: <1 - ≥0.5 | AO5: <0.5
D6: Red-list (National) | E6: DK, EE, FI, SE/LV, LT | H6: RE, CR/ 0, 1 | I6: EN, VU/ 2, 3 | J6: NT/ 4 | K6: LC/ 5 | M6: ='Data base'!T3 -> RE | N6: RE, CR/ 0, 1 | O6: EN, VU/ 2, 3 | P6: NT/ 4 | Q6: LC/ 5 | S6: ='Data base'!AC3 -> - | T6: RE, CR/ 0, 1 | U6: EN, VU/ 2, 3 | V6: NT/ 4 | W6: LC/ 5 | Y6: ='Data base'!AL3 -> 0 | Z6: RE, CR/ 0, 1 | AA6: EN, VU/ 2, 3 | AB6: NT/ 4 | AC6: LC/ 5 | AE6: ='Data base'!AU3 -> - | AF6: RE, CR/ 0, 1 | AG6: EN, VU/ 2, 3 | AH6: NT/ 4 | AI6: LC/ 5 | AK6: ='Data base'!BD3 -> NT | AL6: RE, CR/ 0, 1 | AM6: EN, VU/ 2, 3 | AN6: NT/ 4 | AO6: LC/ 5
D7: Trend (population) | E7: Long Term | H7: Declining | I7: Depleted | J7: Stable | K7: Increasing | M7: ='Data base'!Y3 -> - | N7: Declining | O7: Depleted | P7: Stable | Q7: Increasing | S7: ='Data base'!AH3 -> + (67 - 150) | T7: Declining | U7: Depleted | V7: Stable | W7: Increasing | Y7: ='Data base'!AQ3 -> - | Z7: Declining | AA7: Depleted | AB7: Stable | AC7: Increasing | AE7: ='Data base'!AZ3 -> - | AF7: Declining | AG7: Depleted | AH7: Stable | AI7: Increasing | AK7: ='Data base'!BJ3 -> - (10 - 20) | AL7: Declining | AM7: Depleted | AN7: Stable | AO7: Increasing
E8: Short Term | I8: Declining | J8: Stable | K8: Increasing | M8: ='Data base'!X3 -> - | O8: Declining | P8: Stable | Q8: Increasing | S8: ='Data base'!AG3 -> + (27 - 44) | U8: Declining | V8: Stable | W8: Increasing | Y8: ='Data base'!AP3 -> - | AA8: Declining | AB8: Stable | AC8: Increasing | AE8: ='Data base'!AY3 -> - | AG8: Declining | AH8: Stable | AI8: Increasing | AK8: ='Data base'!BI3 -> 0 | AM8: Declining | AN8: Stable | AO8: Increasing
D9: Rare-ness | H9: >1 | I9: <1 - >0.1 | J9: <0.1 - >0.01 | K9: <0.01 | M9: ='Data base'!W3 -> #DIV/0! | N9: >1 | O9: <1 - >0.1 | P9: <0.1 - >0.01 | Q9: <0.01 | S9: ='Data base'!AF3 -> 0.4 | T9: >1 | U9: <1 - ≥0.1 | V9: <0.1 - >0.01 | W9: <0.01 | Y9: ='Data base'!AO3 -> #DIV/0! | Z9: >1 | AA9: <1 - >0.1 | AB9: <0.1 - >0.01 | AC9: <0.01 | AE9: ='Data base'!AX3 -> #DIV/0! | AF9: >1 | AG9: <1 - >0.1 | AH9: <0.1 - >0.01 | AI9: <0.01 | AK9: ='Data base'!BH3 -> 0.30769231 | AL9: >1 | AM9: <1 - ≥0.1 | AN9: <0.1 - >0.01 | AO9: <0.01
D10: Generations length, year | F10: ='Data base'!E$3 -> 7 | G10: =$F10 -> 7 | H10: >10 | I10: <10 - >5 | J10: <5 - >3.3 | K10: <3.3 | M10: =$F10 -> 7 | N10: >10 | O10: <10 - >5 | P10: <5 - >3.3 | Q10: <3.3 | S10: =$F10 -> 7 | T10: >10 | U10: <10 - >5 | V10: <5 - >3.3 | W10: <3.3 | Y10: =$F10 -> 7 | Z10: >10 | AA10: <10 - >5 | AB10: <5 - >3.3 | AC10: <3.3 | AE10: =$F10 -> 7 | AF10: >10 | AG10: <10 - >5 | AH10: <5 - >3.3 | AI10: <3.3 | AK10: =$F10 -> 7 | AL10: >10 | AM10: <10 - >5 | AN10: <5 - >3.3 | AO10: <3.3
D11: Actual size of population (low assess) | M11: ='Data base'!U3 -> 0 | S11: ='Data base'!AD3 -> 750 | Y11: ='Data base'!AM3 -> 0 | AE11: ='Data base'!AV3 -> 0 | AK11: ='Data base'!BF3 -> 1300
D12: Actual additional protection, nest | M12: =Protection!F3 -> 0 | S12: =Protection!G3 -> 0 | Y12: =Protection!H3 -> 0 | AE12: =Protection!I3 -> 0 | AK12: =Protection!J3 -> Yes
D13: Actual protection, surroundings | M13: =Protection!L3 -> 0 | S13: =Protection!M3 -> none | Y13: =Protection!N3 -> 0 | AE13: =Protection!O3 -> 0 | AK13: =Protection!P3 -> 100-200
A15: 4 | B15: ='Data base'!C4 -> Ciconia nigra | C15: ='Data base'!D4 -> Black Stork | D15: Awareness: | H15: Very high | I15: High | J15: Basic+ | K15: Basic | N15: Very high | O15: High | P15: Basic+ | Q15: Basic | S15: Not breed. | T15: Very high | U15: High | V15: Basic+ | W15: Basic | Z15: Very high | AA15: High | AB15: Basic+ | AC15: Basic | AF15: Very high | AG15: High | AH15: Basic+ | AI15: Basic | AK15: Not breed. | AL15: Very high | AM15: High | AN15: Basic+ | AO15: Basic
D16: SPEC | F16: ='Data base'!G$4 -> 0 | G16: =$F16 -> 0 | H16: 1 | I16: 2 | J16: 3 | K16: Non-SPEC | M16: =$F16 -> 0 | N16: 1 | O16: 2 | P16: 3 | Q16: Non-SPEC | S16: =$F16 -> 0 | T16: 1 | U16: 2 | V16: 3 | W16: Non-SPEC | Y16: =$F16 -> 0 | Z16: 1 | AA16: 2 | AB16: 3 | AC16: Non-SPEC | AE16: =$F16 -> 0 | AF16: 1 | AG16: 2 | AH16: 3 | AI16: Non-SPEC | AK16: =$F16 -> 0 | AL16: 1 | AM16: 2 | AN16: 3 | AO16: Non-SPEC
D17: Annex I (if Long Term-trend is:) | F17: ='Data base'!J4 -> x | G17: =$F17 -> x | H17: Declining | I17: Depleted | J17: Stable/Incr. | K17: Not Annex I | M17: =$F17 -> x | N17: Declining | O17: Depleted | P17: Stable/Incr. | Q17: Not Annex I | S17: =$F17 -> x | T17: Declining | U17: Depleted | V17: Stable/Incr. | W17: Not Annex I | Y17: =$F17 -> x | Z17: Declining | AA17: Depleted | AB17: Stable/Incr. | AC17: Not Annex I | AE17: =$F17 -> x | AF17: Declining | AG17: Depleted | AH17: Stable/Incr. | AI17: Not Annex I | AK17: =$F17 -> x | AL17: Declining | AM17: Depleted | AN17: Stable/Incr. | AO17: Not Annex I
D18: Relative abundance, EU27 | G18: ='Data base'!S4 -> 0 | H18: >2 | I18: <2 - >1 | J18: <1 - ≥0.5 | K18: <0.5 | M18: ='Data base'!AB4 -> 1.172728 | N18: >2 | O18: <2 - ≥1 | P18: <1 - ≥0.5 | Q18: <0.5 | S18: ='Data base'!AK4 -> 0 | T18: >2 | U18: <2 - >1 | V18: <1 - ≥0.5 | W18: <0.5 | Y18: ='Data base'!AT4 -> 2.3951512 | Z18: >2 | AA18: <2 - >1 | AB18: <1 - ≥0.5 | AC18: <0.5 | AE18: ='Data base'!BC4 -> 8.5286602 | AF18: >2 | AG18: <2 - >1 | AH18: <1 - ≥0.5 | AI18: <0.5 | AK18: ='Data base'!BM4 -> 0 | AL18: >2 | AM18: <2 - >1 | AN18: <1 - ≥0.5 | AO18: <0.5
D19: Red-list (National) | E19: DK, EE, FI, SE/LV, LT | G19: ='Data base'!K$4 -> RE | H19: RE, CR/ 0, 1 | I19: EN, VU/ 2, 3 | J19: NT/ 4 | K19: LC/ 5 | M19: ='Data base'!T4 -> EN | N19: RE, CR/ 0, 1 | O19: EN, VU/ 2, 3 | P19: NT/ 4 | Q19: LC/ 5 | S19: ='Data base'!AC4 -> - | T19: RE, CR/ 0, 1 | U19: EN, VU/ 2, 3 | V19: NT/ 4 | W19: LC/ 5 | Y19: ='Data base'!AL4 -> 3 | Z19: RE, CR/ 0, 1 | AA19: EN, VU/ 2, 3 | AB19: NT/ 4 | AC19: LC/ 5 | AE19: ='Data base'!AU4 -> 2 (V) | AF19: RE, CR/ 0, 1 | AG19: EN, VU/ 2, 3 | AH19: NT/ 4 | AI19: LC/ 5 | AK19: ='Data base'!BD4 -> RE | AL19: RE, CR/ 0, 1 | AM19: EN, VU/ 2, 3 | AN19: NT/ 4 | AO19: LC/ 5
D20: Trend (population) | E20: Long Term | G20: ='Data base'!P$4 -> - | H20: Declining | I20: Depleted | J20: Stable | K20: Increasing | M20: ='Data base'!Y4 -> - (50 - 70) | N20: Declining | O20: Depleted | P20: Stable | Q20: Increasing | S20: ='Data base'!AH4 -> - | T20: Declining | U20: Depleted | V20: Stable | W20: Increasing | Y20: ='Data base'!AQ4 -> - (52 - 52) | Z20: Declining | AA20: Depleted | AB20: Stable | AC20: Increasing | AE20: ='Data base'!AZ4 -> - (10 - 43) | AF20: Declining | AG20: Depleted | AH20: Stable | AI20: Increasing | AK20: ='Data base'!BJ4 -> - | AL20: Declining | AM20: Depleted | AN20: Stable | AO20: Increasing
E21: Short Term | G21: ='Data base'!O$4 -> - | I21: Declining | J21: Stable | K21: Increasing | M21: ='Data base'!X4 -> + (20 - 50) | O21: Declining | P21: Stable | Q21: Increasing | S21: ='Data base'!AG4 -> - | U21: Declining | V21: Stable | W21: Increasing | Y21: ='Data base'!AP4 -> - (39 - 39) | AA21: Declining | AB21: Stable | AC21: Increasing | AE21: ='Data base'!AY4 -> 0 | AG21: Declining | AH21: Stable | AI21: Increasing | AK21: ='Data base'!BI4 -> - | AM21: Declining | AN21: Stable | AO21: Increasing
D22: Rare-ness | G22: ='Data base'!N$4 -> - | H22: >1 | I22: <1 - >0.1 | J22: <0.1 - >0.01 | K22: <0.01 | M22: ='Data base'!W4 -> 0.66666667 | N22: >1 | O22: <1 - ≥0.1 | P22: <0.1 - >0.01 | Q22: <0.01 | S22: ='Data base'!AF4 -> #DIV/0! | T22: >1 | U22: <1 - >0.1 | V22: <0.1 - >0.01 | W22: <0.01 | Y22: ='Data base'!AO4 -> 0.33333333 | Z22: >1 | AA22: <1 - ≥0.1 | AB22: <0.1 - >0.01 | AC22: <0.01 | AE22: ='Data base'!AX4 -> 0.098360656 | AF22: >1 | AG22: <1 - >0.1 | AH22: <0.1 - ≥0.01 | AI22: <0.01 | AK22: ='Data base'!BH4 -> #DIV/0! | AL22: >1 | AM22: <1 - >0.1 | AN22: <0.1 - >0.01 | AO22: <0.01
D23: Generations length, year | F23: ='Data base'!E$4 -> 8 | G23: =$F23 -> 8 | H23: >10 | I23: <10 - >5 | J23: <5 - >3.3 | K23: <3.3 | M23: =$F23 -> 8 | N23: >10 | O23: <10 - >5 | P23: <5 - >3.3 | Q23: <3.3 | S23: =$F23 -> 8 | T23: >10 | U23: <10 - >5 | V23: <5 - >3.3 | W23: <3.3 | Y23: =$F23 -> 8 | Z23: >10 | AA23: <10 - >5 | AB23: <5 - >3.3 | AC23: <3.3 | AE23: =$F23 -> 8 | AF23: >10 | AG23: <10 - >5 | AH23: <5 - >3.3 | AI23: <3.3 | AK23: =$F23 -> 8 | AL23: >10 | AM23: <10 - >5 | AN23: <5 - >3.3 | AO23: <3.3
D24: Actual size of population (low assess) | G24: ='Data base'!L$4 -> 0 | M24: ='Data base'!U4 -> 60 | S24: ='Data base'!AD4 -> 0 | Y24: ='Data base'!AM4 -> 180 | AE24: ='Data base'!AV4 -> 610 | AF24: 1 | AG24: 4 | AH24: 2 | AI24: 1 | AJ24: =AF24*4+AG24*3+AH24*2+AI24 -> 21 | AK24: ='Data base'!BF4 -> 0
D25: Actual additional protection, nest | G25: =Protection!E$4 -> All year | M25: =Protection!F4 -> All year | S25: =Protection!G4 -> 0 | Y25: =Protection!H4 -> All year (if micro-res.) | AE25: =Protection!I4 -> 0 | AK25: =Protection!J4 -> Yes
D26: Actual protection, surroundings | G26: =Protection!K$4 -> none | M26: =Protection!L4 -> 250 m, microreserve* | S26: =Protection!M4 -> - | Y26: =Protection!N4 -> Microreserve | AE26: =Protection!O4 -> 0 | AK26: =Protection!P4 -> 500*
A28: 5 | B28: ='Data base'!C5 -> Cygnus cygnus | C28: ='Data base'!D5 -> Whooper Swan | D28: Awareness: | H28: Very high | I28: High | J28: Basic+ | K28: Basic | N28: Very high | O28: High | P28: Basic+ | Q28: Basic | T28: Very high | U28: High | V28: Basic+ | W28: Basic | Z28: Very high | AA28: High | AB28: Basic+ | AC28: Basic | AF28: Very high | AG28: High | AH28: Basic+ | AI28: Basic | AL28: Very high | AM28: High | AN28: Basic+ | AO28: Basic
D29: SPEC | F29: ='Data base'!G5 -> 0 | G29: =$F29 -> 0 | H29: 1 | I29: 2 | J29: 3 | K29: Non-SPEC | M29: =$F29 -> 0 | N29: 1 | O29: 2 | P29: 3 | Q29: Non-SPEC | S29: =$F29 -> 0 | T29: 1 | U29: 2 | V29: 3 | W29: Non-SPEC | Y29: =$F29 -> 0 | Z29: 1 | AA29: 2 | AB29: 3 | AC29: Non-SPEC | AE29: =$F29 -> 0 | AF29: 1 | AG29: 2 | AH29: 3 | AI29: Non-SPEC | AK29: =$F29 -> 0 | AL29: 1 | AM29: 2 | AN29: 3 | AO29: Non-SPEC
D30: Annex I (if Long Term-trend is:) | F30: ='Data base'!J5 -> x | G30: =$F30 -> x | H30: Declining | I30: Depleted | J30: Stable/Incr. | K30: Not Annex I | M30: =$F30 -> x | N30: Declining | O30: Depleted | P30: Stable/Incr. | Q30: Not Annex I | S30: =$F30 -> x | T30: Declining | U30: Depleted | V30: Stable/Incr. | W30: Not Annex I | Y30: =$F30 -> x | Z30: Declining | AA30: Depleted | AB30: Stable/Incr. | AC30: Not Annex I | AE30: =$F30 -> x | AF30: Declining | AG30: Depleted | AH30: Stable/Incr. | AI30: Not Annex I | AK30: =$F30 -> x | AL30: Declining | AM30: Depleted | AN30: Stable/Incr. | AO30: Not Annex I
D31: Relative abundance, EU27 | G31: ='Data base'!S5 -> 0 | H31: >2 | I31: <2 - >1 | J31: <1 - ≥0.5 | K31: <0.5 | M31: ='Data base'!AB5 -> 0.97727337 | N31: >2 | O31: <2 - >1 | P31: <1 - ≥0.5 | Q31: <0.5 | S31: ='Data base'!AK5 -> 7.7643825 | T31: >2 | U31: <2 - >1 | V31: <1 - ≥0.5 | W31: <0.5 | Y31: ='Data base'!AT5 -> 1.3686578 | Z31: >2 | AA31: <2 - ≥1 | AB31: <1 - ≥0.5 | AC31: <0.5 | AE31: ='Data base'!BC5 -> 0.54150224 | AF31: >2 | AG31: <2 - >1 | AH31: <1 - ≥0.5 | AI31: <0.5 | AK31: ='Data base'!BM5 -> 3.5336931 | AL31: >2 | AM31: <2 - >1 | AN31: <1 - ≥0.5 | AO31: <0.5
D32: Red-list (National) | E32: DK, EE, FI, SE/LV, LT | G32: ='Data base'!K5 -> (NA) | H32: RE, CR/ 0, 1 | I32: EN, VU/ 2, 3 | J32: NT/ 4 | K32: LC/ 5 | M32: ='Data base'!T5 -> (NA) | N32: RE, CR/ 0, 1 | O32: EN, VU/ 2, 3 | P32: NT/ 4 | Q32: LC/ 5 | S32: ='Data base'!AC5 -> - | T32: RE, CR/ 0, 1 | U32: EN, VU/ 2, 3 | V32: NT/ 4 | W32: LC/ 5 | Y32: ='Data base'!AL5 -> 3 | Z32: RE, CR/ 0, 1 | AA32: EN, VU/ 2, 3 | AB32: NT/ 4 | AC32: LC/ 5 | AE32: ='Data base'!AU5 -> 3 ( R ) | AF32: RE, CR/ 0, 1 | AG32: EN, VU/ 2, 3 | AH32: NT/ 4 | AI32: LC/ 5 | AK32: ='Data base'!BD5 -> - | AL32: RE, CR/ 0, 1 | AM32: EN, VU/ 2, 3 | AN32: NT/ 4 | AO32: LC/ 5
D33: Trend (population) | E33: Long Term | G33: ='Data base'!P5 -> - | H33: Declining | I33: Depleted | J33: Stable | K33: Increasing | M33: ='Data base'!X5 -> + (50-70) | N33: Declining | O33: Depleted | P33: Stable | Q33: Increasing | S33: ='Data base'!AH5 -> + (508 - 829) | T33: Declining | U33: Depleted | V33: Stable | W33: Increasing | Y33: ='Data base'!AQ5 -> + (1,500 - 3,100) | Z33: Declining | AA33: Depleted | AB33: Stable | AC33: Increasing | AE33: ='Data base'!AZ5 -> + (2,300 - 2,500) | AF33: Declining | AG33: Depleted | AH33: Stable | AI33: Increasing | AK33: ='Data base'!BJ5 -> + (800 - 1,200) | AL33: Declining | AM33: Depleted | AN33: Stable | AO33: Increasing
E34: Short Term | G34: ='Data base'!O5 -> - | I34: Declining | J34: Stable | K34: Increasing | M34: ='Data base'!Y5 -> + (50-70) | O34: Declining | P34: Stable | Q34: Increasing | S34: ='Data base'!AG5 -> + (84 - 153) | U34: Declining | V34: Stable | W34: Increasing | Y34: ='Data base'!AP5 -> + (60 - 88) | AA34: Declining | AB34: Stable | AC34: Increasing | AE34: ='Data base'!AY5 -> + (700 - 800) | AG34: Declining | AH34: Stable | AI34: Increasing | AK34: ='Data base'!BI5 -> + (1 - 51) | AM34: Declining | AN34: Stable | AO34: Increasing
D35: Rare-ness | G35: ='Data base'!N5 -> 13.33 | H35: >1 | I35: <1 - >0.1 | J35: <0.1 - >0.01 | K35: <0.01 | M35: ='Data base'!W5 -> 0.26666667 | N35: >1 | O35: <1 - ≥0.1 | P35: <0.1 - >0.01 | Q35: <0.01 | S35: ='Data base'!AF5 -> 0.035294118 | T35: >1 | U35: <1 - >0.1 | V35: <0.1 - ≥0.01 | W35: <0.01 | Y35: ='Data base'!AO5 -> 0.1875 | Z35: >1 | AA35: <1 - >0.1 | AB35: <0.1 - >0.01 | AC35: <0.01 | AE35: ='Data base'!AX5 -> 0.5 | AF35: >1 | AG35: <1 - ≥0.1 | AH35: <0.1 - >0.01 | AI35: <0.01 | AK35: ='Data base'!BH5 -> 0.085106383 | AL35: >1 | AM35: <1 - >0.1 | AN35: <0.1 - ≥0.01 | AO35: <0.01
D36: Generations length, year | F36: ='Data base'!E5 -> 9 | G36: =$F36 -> 9 | H36: >10 | I36: <10 - >5 | J36: <5 - >3.3 | K36: <3.3 | M36: =$F36 -> 9 | N36: >10 | O36: <10 - >5 | P36: <5 - >3.3 | Q36: <3.3 | S36: =$F36 -> 9 | T36: >10 | U36: <10 - >5 | V36: <5 - >3.3 | W36: <3.3 | Y36: =$F36 -> 9 | Z36: >10 | AA36: <10 - >5 | AB36: <5 - >3.3 | AC36: <3.3 | AE36: =$F36 -> 9 | AF36: >10 | AG36: <10 - >5 | AH36: <5 - >3.3 | AI36: <3.3 | AK36: =$F36 -> 9 | AL36: >10 | AM36: <10 - >5 | AN36: <5 - >3.3 | AO36: <3.3
D37: Actual size of population (low assess) | G37: ='Data base'!L5 -> 3 | M37: ='Data base'!U5 -> 150 | S37: ='Data base'!AD5 -> 8500 | Y37: ='Data base'!AM5 -> 320 | AE37: ='Data base'!AV5 -> 120 | AK37: ='Data base'!BF5 -> 4700
D38: Actual additional protection, nest | G38: =Protection!E5 -> - | M38: =Protection!F5 -> 0 | S38: =Protection!G5 -> 0 | Y38: =Protection!H5 -> 0 | AE38: =Protection!I5 -> 0 | AK38: =Protection!J5 -> Yes
D39: Actual protection, surroundings | G39: =Protection!K5 -> - | M39: =Protection!L5 -> 0 | S39: =Protection!M5 -> none | Y39: =Protection!N5 -> 0 | AE39: =Protection!O5 -> 0 | AK39: =Protection!P5 -> 100-200
A41: 6 | B41: ='Data base'!C6 -> Anser fabalis | C41: ='Data base'!D6 -> Bean Goose | D41: Awareness: | G41: Not breed. | H41: Very high | I41: High | J41: Basic+ | K41: Basic | M41: Not breed. | N41: Very high | O41: High | P41: Basic+ | Q41: Basic | T41: Very high | U41: High | V41: Basic+ | W41: Basic | Y41: Not breed. | Z41: Very high | AA41: High | AB41: Basic+ | AC41: Basic | AE41: Not breed. | AF41: Very high | AG41: High | AH41: Basic+ | AI41: Basic | AL41: Very high | AM41: High | AN41: Basic+ | AO41: Basic
D42: SPEC | F42: ='Data base'!G6 -> 0 | G42: =$F42 -> 0 | H42: 1 | I42: 2 | J42: 3 | K42: Non-SPEC | M42: =$F42 -> 0 | N42: 1 | O42: 2 | P42: 3 | Q42: Non-SPEC | S42: =$F42 -> 0 | T42: 1 | U42: 2 | V42: 3 | W42: Non-SPEC | Y42: =$F42 -> 0 | Z42: 1 | AA42: 2 | AB42: 3 | AC42: Non-SPEC | AE42: =$F42 -> 0 | AF42: 1 | AG42: 2 | AH42: 3 | AI42: Non-SPEC | AK42: =$F42 -> 0 | AL42: 1 | AM42: 2 | AN42: 3 | AO42: Non-SPEC
D43: Annex I (if Long Term-trend is:) | F43: ='Data base'!J6 -> 0 | G43: =$F43 -> 0 | H43: Declining | I43: Depleted | J43: Stable/Incr. | K43: Not Annex I | M43: =$F43 -> 0 | N43: Declining | O43: Depleted | P43: Stable/Incr. | Q43: Not Annex I | S43: =$F43 -> 0 | T43: Declining | U43: Depleted | V43: Stable/Incr. | W43: Not Annex I | Y43: =$F43 -> 0 | Z43: Declining | AA43: Depleted | AB43: Stable/Incr. | AC43: Not Annex I | AE43: =$F43 -> 0 | AF43: Declining | AG43: Depleted | AH43: Stable/Incr. | AI43: Not Annex I | AK43: =$F43 -> 0 | AL43: Declining | AM43: Depleted | AN43: Stable/Incr. | AO43: Not Annex I
...

Sheet Data base
E1: Genertion | F1: Global/Europe/EU-27 | K1: Denmark | L1: Estimated population | N1: Rareness | O1: Trend, % | Q1: Trend | R1: Pct of | S1: RA | T1: Estonia | U1: Estimated population | W1: Rareness | X1: Trend, % | Z1: Trend | AA1: =R1 -> Pct of | AB1: RA | AC1: Finland | AD1: Estimated population | AF1: Rareness | AG1: Trend, % | AI1: Trend | AJ1: =AA1 -> Pct of | AK1: =AB1 -> RA | AL1: Latvia | AM1: Estimated population | AO1: Rareness | AP1: Trend, % | AR1: Trend | AS1: =AJ1 -> Pct of | AT1: =AK1 -> RA | AU1: Lithuania | AV1: Estimated population | AX1: Rareness | AY1: Trend, % | BA1: Trend | BB1: =AS1 -> Pct of | BC1: =AT1 -> RA | BD1: Sweden | BF1: Estimated population | BH1: Rareness | BI1: Trend, % | BK1: Trend | BL1: Pct of | BM1: Rep. | BO1: Total, pct of EU27
A2: Index | B2: Euring | C2: Scientific name | D2: English name | E2: Length, y. | F2: IUCN, W | G2: BLI-SPEC | H2: Europe | I2: EU-27 | J2: Annex I | K2: DK-red | L2: Low | M2: High | N2: 40 | O2: Short Term | P2: Long Term | Q2: (BLI-crit.) | R2: EU-pop. | S2: 0.96264894 | T2: EE-red | U2: Low | V2: High | W2: 40 | X2: Short Term | Y2: Long Term | Z2: (BLI-crit.) | AA2: =R2 -> EU-pop. | AB2: =Countries!E5 -> 1.0232551 | AC2: FI-red | AD2: Low | AE2: High | AF2: 300 | AG2: Short Term | AH2: Long Term | AI2: (BLI-crit.) | AJ2: =AA2 -> EU-pop. | AK2: =Countries!E21 -> 7.6503186 | AL2: LV-red | AM2: Low | AN2: High | AO2: 60 | AP2: Short Term | AQ2: Long Term | AR2: (BLI-crit.) | AS2: =AJ2 -> EU-pop. | AT2: =Countries!E12 -> 1.4612856 | AU2: LT-red | AV2: Low | AW2: High | AX2: 60 | AY2: Short Term | AZ2: Long Term | BA2: (BLI-crit.) | BB2: =AS2 -> EU-pop. | BC2: =Countries!E13 -> 1.4773716 | BD2: SE-red | BE2: SV App.4 | BF2: Low | BG2: High | BH2: 400 | BI2: Short Term | BJ2: Long Term | BK2: (BLI-crit.) | BL2: EU-pop. | BM2: =Countries!E26 -> 10.187642
A3: H169-13-00 | B3: 20 | C3: Gavia stellata | D3: Red-throated Diver | E3: 7 | G3: 3 | J3: x | K3: - | L3: 0 | M3: 0 | N3: - | O3: - | P3: - | Q3: - | R3: 0 | S3: =R3/S$2 -> 0 | T3: RE | U3: 0 | V3: 0 | W3: =W$2/U3 -> #DIV/0! | X3: - | Y3: - | Z3: - | AA3: 0 | AB3: =AA3/AB$2 -> 0 | AC3: - | AD3: 750 | AE3: 1500 | AF3: =AF$2/AD3 -> 0.4 | AG3: + (27 - 44) | AH3: + (67 - 150) | AJ3: 27.2 | AK3: =AJ3/AK$2 -> 3.5554075 | AL3: 0 | AM3: 0 | AN3: 0 | AO3: =AO$2/AM3 -> #DIV/0! | AP3: - | AQ3: - | AS3: 0 | AT3: =AS3/AT$2 -> 0 | AU3: - | AV3: 0 | AX3: =AX$2/AV3 -> #DIV/0! | AY3: - | AZ3: - | BB3: 0 | BC3: =BB3/BC$2 -> 0 | BD3: NT | BE3: 2.4 | BF3: 1300 | BG3: 1900 | BH3: =BH$2/BF3 -> 0.30769231 | BI3: 0 | BJ3: - (10 - 20) | BL3: 40.2 | BM3: =BL3/BM$2 -> 3.9459573 | BO3: =R3+AA3+AJ3+AS3+BB3+BL3 -> 67.4 | BP3: =BM3+BC3 -> 3.9459573
A4: H182-10-00 | B4: 1310 | C4: Ciconia nigra | D4: Black Stork | E4: 8 | J4: x | K4: RE | L4: 0 | M4: 0 | N4: - | O4: - | P4: - | Q4: - | R4: 0 | S4: =R4/S$2 -> 0 | T4: EN | U4: 60 | V4: 90 | W4: =W$2/U4 -> 0.66666667 | X4: + (20 - 50) | Y4: - (50 - 70) | Z4: Depleted | AA4: 1.2 | AB4: =AA4/AB$2 -> 1.172728 | AC4: - | AD4: 0 | AF4: =AF$2/AD4 -> #DIV/0! | AG4: - | AH4: - | AI4: - | AJ4: 0 | AK4: =AJ4/AK$2 -> 0 | AL4: 3 | AM4: 180 | AN4: 240 | AO4: =AO$2/AM4 -> 0.33333333 | AP4: - (39 - 39) | AQ4: - (52 - 52) | AR4: Declining | AS4: 3.5 | AT4: =AS4/AT$2 -> 2.3951512 | AU4: 2 (V) | AV4: 610 | AW4: 922 | AX4: =AX$2/AV4 -> 0.098360656 | AY4: 0 | AZ4: - (10 - 43) | BA4: Depletede | BB4: 12.6 | BC4: =BB4/BC$2 -> 8.5286602 | BD4: RE | BE4: 1.4 | BF4: 0 | BG4: 0 | BH4: =BH$2/BF4 -> #DIV/0! | BI4: - | BJ4: - | BK4: - | BL4: 0 | BM4: =BL4/BM$2 -> 0 | BO4: =R4+AA4+AJ4+AS4+BB4+BL4 -> 17.3
A5: H009-06-00 | B5: 1540 | C5: Cygnus cygnus | D5: Whooper Swan | E5: 9 | J5: x | K5: (NA) | L5: 3 | M5: 3 | N5: 13.33 | O5: - | P5: - | S5: =R5/S$2 -> 0 | T5: (NA) | U5: 150 | V5: 200 | W5: =W$2/U5 -> 0.26666667 | X5: + (50-70) | Y5: + (50-70) | Z5: Increasing | AA5: 1 | AB5: =AA5/AB$2 -> 0.97727337 | AC5: - | AD5: 8500 | AE5: 11000 | AF5: =AF$2/AD5 -> 0.035294118 | AG5: + (84 - 153) | AH5: + (508 - 829) | AJ5: 59.4 | AK5: =AJ5/AK$2 -> 7.7643825 | AL5: 3 | AM5: 320 | AN5: 320 | AO5: =AO$2/AM5 -> 0.1875 | AP5: + (60 - 88) | AQ5: + (1,500 - 3,100) | AS5: 2 | AT5: =AS5/AT$2 -> 1.3686578 | AU5: 3 ( R ) | AV5: 120 | AW5: 130 | AX5: =AX$2/AV5 -> 0.5 | AY5: + (700 - 800) | AZ5: + (2,300 - 2,500) | BB5: 0.8 | BC5: =BB5/BC$2 -> 0.54150224 | BD5: - | BE5: 4 | BF5: 4700 | BG5: 7300 | BH5: =BH$2/BF5 -> 0.085106383 | BI5: + (1 - 51) | BJ5: + (800 - 1,200) | BL5: 36 | BM5: =BL5/BM$2 -> 3.5336931 | BO5: =R5+AA5+AJ5+AS5+BB5+BL5 -> 99.2
A6: H010-09-00 | B6: 1570 | C6: Anser fabalis | D6: Bean Goose | E6: 7 | K6: - | L6: 0 | M6: 0 | N6: - | O6: - | P6: - | Q6: - | R6: 0 | S6: =R6/S$2 -> 0 | T6: LC | U6: 0 | V6: 0 | W6: =W$2/U6 -> #DIV/0! | X6: - | Y6: - | Z6: - | AA6: 0 | AB6: =AA6/AB$2 -> 0 | AC6: VU | AD6: 1000 | AE6: 2500 | AF6: =AF$2/AD6 -> 0.3 | AG6: x | AH6: x | AJ6: 66 | AK6: =AJ6/AK$2 -> 8.6270917 | AL6: - | AM6: 0 | AN6: 0 | AO6: =AO$2/AM6 -> #DIV/0! | AP6: - | AQ6: - | AS6: 0 | AT6: =AS6/AT$2 -> 0 | AU6: - | AV6: 0 | AW6: 0 | AX6: =AX$2/AV6 -> #DIV/0! | AY6: - | AZ6: - | BB6: 0 | BC6: =BB6/BC$2 -> 0 | BD6: NT | BE6: 2 | BF6: 650 | BG6: 1000 | BH6: =BH$2/BF6 -> 0.61538462 | BI6: 0 | BJ6: 0 | BL6: 34 | BM6: =BL6/BM$2 -> 3.3373768 | BO6: =R6+AA6+AJ6+AS6+BB6+BL6 -> 100
A7: H012-01-00 | B7: 2180 | C7: Bucephala clangula | D7: Common Goldeneye | E7: 4 | K7: NT | L7: 100 | M7: 100 | N7: =N$2/L7 -> 0.4 | O7: + (50 - 100) | P7: =+ (10000 - 100000) -> -90000 | Q7: Increasing | R7: 0.01 | S7: =R7/S$2 -> 0.010388003 | T7: LC | U7: 3000 | V7: 5000 | W7: =W$2/U7 -> 0.013333333 | X7: + (20 - 50) | Y7: + (50 - 70) | Z7: Increasing | AA7: 1.2 | AB7: =AA7/AB$2 -> 1.172728 | AC7: - | AD7: 190000 | AE7: 250000 | AF7: =AF$2/AD7 -> 0.0015789474 | AG7: - (9 - 20) | AH7: 0 | AI7: (Declining) | AJ7: 68.2 | AK7: =AJ7/AK$2 -> 8.9146614 | AL7: - | AM7: 2000 | AN7: 3000 | AO7: =AO$2/AM7 -> 0.03 | AP7: + (30 - 100) | AQ7: + (100 - 200) | AR7: Increasing | AS7: 2.6 | AT7: =AS7/AT$2 -> 1.7792552 | AU7: - | AV7: 2000 | AW7: 3000 | AX7: =AX$2/AV7 -> 0.03 | AY7: + (30 - 100) | AZ7: + (100 - 200) | BA7: Increasing | BB7: 0.8 | BC7: =BB7/BC$2 -> 0.54150224 | BD7: - | BF7: 65000 | BG7: 96000 | BH7: =BH$2/BF7 -> 0.0061538462 | BI7: - (8 - 34) | BJ7: 0 | BK7: (Decreasing) | BL7: 24.8 | BM7: =BL7/BM$2 -> 2.4343219 | BO7: =R7+AA7+AJ7+AS7+BB7+BL7 -> 97.61
A8: H012-03-00 | B8: 2200 | C8: Mergellus albellus | D8: Smew | E8: 4 | G8: 3 | J8: x | K8: - | L8: 0 | M8: 0 | N8: - | O8: - | P8: - | Q8: - | R8: 0 | S8: =R8/S$2 -> 0 | T8: (NA) | U8: 0 | V8: 0 | W8: =W$2/U8 -> #DIV/0! | X8: - | Y8: - | Z8: - | AA8: 0 | AB8: =AA8/AB$2 -> 0 | AC8: - | AD8: 2000 | AE8: 2500 | AF8: =AF$2/AD8 -> 0.15 | AG8: 0 | AH8: + (67 - 425) | AJ8: 68.9 | AK8: =AJ8/AK$2 -> 9.0061609 | AL8: - | AM8: 0 | AN8: 0 | AO8: =AO$2/AM8 -> #DIV/0! | AP8: - | AQ8: - | AS8: 0 | AT8: =AS8/AT$2 -> 0 | AU8: - | AV8: 0 | AW8: 0 | AX8: =AX$2/AV8 -> #DIV/0! | AY8: - | AZ8: - | BB8: 0 | BC8: =BB8/BC$2 -> 0 | BD8: - | BE8: 4 | BF8: 1100 | BG8: 2000 | BH8: =BH$2/BF8 -> 0.36363636 | BI8: 0 | BJ8: + (60 - 120) | BL8: 31.1 | BM8: =BL8/BM$2 -> 3.0527182 | BO8: =R8+AA8+AJ8+AS8+BB8+BL8 -> 100
A9: H235-06-00 | B9: 2310 | C9: Pernis apivorus | D9: European Honey Buzzard | E9: 9 | J9: x | K9: - | L9: 650 | M9: 650 | N9: =N$2/L9 -> 0.061538462 | O9: 0 | P9: 0 | Q9: Stable | R9: 1.5 | S9: =R9/S$2 -> 1.5582004 | T9: LC | U9: 900 | V9: 1300 | W9: =W$2/U9 -> 0.044444444 | X9: - (20 - 50) | Y9: 0 | Z9: (Decreasing) | AA9: 2 | AB9: =AA9/AB$2 -> 1.9545467 | AC9: EN | AD9: 2200 | AE9: 2400 | AF9: =AF$2/AD9 -> 0.13636364 | AG9: - (27 - 33) | AH9: - (40 - 47) | AI9: Declining | AJ9: 4.3 | AK9: =AJ9/AK$2 -> 0.5620681 | AL9: - | AM9: 2000 | AN9: 3000 | AO9: =AO$2/AM9 -> 0.03 | AP9: x | AQ9: + ( - 100) | AR9: (Increasing) | AS9: 4.5 | AT9: =AS9/AT$2 -> 3.0794801 | AU9: 3 ( R ) | AV9: 1000 | AW9: 2000 | AX9: =AX$2/AV9 -> 0.06 | AY9: 0 | AZ9: 0 | BA9: Stable | BB9: 2.6 | BC9: =BB9/BC$2 -> 1.7598823 | BD9: NT | BE9: 2,4,5 | BF9: 5200 | BG9: 8100 | BH9: =BH$2/BF9 -> 0.076923077 | BI9: 0 | BJ9: - (30 - 70) | BK9: Depleted | BL9: 12 | BM9: =BL9/BM$2 -> 1.1778977 | BO9: =R9+AA9+AJ9+AS9+BB9+BL9 -> 26.9
A10: H250-02-00 | B10: 2380 | C10: Milvus migrans | D10: Black Kite | E10: 6 | G10: 3 | J10: x | K10: - | L10: 0 | M10: 0 | N10: - | O10: - | P10: - | Q10: - | R10: 0 | S10: =R10/S$2 -> 0 | T10: CR | U10: 10 | V10: 20 | W10: =W$2/U10 -> 4 | X10: + (50 - 50) | Y10: + (500 - 700) | Z10: Increasing | AA10: 0.001 | AB10: =AA10/AB$2 -> 0.00097727337 | AC10: CR | AD10: 15 | AE10: 29 | AF10: =AF$2/AD10 -> 20 | AG10: + (70 - 90) | AH10: + (750 - 850) | AI10: Increasing | AK10: =AJ10/AK$2 -> 0 | AL10: 2 | AM10: 20 | AN10: 40 | AO10: =AO$2/AM10 -> 3 | AP10: - | AQ10: 0 | AR10: Stable | AS10: 0.001 | AT10: =AS10/AT$2 -> 0.00068432891 | AU10: 2 (V) | AV10: 40 | AW10: 70 | AX10: =AX$2/AV10 -> 1.5 | AY10: - (20 - 40) | AZ10: - (40 - 50) | BA10: Decreasing | BB10: 0.1 | BC10: =BB10/BC$2 -> 0.067687779 | BD10: EN | BE10: 1.4 | BF10: 10 | BG10: 20 | BH10: =BH$2/BF10 -> 40 | BI10: + (50 - 50) | BJ10: + (500 - 700) | BK10: Increasing | BL10: 0.001 | BM10: =BL10/BM$2 -> 9.8158141e-05 | BO10: =R10+AA10+AJ10+AS10+BB10+BL10 -> 0.103
A11: H250-01-00 | B11: 2390 | C11: Milvus milvus | D11: Red Kite | E11: 6 | F11: NT | G11: 1 | H11: NT | I11: NT | J11: x | K11: VU | L11: 100 | M11: 100 | N11: =N$2/L11 -> 0.4 | O11: + (100 - 1000) | P11: + (100 - 1000) | Q11: Increasing | R11: 0.4 | S11: =R11/S$2 -> 0.41552012 | T11: (NA) | U11: 0 | V11: 0 | W11: =W$2/U11 -> #DIV/0! | X11: - | Y11: - | Z11: - | AA11: 0 | AB11: =AA11/AB$2 -> 0 | AC11: - | AD11: 0 | AF11: =AF$2/AD11 -> #DIV/0! | AJ11: 0 | AK11: =AJ11/AK$2 -> 0 | AL11: 1 | AM11: 3 | AN11: 5 | AO11: =AO$2/AM11 -> 20 | AP11: x | AQ11: + ( - 400) | AR11: Increasing | AS11: 0.001 | AT11: =AS11/AT$2 -> 0.00068432891 | AU11: 1 ( E ) | AV11: 20 | AW11: 35 | AX11: =AX$2/AV11 -> 3 | AY11: + (1,900 - 3,400) | AZ11: + (1,900 - 3,400) | BA11: Incresing | BB11: 0.1 | BC11: =BB11/BC$2 -> 0.067687779 | BD11: - | BE11: 1.4 | BF11: 1900 | BG11: 2200 | BH11: =BH$2/BF11 -> 0.21052632 | BI11: + (100 - 200) | BJ11: + (1,500 - 2,500) | BK11: Increasing | BL11: 7.4 | BM11: =BL11/BM$2 -> 0.72637024 | BO11: =R11+AA11+AJ11+AS11+BB11+BL11 -> 7.901
A12: H249-08-00 | B12: 2430 | C12: Haliaeetus albicilla | D12: White-tailed Sea Eagle | E12: 16 | J12: x | K12: VU | L12: 38 | M12: 61 | N12: =N$2/L12 -> 1.0526316 | O12: + (100 - 1000) | P12: + (1000 - 10000) | Q12: Increasing | R12: 1 | S12: =R12/S$2 -> 1.0388003 | T12: NT | U12: 220 | V12: 250 | W12: =W$2/U12 -> 0.18181818 | X12: + (50 - 70) | Y12: + (50 - 70) | Z12: Increasing | AA12: 6.1 | AB12: =AA12/AB$2 -> 5.9613676 | AC12: VU | AD12: 450 | AE12: 450 | AF12: =AF$2/AD12 -> 0.66666667 | AG12: + (80 - 80) | AH12: + (1,025 - 1,025) | AI12: Increasing | AJ12: 11.7 | AK12: =AJ12/AK$2 -> 1.5293481 | AL12: 1 | AM12: 90 | AN12: 100 | AO12: =AO$2/AM12 -> 0.66666667 | AP12: + (260 - 400) | AQ12: + (2,900 - 3,233) | AR12: Increasing | AS12: 2.5 | AT12: =AS12/AT$2 -> 1.7108223 | AU12: 3 ( R ) | AV12: 120 | AW12: 150 | AX12: =AX$2/AV12 -> 0.5 | AY12: + (200 - 280) | AZ12: + (2,900 - 3,600) | BA12: Incresing | BB12: 3.4 | BC12: =BB12/BC$2 -> 2.3013845 | BD12: NT | BE12: 2.4 | BF12: 550 | BG12: 700 | BH12: =BH$2/BF12 -> 0.72727273 | BI12: + (50 - 90) | BJ12: + (400 - 600) | BK12: Increasing | BL12: 16.1 | BM12: =BL12/BM$2 -> 1.5803461 | BO12: =R12+AA12+AJ12+AS12+BB12+BL12 -> 40.8
A13: H238-08-00 | B13: 2560 | C13: Circaetus gallicus | D13: Short-toed Eagle | E13: 13 | J13: x | K13: RE | L13: 0 | M13: 0 | N13: - | O13: - | P13: - | Q13: - | R13: 0 | S13: =R13/S$2 -> 0 | T13: CR | U13: 0 | V13: 1 | W13: =W$2/U13 -> #DIV/0! | X13: - | Y13: - | Z13: - | AA13: 0 | AB13: =AA13/AB$2 -> 0 | AC13: - | AD13: 0 | AF13: =AF$2/AD13 -> #DIV/0! | AK13: =AJ13/AK$2 -> 0 | AL13: 1 | AM13: 0 | AN13: 5 | AO13: =AO$2/AM13 -> #DIV/0! | AP13: x | AQ13: - ( - 100) | AR13: Declining | AS13: 0 | AT13: =AS13/AT$2 -> 0 | AU13: 0 ( Ex ) | AV13: 1 | AW13: 5 | AX13: =AX$2/AV13 -> 60 | AY13: 0 | AZ13: 0 | BA13: Stable | BB13: 0 | BC13: =BB13/BC$2 -> 0 | BD13: - | BF13: 0 | BH13: =BH$2/BF13 -> #DIV/0! | BL13: 0 | BM13: =BL13/BM$2 -> 0 | BO13: =R13+AA13+AJ13+AS13+BB13+BL13 -> 0
A14: H248-06-00 | B14: 2670 | C14: Accipiter gentilis | D14: Nothern Gooshawk | E14: 6 | K14: LC | L14: 270 | M14: 270 | N14: =N$2/L14 -> 0.14814815 | O14: - (50 - 100) | P14: - (33 - 50) | Q14: Declining | R14: 0.4 | S14: =R14/S$2 -> 0.41552012 | T14: NT | U14: 400 | V14: 600 | W14: =W$2/U14 -> 0.1 | X14: - (20 - 50) | Y14: - (50 - 70) | Z14: Decreasing | AA14: 0.8 | AB14: =AA14/AB$2 -> 0.7818187 | AC14: NT | AD14: 4200 | AE14: 4300 | AF14: =AF$2/AD14 -> 0.071428571 | AG14: - (20 - 22) | AH14: - (24 - 33) | AI14: Declining | AJ14: 6.8 | AK14: =AJ14/AK$2 -> 0.88885187 | AL14: - | AM14: 450 | AN14: 1016 | AO14: =AO$2/AM14 -> 0.13333333 | AP14: F | AQ14: - (49 - 85) | AR14: Declining | AS14: 1.1 | AT14: =AS14/AT$2 -> 0.7527618 | AU14: 3 ( R ) | AV14: 500 | AW14: 800 | AX14: =AX$2/AV14 -> 0.12 | AY14: 0 | AZ14: 0 | BA14: Stable | BB14: 1 | BC14: =BB14/BC$2 -> 0.67687779 | BD14: NT | BE14: 2 | BF14: 4500 | BG14: 11000 | BH14: =BH$2/BF14 -> 0.088888889 | BI14: - (20 - 50) | BJ14: 0 | BK14: (Decreasing) | BL14: 11.4 | BM14: =BL14/BM$2 -> 1.1190028 | BO14: =R14+AA14+AJ14+AS14+BB14+BL14 -> 21.5
A15: H255-01-00 | B15: 2870 | C15: Buteo buteo | D15: Eurasian Buzzard | E15: 8 | K15: LC | L15: 5000 | M15: 5000 | N15: =N$2/L15 -> 0.008 | O15: 0 | P15: + (50 - 100) | Q15: Increasing | R15: 0.8 | S15: =R15/S$2 -> 0.83104024 | T15: LC | U15: 6000 | V15: 7000 | W15: =W$2/U15 -> 0.0066666667 | X15: 0 | Y15: 0 | Z15: Stable | AA15: 1 | AB15: =AA15/AB$2 -> 0.97727337 | AC15: VU | AD15: 4000 | AE15: 4200 | AF15: =AF$2/AD15 -> 0.075 | AG15: - (21 - 25) | AH15: - (30 - 36) | AI15: Declining | AJ15: 0.7 | AK15: =AJ15/AK$2 -> 0.091499457 | AL15: - | AM15: 34360 | AN15: 71160 | AO15: =AO$2/AM15 -> 0.0017462165 | AP15: - (2 - 50) | AQ15: - (17 - 82) | AR15: Declining | AS15: 8.1 | AT15: =AS15/AT$2 -> 5.5430642 | AU15: - | AV15: 6000 | AW15: 12000 | AX15: =AX$2/AV15 -> 0.01 | AY15: 0 | AZ15: 0 | BA15: Stable | BB15: 1.4 | BC15: =BB15/BC$2 -> 0.94762891 | BD15: - | BF15: 17000 | BG15: 45000 | BH15: =BH$2/BF15 -> 0.023529412 | BI15: 0 | BJ15: + (20 - 40) | BK15: Increasing | BL15: 4.6 | BM15: =BL15/BM$2 -> 0.45152745 | BO15: =R15+AA15+AJ15+AS15+BB15+BL15 -> 16.6
A16: H254-09-00 | B16: 2900 | C16: Buteo lagopus | D16: Rough-legged Buzzard | E16: 8 | I16: EN | K16: - | L16: 0 | M16: 0 | N16: - | O16: - | P16: - | Q16: - | R16: 0 | S16: =R16/S$2 -> 0 | T16: (NA) | U16: 0 | W16: =W$2/U16 -> #DIV/0! | X16: - | Y16: - | Z16: - | AA16: 0 | AB16: =AA16/AB$2 -> 0 | AC16: - | AD16: 500 | AE16: 4000 | AF16: =AF$2/AD16 -> 0.6 | AG16: F | AH16: - (73 - 93 ) | AJ16: 33.1 | AK16: =AJ16/AK$2 -> 4.3266172 | AL16: - | AM16: 0 | AN16: 0 | AO16: =AO$2/AM16 -> #DIV/0! | AP16: - | AQ16: - | AS16: 0 | AT16: =AS16/AT$2 -> 0 | AU16: - | AV16: 0 | AW16: 0 | AX16: =AX$2/AV16 -> #DIV/0! | AY16: - | AZ16: - | BB16: 0 | BC16: =BB16/BC$2 -> 0 | BD16: NT | BE16: 2.5 | BF16: 1700 | BG16: 5200 | BH16: =BH$2/BF16 -> 0.23529412 | BI16: 0 | BJ16: - (25 - 75) | BL16: 66.9 | BM16: =BL16/BM$2 -> 6.5667796 | BO16: =R16+AA16+AJ16+AS16+BB16+BL16 -> 100
A17: H241-08-00 | B17: 2920 | C17: Clanga pomarina | D17: Lesser Spotted Eagle | E17: 11 | J17: x | K17: - | L17: 0 | M17: 0 | N17: - | O17: - | P17: - | Q17: - | R17: 0 | S17: =R17/S$2 -> 0 | T17: NT | U17: 600 | V17: 700 | W17: =W$2/U17 -> 0.066666667 | X17: 0 | Y17: 0 | Z17: Stable | AA17: 4.9 | AB17: =AA17/AB$2 -> 4.7886395 | AC17: - | AD17: 0 | AJ17: 0 | AK17: =AJ17/AK$2 -> 0 | AL17: 3 | AM17: 3700 | AN17: 3700 | AO17: =AO$2/AM17 -> 0.016216216 | AP17: - (10 - 10) | AQ17: + (147 - 363) | AS17: 28.2 | AT17: =AS17/AT$2 -> 19.298075 | AU17: 3 ( R ) | AV17: 1931 | AW17: 2869 | AX17: =AX$2/AV17 -> 0.031071983 | AY17: 0 | AZ17: - (17 - 24) | BA17: Depleted | BB17: 17.8 | BC17: =BB17/BC$2 -> 12.048425 | BD17: - | BF17: 0 | BH17: =BH$2/BF17 -> #DIV/0! | BI17: - | BJ17: - | BL17: 0 | BM17: =BL17/BM$2 -> 0 | BO17: =R17+AA17+AJ17+AS17+BB17+BL17 -> 50.9
A18: H241-10-00 | B18: 2930 | C18: Clanga clanga | D18: Greater Spotted Eagle | E18: 11 | F18: VU | G18: 1 | H18: EN | J18: x | K18: - | L18: 0 | M18: 0 | N18: - | O18: - | P18: - | Q18: - | R18: 0 | S18: =R18/S$2 -> 0 | T18: CR | U18: 5 | V18: 10 | W18: =W$2/U18 -> 8 | X18: - (50 - 70) | Y18: - (50 - 70) | Z18: Declining | AA18: 29.8 | AB18: =AA18/AB$2 -> 29.122746 | AC18: CR | AD18: 0 | AE18: 1 | AF18: =AF$2/AD18 -> #DIV/0! | AG18: 0 | AH18: 0 | AI18: Stable | AJ18: 0 | AK18: =AJ18/AK$2 -> 0 | AL18: 1 | AM18: 0 | AN18: 0 | AO18: =AO$2/AM18 -> #DIV/0! | AP18: 0 | AQ18: - (100 - 100) | AS18: 0 | AT18: =AS18/AT$2 -> 0 | AU18: 1 ( E ) | AV18: 0 | AW18: 2 | AX18: =AX$2/AV18 -> #DIV/0! | AY18: 0 | AZ18: 0 | BB18: 3 | BC18: =BB18/BC$2 -> 2.0306334 | BD18: - | BF18: 0 | BH18: =BH$2/BF18 -> #DIV/0! | BI18: - | BJ18: - | BL18: 0 | BM18: =BL18/BM$2 -> 0 | BO18: =R18+AA18+AJ18+AS18+BB18+BL18 -> 32.8
A19: H242-04-00 | B19: 2960 | C19: Aquila chrysaetos | D19: Golden Eagle | E19: 11 | J19: x | K19: (NA) | L19: 2 | M19: 2 | N19: =N$2/L19 -> 20 | O19: + (100 - 1,000) | P19: + (100 - 1,000) | Q19: Increasing | R19: 0.001 | S19: =R19/S$2 -> 0.0010388003 | T19: VU | U19: 55 | V19: 65 | W19: =W$2/U19 -> 0.72727273 | X19: + (20 - 50) | Y19: + (20 - 50) | AA19: 1.2 | AB19: =AA19/AB$2 -> 1.172728 | AC19: VU | AD19: 350 | AE19: 350 | AF19: =AF$2/AD19 -> 0.85714286 | AG19: + (36 - 36) | AH19: + (50 - 50) | AI19: Increasing | AJ19: 6.8 | AK19: =AJ19/AK$2 -> 0.88885187 | AL19: 1 | AM19: 9 | AN19: 9 | AO19: =AO$2/AM19 -> 6.6666667 | AP19: + (125 - 125) | AQ19: + (125 - 125) | AS19: 0.2 | AT19: =AS19/AT$2 -> 0.13686578 | AU19: 1 ( E ) | AV19: 0 | AW19: 2 | AX19: =AX$2/AV19 -> #DIV/0! | AY19: 0 | AZ19: 0 | BB19: 0 | BC19: =BB19/BC$2 -> 0 | BD19: NT | BE19: 2.4 | BF19: 580 | BG19: 800 | BH19: =BH$2/BF19 -> 0.68965517 | BI19: 0 | BJ19: + (10 - 40) | BK19: Increasing | BL19: 13.4 | BM19: =BL19/BM$2 -> 1.3153191 | BO19: =R19+AA19+AJ19+AS19+BB19+BL19 -> 21.601
A20: H234-02-00 | B20: 3010 | C20: Pandion haliaetus | D20: Osprey | E20: 9 | J20: x | K20: CR | L20: 3 | M20: 3 | N20: =N$2/L20 -> 13.333333 | O20: + (25 - 50) | P20: + (25 - 50) | Q20: Increase | R20: 0.001 | S20: =R20/S$2 -> 0.0010388003 | T20: VU | U20: 60 | V20: 70 | W20: =W$2/U20 -> 0.66666667 | X20: + (20 - 50) | Y20: + (20 - 50) | AA20: 1 | AB20: =AA20/AB$2 -> 0.97727337 | AC20: - | AD20: 1100 | AE20: 1350 | AF20: =AF$2/AD20 -> 0.27272727 | AG20: + ( - 22) | AH20: + (23 - 26) | AI20: Depleted | AJ20: 18.5 | AK20: =AJ20/AK$2 -> 2.4181999 | AL20: 3 | AM20: 190 | AN20: 210 | AO20: =AO$2/AM20 -> 0.31578947 | AP20: + (27 - 110) | AQ20: + (217 - 367) | AS20: 3 | AT20: =AS20/AT$2 -> 2.0529867 | AU20: 2 ( V ) | AV20: 30 | AW20: 40 | AX20: =AX$2/AV20 -> 2 | AY20: 0 | AZ20: + (10 - 50) | BB20: 0.5 | BC20: =BB20/BC$2 -> 0.3384389 | BD20: - | BE20: 4 | BF20: 3400 | BG20: 4700 | BH20: =BH$2/BF20 -> 0.11764706 | BI20: 0 | BJ20: + (15 - 45) | BL20: 60.6 | BM20: =BL20/BM$2 -> 5.9483833 | BO20: =R20+AA20+AJ20+AS20+BB20+BL20 -> 83.601
A21: H349-10-00 | B21: 3040 | C21: Falco tinnunculus | D21: Common Kestrel | E21: <3.3 | G21: 3 | K21: LC | L21: 1500 | M21: 1500 | N21: =(N$2/L21) -> 0.026666667 | O21: - (33 - 50) | P21: + (25 - 50) | Q21: Fluctuating | R21: 0.4 | S21: =R21/S$2 -> 0.41552012 | T21: LC | U21: 600 | V21: 900 | W21: =W$2/U21 -> 0.066666667 | X21: + (20 - 50) | Y21: 0 | AA21: 0.2 | AB21: =AA21/AB$2 -> 0.19545467 | AC21: - | AD21: 7700 | AE21: 8700 | AF21: =AF$2/AD21 -> 0.038961039 | AG21: + (105 - 132) | AH21: + (442 - 513) | AI21: Increasing | AJ21: 2.4 | AK21: =AJ21/AK$2 -> 0.31371243 | AL21: 1 | AM21: 130 | AN21: 250 | AO21: =AO$2/AM21 -> 0.46153846 | AP21: x | AQ21: x | AS21: 0.001 | AT21: =AS21/AT$2 -> 0.00068432891 | AU21: 2 ( V ) | AV21: 300 | AW21: 400 | AX21: =AX$2/AV21 -> 0.2 | AY21: + (50 - 100) | AZ21: + (100 - 170) | BB21: 0.1 | BC21: =BB21/BC$2 -> 0.067687779 | BD21: - | BF21: 4500 | BG21: 8400 | BH21: =BH$2/BF21 -> 0.088888889 | BI21: + (10 - 30) | BJ21: + (50 - 150) | BL21: 1.8 | BM21: =BL21/BM$2 -> 0.17668465 | BO21: =R21+AA21+AJ21+AS21+BB21+BL21 -> 4.901
A22: H351-03-00 | B22: 3090 | C22: Falco columbarius | D22: Merlin | E22: <3.3 | J22: x | K22: - | L22: 0 | M22: 0 | N22: - | O22: - | P22: - | Q22: - | R22: 0 | S22: =R22/S$2 -> 0 | T22: VU | U22: 30 | V22: 60 | W22: =W$2/U22 -> 1.3333333 | X22: + (20 - 50) | Y22: 0 | AA22: 0.4 | AB22: =AA22/AB$2 -> 0.39090935 | AC22: - | AD22: 2400 | AE22: 3600 | AF22: =AF$2/AD22 -> 0.125 | AG22: 0 | AH22: 0 | AI22: Stable | AJ22: 28 | AK22: =AJ22/AK$2 -> 3.6599783 | AL22: 1 | AM22: 30 | AN22: 75 | AO22: =AO$2/AM22 -> 2 | AP22: x | AQ22: 0 | AS22: 0.5 | AT22: =AS22/AT$2 -> 0.34216446 | AU22: 1 ( E ) | AV22: 5 | AW22: 10 | AX22: =AX$2/AV22 -> 12 | AY22: 0 | AZ22: 0 | BB22: 0.1 | BC22: =BB22/BC$2 -> 0.067687779 | BD22: - | BE22: 4 | BF22: 4600 | BG22: 7900 | BH22: =BH$2/BF22 -> 0.086956522 | BI22: 0 | BJ22: + (10 - 40) | BL22: 57.3 | BM22: =BL22/BM$2 -> 5.6244615 | BO22: =R22+AA22+AJ22+AS22+BB22+BL22 -> 86.3
A23: H351-07-00 | B23: 3100 | C23: Falco subbuteo | D23: Eurasian Hobby | E23: 5 | K23: EN | L23: 13 | M23: 21 | N23: =N$2/L23 -> 3.0769231 | O23: + (50 - 100) | P23: + (100 - 1,000) | Q23: Increasing | R23: 0.001 | S23: =R23/S$2 -> 0.0010388003 | T23: LC | U23: 500 | V23: 800 | W23: =W$2/U23 -> 0.08 | X23: - (20 - 50) | Y23: - (20 - 50) | AA23: 1.3 | AB23: =AA23/AB$2 -> 1.2704554 | AC23: - | AD23: 3100 | AE23: 3200 | AF23: =AF$2/AD23 -> 0.096774194 | AG23: + (19 - 23) | AH23: + (31 - 33) | AI23: Increasing | AJ23: 6.7 | AK23: =AJ23/AK$2 -> 0.87578052 | AL23: - | AM23: 390 | AN23: 845 | AO23: =AO$2/AM23 -> 0.15384615 | AP23: x | AQ23: 0 | AS23: 1.2 | AT23: =AS23/AT$2 -> 0.82119469 | AU23: 3 ( R ) | AV23: 700 | AW23: 1000 | AX23: =AX$2/AV23 -> 0.085714286 | AY23: 0 | AZ23: 0 | BB23: 1.8 | BC23: =BB23/BC$2 -> 1.21838 | BD23: - | BF23: 1700 | BG23: 3000 | BH23: =BH$2/BF23 -> 0.23529412 | BI23: 0 | BJ23: 0 | BL23: 4.8 | BM23: =BL23/BM$2 -> 0.47115908 | BO23: =R23+AA23+AJ23+AS23+BB23+BL23 -> 15.801
A24: H352-08-00 | B24: 3200 | C24: Falco peregrinus | D24: Peregrine Falcon | E24: 5 | J24: x | K24: RE | L24: 4 | M24: 4 | N24: =N$2/L24 -> 10 | O24: + (100 - 1,000) | P24: - | Q24: Increasing | R24: 0.1 | S24: =R24/S$2 -> 0.10388003 | T24: RE | U24: 0 | V24: 0 | W24: =W$2/U24 -> #DIV/0! | X24: - | Y24: - | AA24: 0 | AB24: =AA24/AB$2 -> 0 | AC24: VU | AD24: 194 | AE24: 194 | AF24: =AF$2/AD24 -> 1.5463918 | AG24: + (63 - 63) | AH24: + (646 - 646) | AI24: Increasing | AJ24: 3.4 | AK24: =AJ24/AK$2 -> 0.44442594 | AL24: 0 | AM24: 0 | AN24: 0 | AO24: =AO$2/AM24 -> #DIV/0! | AP24: - | AQ24: - | AS24: 0 | AT24: =AS24/AT$2 -> 0 | AU24: 1 ( E ) | AV24: 1 | AW24: 5 | AX24: =AX$2/AV24 -> 60 | AY24: 0 | AZ24: + ( - 400) | BB24: 0 | BC24: =BB24/BC$2 -> 0 | BD24: NT | BE24: 2.4 | BF24: 300 | BG24: 430 | BH24: =BH$2/BF24 -> 1.3333333 | BI24: + (150 - 250) | BJ24: + (3,000 - 3,500) | BL24: 6.3 | BM24: =BL24/BM$2 -> 0.61839629 | BO24: =R24+AA24+AJ24+AS24+BB24+BL24 -> 9.8
A25: H045-02-00 | B25: 3260 | C25: Bonasa bonasia | D25: Nothern Hazel-Grouse | E25: <3.3 | J25: x | K25: - | L25: 0 | M25: 0 | N25: - | O25: - | P25: - | Q25: - | R25: 0 | S25: =R25/S$2 -> 0 | T25: LC | U25: 30000 | V25: 60000 | W25: =W$2/U25 -> 0.0013333333 | X25: 0 | Y25: - (50 - 70) | AA25: 5.6 | AB25: =AA25/AB$2 -> 5.4727309 | AC25: - | AD25: 470000 | AE25: 520000 | AF25: =AF$2/AD25 -> 0.00063829787 | AG25: + (3 - 14) | AH25: 0 | AI25: Stable | AJ25: 64 | AK25: =AJ25/AK$2 -> 8.3656647 | AL25: - | AM25: 10000 | AN25: 47500 | AO25: =AO$2/AM25 -> 0.006 | AP25: - (59 - 99) | AQ25: + (207 - 972) | AS25: 3.4 | AT25: =AS25/AT$2 -> 2.3267183 | AU25: - | AV25: 8000 | AW25: 20000 | AX25: =AX$2/AV25 -> 0.0075 | AY25: 0 | AZ25: 0 | BB25: 1.7 | BC25: =BB25/BC$2 -> 1.1506923 | BD25: - | BE25: 4 | BF25: 90000 | BG25: 156000 | BH25: =BH$2/BF25 -> 0.0044444444 | BI25: 0 | BJ25: 0 | BL25: 15.4 | BM25: =BL25/BM$2 -> 1.5116354 | BO25: =R25+AA25+AJ25+AS25+BB25+BL25 -> 90.1
A26: H045-04-00 | B26: 3290 | C26: Lagopus lagopus | D26: Willow Grouse | E26: <3.3 | G26: 3 | H26: VU | I26: VU | K26: - | L26: 0 | M26: 0 | N26: - | O26: - | P26: - | Q26: - | R26: 0 | S26: =R26/S$2 -> 0 | T26: EN | U26: 30 | V26: 50 | W26: =W$2/U26 -> 1.3333333 | X26: - (50 - 70) | Y26: - (50 - 70) | Z26: *) | AA26: 98.1 | AB26: =AA26/AB$2 -> 95.870518 | AC26: VU | AF26: =AF$2/AD26 -> #DIV/0! | AK26: =AJ26/AK$2 -> 0 | AL26: 1 | AM26: 0 | AN26: 0 | AO26: =AO$2/AM26 -> #DIV/0! | AP26: 0 | AQ26: - (60 - 100) | AS26: 0 | AT26: =AS26/AT$2 -> 0 | AU26: - | AV26: 0 | AW26: 2 | AX26: =AX$2/AV26 -> #DIV/0! | AY26: 0 | AZ26: 0 | BB26: 0 | BC26: =BB26/BC$2 -> 0 | BD26: - | BE26: 5 | BF26: 62000 | BG26: 322000 | BH26: =BH$2/BF26 -> 0.0064516129 | BI26: - (53 - 73) | BJ26: - (30 - 70) | BL26: 58.2 | BM26: =BL26/BM$2 -> 5.7128038 | BO26: =R26+AA26+AJ26+AS26+BB26+BL26 -> 156.3 | BP26: Error due to rare ssp. (rossica) in Estonia
A27: H047-06-00 | B27: 3320 | C27: Lyrurus tetrix | D27: Eurasian Black Grouse | E27: 4 | G27: 3 | J27: x | K27: RE | L27: 0 | M27: 0 | N27: - | O27: - (100 - 100) | P27: - (100 - 100) | Q27: Declining | R27: 0 | S27: =R27/S$2 -> 0 | T27: NT | U27: 4000 | V27: 6000 | W27: =W$2/U27 -> 0.01 | X27: - (20 - 50) | Y27: - (50 - 70) | AA27: 0.3 | AB27: =AA27/AB$2 -> 0.29318201 | AC27: - | AD27: 600000 | AE27: 710000 | AF27: =AF$2/AD27 -> 0.0005 | AG27: + (52 - 68) | AH27: 0 | AI27: (Increasing) | AJ27: 84.1 | AK27: =AJ27/AK$2 -> 10.993006 | AL27: 3 | AM27: 5885 | AN27: 15200 | AO27: =AO$2/AM27 -> 0.010195412 | AP27: - (6 - 87) | AQ27: + ( - 204) | AS27: 0.6 | AT27: =AS27/AT$2 -> 0.41059735 | AU27: 3 ( R ) | AV27: 1500 | AW27: 3000 | AX27: =AX$2/AV27 -> 0.04 | AY27: - (10 - 25) | AZ27: - (51 - 66) | BB27: 0.2 | BC27: =BB27/BC$2 -> 0.13537556 | BD27: - | BE27: 4.5 | BF27: 129000 | BG27: 222000 | BH27: =BH$2/BF27 -> 0.0031007752 | BI27: + (4 - 38) | BJ27: - (48 - 65) | BL27: 11 | BM27: =BL27/BM$2 -> 1.0797395 | BO27: =R27+AA27+AJ27+AS27+BB27+BL27 -> 96.2
A28: H047-04-00 | B28: 3350 | C28: Tetrao urogallus | D28: Western Capercaillie | E28: 4 | J28: x | K28: - | L28: 0 | M28: 0 | N28: - | O28: - | P28: - | Q28: - | R28: 0 | S28: =R28/S$2 -> 0 | T28: VU | U28: 1100 | V28: 1200 | W28: =W$2/U28 -> 0.036363636 | X28: - (50 - 70) | Y28: - (50 - 70) | AA28: 0.1 | AB28: =AA28/AB$2 -> 0.097727337 | AC28: - | AD28: 290000 | AE28: 730000 | AF28: =AF$2/AD28 -> 0.0010344828 | AG28: - (5 - 22) | AH28: 0 | AI28: (Declining) | AJ28: 63.3 | AK28: =AJ28/AK$2 -> 8.2741652 | AL28: 3 | AM28: 1256 | AN28: 1256 | AO28: =AO$2/AM28 -> 0.047770701 | AP28: - (56 - 56) | AQ28: + (5 - 26) | AS28: 0.1 | AT28: =AS28/AT$2 -> 0.068432891 | AU28: 2 ( V ) | AV28: 300 | AW28: 400 | AX28: =AX$2/AV28 -> 0.2 | AY28: 0 | AZ28: 0 | BB28: 1.8 | BC28: =BB28/BC$2 -> 1.21838 | BD28: - | BE28: 4 | BF28: 244000 | BG28: 458000 | BH28: =BH$2/BF28 -> 0.0016393443 | BI28: 0 | BJ28: 0 | BL28: 34.6 | BM28: =BL28/BM$2 -> 3.3962717 | BO28: =R28+AA28+AJ28+AS28+BB28+BL28 -> 99.9
A29: H165-07-00 | B29: 4330 | C29: Grus grus | D29: Common Crane | E29: 14 | J29: x | K29: LC | L29: 142 | M29: 142 | N29: =N$2/L29 -> 0.28169014 | O29: + (100 - 1,000) | P29: + (1,000 - 10,000) | Q29: Increasing | R29: 0.1 | S29: =R29/S$2 -> 0.10388003 | T29: LC | U29: 7000 | V29: 8000 | W29: =W$2/U29 -> 0.0057142857 | X29: + (20 - 50) | Y29: + (50 - 70) | AA29: 7 | AB29: =AA29/AB$2 -> 6.8409136 | AC29: - | AD29: 23000 | AE29: 50000 | AF29: =AF$2/AD29 -> 0.013043478 | AG29: + (114 - 241) | AH29: + (242 - 456) | AJ29: 31.4 | AK29: =AJ29/AK$2 -> 4.1044042 | AL29: 3 | AM29: 1500 | AN29: 2300 | AO29: =AO$2/AM29 -> 0.04 | AP29: 0 | AQ29: + (100 - 1,200) | AS29: 1.7 | AT29: =AS29/AT$2 -> 1.1633591 | AU29: 5 (Rs ) | AV29: 5000 | AW29: 10500 | AX29: =AX$2/AV29 -> 0.012 | AY29: + (450 - 1000) | AZ29: + (2,400 - 4,900) | BB29: 6.7 | BC29: =BB29/BC$2 -> 4.5350812 | BD29: - | BE29: 4 | BF29: 21000 | BG29: 39000 | BH29: =BH$2/BF29 -> 0.019047619 | BI29: + (18 - 54) | BJ29: + (150 - 250) | BL29: 26.4 | BM29: =BL29/BM$2 -> 2.5913749 | BO29: =R29+AA29+AJ29+AS29+BB29+BL29 -> 73.3
A30: H216-03-00 | B30: 5530 | C30: Tringa ochropus | D30: Green Sandpiper | E30: <3.3 | K30: VU | L30: 30 | M30: 30 | N30: =(N$2/L30) -> 1.3333333 | O30: 0 | P30: - (20 - 33) | Q30: Depleted | R30: 0.01 | S30: =R30/S$2 -> 0.010388003 | T30: LC | U30: 15000 | V30: 25000 | W30: =W$2/U30 -> 0.0026666667 | X30: 0 | Y30: 0 | AA30: 6 | AB30: =AA30/AB$2 -> 5.8636402 | AC30: - | AD30: 160000 | AE30: 210000 | AF30: =AF$2/AD30 -> 0.001875 | AG30: 0 | AH30: + (50 - 115) | AI30: (Incresing) | AJ30: 57.1 | AK30: =AJ30/AK$2 -> 7.4637414 | AL30: - | AM30: 528961 | AN30: 885208 | AO30: =AO$2/AM30 -> 0.00011342991 | AP30: 0 | AQ30: + (32 - 579) | AS30: 15.2 | AT30: =AS30/AT$2 -> 10.401799 | AU30: - | AV30: 5000 | AW30: 7000 | AX30: =AX$2/AV30 -> 0.012 | AY30: 0 | AZ30: 0 | BB30: 1.8 | BC30: =BB30/BC$2 -> 1.21838 | BD30: - | BF30: 34000 | BG30: 64000 | BH30: =BH$2/BF30 -> 0.011764706 | BI30: + (26 - 56) | BJ30: 0 | BL30: 14.4 | BM30: =BL30/BM$2 -> 1.4134772 | BO30: =R30+AA30+AJ30+AS30+BB30+BL30 -> 94.51
A31: H053-05-00 | B31: 6680 | C31: Columba oenas | D31: Stock Dove | E31: <3.3 | K31: LC | L31: 950 | M31: 950 | N31: =N$2/L31 -> 0.042105263 | O31: 0 | P31: + (100 - 1,000) | Q31: Increasing | R31: 0.2 | S31: =R31/S$2 -> 0.20776006 | T31: NT | U31: 500 | V31: 1000 | W31: =W$2/U31 -> 0.08 | X31: 0 | Y31: 0 | AA31: 0.1 | AB31: =AA31/AB$2 -> 0.097727337 | AC31: - | AD31: 2900 | AE31: 6600 | AF31: =AF$2/AD31 -> 0.10344828 | AG31: 0 | AH31: - (8 - 52) | AI31: Depleted | AJ31: 0.6 | AK31: =AJ31/AK$2 -> 0.078428106 | AL31: 3 | AM31: 11500 | AN31: 53500 | AO31: =AO$2/AM31 -> 0.0052173913 | AP31: F | AQ31: + (74 - 326) | AS31: 4 | AT31: =AS31/AT$2 -> 2.7373156 | AU31: 3 ( R ) | AV31: 500 | AW31: 1000 | AX31: =AX$2/AV31 -> 0.12 | AY31: + (25 - 150) | AZ31: + (25 - 150) | BB31: 0.1 | BC31: =BB31/BC$2 -> 0.067687779 | BD31: - | BE31: 5 | BF31: 8500 | BG31: 16000 | BH31: =BH$2/BF31 -> 0.047058824 | BI31: + (4 - 61) | BJ31: - (52 - 70) | BL31: 1.6 | BM31: =BL31/BM$2 -> 0.15705303 | BO31: =R31+AA31+AJ31+AS31+BB31+BL31 -> 6.6
A32: H055-04-00 | B32: 6870 | C32: Streptopelia turtur | D32: European Turtle Dove | E32: <3.3 | F32: VU | G32: 1 | H32: VU | I32: NT | K32: NT | L32: 100 | M32: 100 | N32: =N$2/L32 -> 0.4 | O32: + (50 - ) | P32: - | Q32: Increasing | R32: 0.001 | S32: =R32/S$2 -> 0.0010388003 | T32: LC | U32: 1000 | V32: 3000 | W32: =W$2/U32 -> 0.04 | X32: - (20 - 50) | Y32: - (50 - 70) | AA32: 0.01 | AB32: =AA32/AB$2 -> 0.0097727337 | AC32: CR | AD32: 5 | AE32: 10 | AF32: =AF$2/AD32 -> 60 | AG32: - (27 - 61) | AH32: - (82 - 90) | AI32: Declining | AJ32: 0.001 | AK32: =AJ32/AK$2 -> 0.00013071351 | AL32: - | AM32: 10300 | AN32: 30430 | AO32: =AO$2/AM32 -> 0.0058252427 | AP32: 0 | AQ32: 0 | AS32: 0.6 | AT32: =AS32/AT$2 -> 0.41059735 | AU32: - | AV32: 4000 | AW32: 7000 | AX32: =AX$2/AV32 -> 0.015 | AY32: - (5 - 10) | AZ32: - (60 - 80) | BB32: 0.1 | BC32: =BB32/BC$2 -> 0.067687779 | BD32: - | BF32: 0 | BH32: =BH$2/BF32 -> #DIV/0! | BL32: 0 | BM32: =BL32/BM$2 -> 0 | BO32: =R32+AA32+AJ32+AS32+BB32+BL32 -> 0.712
